BEGIN:VCALENDAR
VERSION:2.0
PRODID:-//Plan Galapagar - ECPv6.15.20//NONSGML v1.0//EN
CALSCALE:GREGORIAN
METHOD:PUBLISH
X-ORIGINAL-URL:https://plangalapagar.es
X-WR-CALDESC:Eventos para Plan Galapagar
REFRESH-INTERVAL;VALUE=DURATION:PT1H
X-Robots-Tag:noindex
X-PUBLISHED-TTL:PT1H
BEGIN:VTIMEZONE
TZID:Europe/Madrid
BEGIN:DAYLIGHT
TZOFFSETFROM:+0100
TZOFFSETTO:+0200
TZNAME:CEST
DTSTART:20230326T010000
END:DAYLIGHT
BEGIN:STANDARD
TZOFFSETFROM:+0200
TZOFFSETTO:+0100
TZNAME:CET
DTSTART:20231029T010000
END:STANDARD
BEGIN:DAYLIGHT
TZOFFSETFROM:+0100
TZOFFSETTO:+0200
TZNAME:CEST
DTSTART:20240331T010000
END:DAYLIGHT
BEGIN:STANDARD
TZOFFSETFROM:+0200
TZOFFSETTO:+0100
TZNAME:CET
DTSTART:20241027T010000
END:STANDARD
BEGIN:DAYLIGHT
TZOFFSETFROM:+0100
TZOFFSETTO:+0200
TZNAME:CEST
DTSTART:20250330T010000
END:DAYLIGHT
BEGIN:STANDARD
TZOFFSETFROM:+0200
TZOFFSETTO:+0100
TZNAME:CET
DTSTART:20251026T010000
END:STANDARD
END:VTIMEZONE
BEGIN:VEVENT
DTSTART;TZID=Europe/Madrid:20240109T170000
DTEND;TZID=Europe/Madrid:20240220T190000
DTSTAMP:20260423T132147
CREATED:20231212T082755Z
LAST-MODIFIED:20231228T084631Z
UID:10000249-1704819600-1708455600@plangalapagar.es
SUMMARY:Taller de radio y producción del programa "Acordes"
DESCRIPTION:¿Tienes entre 14 y 17 años? ¡No te pierdas este plan! \nSe trata de un programa completo diseñado para adentrarse en el mundo de la radio. A lo largo del taller aprenderás conceptos básicos de radio adquiriendo conocimientos técnicos\, perfeccionando habilidades de comunicación\, creando contenido y\, finalmente\, podrás participar en la producción del programa «Acordes». \n¿Cuándo? Habrá siete sesiones los martes 9\, 16\, 23 y 30 de enero y 6\, 13 y 20 de febrero de 2024.  \n¡Es gratis y las plazas son limitadas! \nHaz click en el botón «Me apunto» y reserva la tuya. \nNota: La inscripción en este plan incluye la reserva de plaza en todas las sesiones. 
URL:https://plangalapagar.es/plan/taller-de-radio-y-produccion-del-programa-acordes/
LOCATION:Punto Joven\, Guadarrama\, 68\, Galapagar\, Madrid\, 28260
CATEGORIES:Jóvenes
ATTACH;FMTTYPE=image/jpeg:https://plangalapagar.es/wp-content/uploads/2023/12/RADIOJOVEN_ACORDES_largo.jpg
END:VEVENT
BEGIN:VEVENT
DTSTART;TZID=Europe/Madrid:20240208T170000
DTEND;TZID=Europe/Madrid:20240222T190000
DTSTAMP:20260423T132147
CREATED:20231212T082617Z
LAST-MODIFIED:20231212T082617Z
UID:10000248-1707411600-1708628400@plangalapagar.es
SUMMARY:El abecedario "voces literarias"
DESCRIPTION:¿Te gustaría analizar obras literarias\, discutir sobre autores contemporáneos y producir programas de radio que profundicen en temas literarios y culturales? \n¡Entonces no te pierdas este plan! \nEstá dirigido a un público adulto a partir de 18 años.  \n¿Cuándo? Habrá tres sesiones los jueves 8\, 15 y 22 de febrero de 2024.  \n¡Es gratis y las plazas son limitadas! \nHaz click en el botón «Me apunto» y reserva la tuya. \nNota: La inscripción en este plan incluye la reserva de plaza en todas las sesiones. 
URL:https://plangalapagar.es/plan/el-abecedario-voces-literarias/
LOCATION:Punto Joven\, Guadarrama\, 68\, Galapagar\, Madrid\, 28260
CATEGORIES:Familiares
ATTACH;FMTTYPE=image/jpeg:https://plangalapagar.es/wp-content/uploads/2023/11/RADIOJOVEN_ABC3_largo.jpg
END:VEVENT
BEGIN:VEVENT
DTSTART;TZID=Europe/Madrid:20240215T180000
DTEND;TZID=Europe/Madrid:20240321T193000
DTSTAMP:20260423T132147
CREATED:20240201T103743Z
LAST-MODIFIED:20240201T103743Z
UID:10000273-1708020000-1711049400@plangalapagar.es
SUMMARY:Programa Tecno Profes
DESCRIPTION:Apúntate al Programa “Conectando Generaciones” y enseña a personas mayores a usar los diferentes dispositivos electrónicos. La cosa más sencilla de hacer con el móvil para ti\, para ellos es un mundo. ¡Ayúdales a hacer su vida más fácil! \n¿En qué consiste? Para convertiros en “tecno-profes” tendréis que venir a las sesiones preparatorias\, exclusivas para jóvenes\, el 15\, 22 y 29 de febrero. Si no puedes asistir a una\, ¡no te preocupes! Siempre puedes unirte en la siguiente sesión. En ellas organizaremos las intervenciones con los “Sabios”\, diseñaremos juntos una guía de uso de móviles\, aprenderemos habilidades para comunicarnos y decidiremos el mejor método para compartir todo lo que sabemos. \nLas sesiones prácticas con “los sabios” se desarrollarán los jueves 7\, 14 y 21 de marzo una vez que hayamos formado el grupo de “tecno-profes”. \nSolo necesitas tu propio móvil y ganas de compartir todo lo que sabes con unas generaciones que nos han dado mucho. \n¡Convierte a los más mayores del pueblo en Tecno Sabios! \n¡No te pierdas este plan\, es gratis y las plazas son limitadas! \nHaz click en el botón «Me apunto» y reserva la tuya.
URL:https://plangalapagar.es/plan/programa-tecno-profes/
LOCATION:Punto Joven\, Guadarrama\, 68\, Galapagar\, Madrid\, 28260
CATEGORIES:Jóvenes
ATTACH;FMTTYPE=image/jpeg:https://plangalapagar.es/wp-content/uploads/2024/01/CONGEN-TECNOPROFES.jpg
END:VEVENT
BEGIN:VEVENT
DTSTART;TZID=Europe/Madrid:20240221T173000
DTEND;TZID=Europe/Madrid:20240221T190000
DTSTAMP:20260423T132147
CREATED:20240201T050049Z
LAST-MODIFIED:20240220T083341Z
UID:10000266-1708536600-1708542000@plangalapagar.es
SUMMARY:Diver Family 21 de febrero
DESCRIPTION:¡Llega un nuevo plan de Diver Family! \nEl próximo miércoles 21 de febrero tendrá lugar la actividad «Colorín Colorete». Construcciones\, aros\, pelotas\, tapones\, gelatina y mucho más para experimentar con diferentes texturas y colores. ¡Será una tarde multicolor! \n¡No te pierdas este plan! Es gratis y las plazas son limitadas. \nEsta actividad está dirigida a niños y niñas de 1 a 5 años acompañados de 1 adulto. \nHaz click en el botón «Me apunto» y reserva la tuya. \n 
URL:https://plangalapagar.es/plan/diver-family-21-de-febrero/
LOCATION:Punto Joven\, Guadarrama\, 68\, Galapagar\, Madrid\, 28260
CATEGORIES:Infantil
ATTACH;FMTTYPE=image/jpeg:https://plangalapagar.es/wp-content/uploads/2024/01/DIVERFAMILIY-FEBRERO-1.jpg
END:VEVENT
BEGIN:VEVENT
DTSTART;TZID=Europe/Madrid:20240221T180000
DTEND;TZID=Europe/Madrid:20240221T193000
DTSTAMP:20260423T132147
CREATED:20240201T104248Z
LAST-MODIFIED:20240201T104248Z
UID:10000275-1708538400-1708543800@plangalapagar.es
SUMMARY:Comunica-t 21 de febrero
DESCRIPTION:¿Tienes entre 12 y 30 años? \nLlega la sesión comunica-t: ¿Qué es comunicación? \nComunicar-t implica muchos aspectos y hay muchas maneras de hacerlo. En esta primera sesión hablaremos de los conceptos generales de una forma práctica y lúdica para interiorizarlos de una forma diferente. \nHabrá varias sesiones. Inscríbete individualmente a cada taller\, por si no puedes acudir a todos.  \nHaz click en el botón «Me apunto» y reserva tu plaza.
URL:https://plangalapagar.es/plan/comunica-t-21-de-febrero/
LOCATION:Punto Joven\, Guadarrama\, 68\, Galapagar\, Madrid\, 28260
CATEGORIES:Jóvenes
ATTACH;FMTTYPE=image/jpeg:https://plangalapagar.es/wp-content/uploads/2024/01/COMUT1.jpg
END:VEVENT
BEGIN:VEVENT
DTSTART;TZID=Europe/Madrid:20240223T170000
DTEND;TZID=Europe/Madrid:20240223T200000
DTSTAMP:20260423T132147
CREATED:20240219T050039Z
LAST-MODIFIED:20240207T103842Z
UID:10000267-1708707600-1708718400@plangalapagar.es
SUMMARY:Diverteca 23 de febrero
DESCRIPTION:¡Llega un nuevo plan de diverteca! \nEl próximo viernes 23 de febrero tendrá lugar la actividad «Juguetes reciclados». Qué mejor manera de reciclar y dar una nueva vida a las cosas que creando nuestros propios juguetes con los que poder disfrutar de una manera original y divertida. \n¡No te pierdas este plan! Es gratis y las plazas son limitadas. \nHaz click en el botón «Me apunto» y reserva la tuya.
URL:https://plangalapagar.es/plan/diverteca-23-de-febrero/
LOCATION:Punto Joven\, Guadarrama\, 68\, Galapagar\, Madrid\, 28260
CATEGORIES:Infantil
ATTACH;FMTTYPE=image/jpeg:https://plangalapagar.es/wp-content/uploads/2024/01/DV-FEB-23.jpg
END:VEVENT
BEGIN:VEVENT
DTSTART;TZID=Europe/Madrid:20240224T173000
DTEND;TZID=Europe/Madrid:20240224T203000
DTSTAMP:20260423T132147
CREATED:20240201T050026Z
LAST-MODIFIED:20240129T084055Z
UID:10000268-1708795800-1708806600@plangalapagar.es
SUMMARY:Ocio Joven 24 de febrero
DESCRIPTION:¡Nueva actividad de Ocio Joven! \nEl próximo sábado 24 de febrero habrá un mercadillo de intercambio.  \n¿Tienes cosas que ya no te pones por casa\, pero están como nuevas? Algunas hasta con la etiqueta seguro… Tráelas a Punto Joven y\, a cambio\, consigue otras nuevas a las que dar más uso. \n¿Quieres hacer un baúl nuevo para subirlo a tus redes sociales que esté a la altura de los mejores influencers? ¡Esta es tu oportunidad! \n¡Apúntate a esta actividad! \nTrae tus prendas (que deben estar en buenas condiciones y ya no uses) a Punto Joven los días 7\, 14 y 20 de febrero en horario de 17:30 a 20:30 horas.  \nAtención: SOLO la gente que traiga prendas podrá participar en el mercadillo del día 24\, ya que la moneda que se utilizará durante este serán los “Planix” y la única forma de conseguirlos es trayendo prendas que no uses. ¡No se podrá utilizar dinero! \nAl entregar cada prenda obtendrás “Planix”\, que será la moneda de cambio para utilizar el día 24 en el mercadillo para adquirir nuevas prendas. \nAsí que ya sabes\, si no quieres ser un NPC más y quieres presumir de rollazo… ¡Anímate y dale una segunda vida a esas cositas que no uses! \n¡No te pierdas este plan! Es gratis y las plazas son limitadas. \nHaz click en el botón «Me apunto» y reserva la tuya.
URL:https://plangalapagar.es/plan/ocio-joven-24-de-febrero/
LOCATION:Punto Joven\, Guadarrama\, 68\, Galapagar\, Madrid\, 28260
CATEGORIES:Jóvenes
ATTACH;FMTTYPE=image/jpeg:https://plangalapagar.es/wp-content/uploads/2024/01/OJ-FEB-24-1.jpg
END:VEVENT
END:VCALENDAR