BEGIN:VCALENDAR
VERSION:2.0
PRODID:-//Plan Galapagar - ECPv6.15.20//NONSGML v1.0//EN
CALSCALE:GREGORIAN
METHOD:PUBLISH
X-WR-CALNAME:Plan Galapagar
X-ORIGINAL-URL:https://plangalapagar.es
X-WR-CALDESC:Eventos para Plan Galapagar
REFRESH-INTERVAL;VALUE=DURATION:PT1H
X-Robots-Tag:noindex
X-PUBLISHED-TTL:PT1H
BEGIN:VTIMEZONE
TZID:Europe/Madrid
BEGIN:DAYLIGHT
TZOFFSETFROM:+0100
TZOFFSETTO:+0200
TZNAME:CEST
DTSTART:20230326T010000
END:DAYLIGHT
BEGIN:STANDARD
TZOFFSETFROM:+0200
TZOFFSETTO:+0100
TZNAME:CET
DTSTART:20231029T010000
END:STANDARD
BEGIN:DAYLIGHT
TZOFFSETFROM:+0100
TZOFFSETTO:+0200
TZNAME:CEST
DTSTART:20240331T010000
END:DAYLIGHT
BEGIN:STANDARD
TZOFFSETFROM:+0200
TZOFFSETTO:+0100
TZNAME:CET
DTSTART:20241027T010000
END:STANDARD
BEGIN:DAYLIGHT
TZOFFSETFROM:+0100
TZOFFSETTO:+0200
TZNAME:CEST
DTSTART:20250330T010000
END:DAYLIGHT
BEGIN:STANDARD
TZOFFSETFROM:+0200
TZOFFSETTO:+0100
TZNAME:CET
DTSTART:20251026T010000
END:STANDARD
END:VTIMEZONE
BEGIN:VEVENT
DTSTART;TZID=Europe/Madrid:20240430T180000
DTEND;TZID=Europe/Madrid:20240430T200000
DTSTAMP:20260421T090959
CREATED:20240401T040042Z
LAST-MODIFIED:20240401T080409Z
UID:10000307-1714500000-1714507200@plangalapagar.es
SUMMARY:Micro Abierto - Monólogos 30 de abril
DESCRIPTION:¿Tienes algo que decir\, cantar\, recitar o tocar? ¡Este es tu escenario! \nEl próximo martes 30 de abril disfruta de una tarde llena de creatividad\, expresión y buena vibra. Desde poesía hasta música\, comedia o cualquier forma de arte que desees compartir. Este es el lugar donde puedes dejar volar tu imaginación y conectarte con otros jóvenes apasionados como tú. \nNo importa si eres un novato o un veterano en el escenario\, todos sois bienvenidos. Es un ambiente acogedor y de apoyo donde puedes ser tú mismo y mostrar tu talento ante una audiencia receptiva. \n¿Quieres participar? ¡Genial! Regístrate para asegurar tu lugar en la lista de actuaciones. O si prefieres ser parte de la audiencia\, ven a disfrutar de una noche llena de sorpresas y descubre el talento emergente de Galapagar. \n¡Te esperamos en nuestra próxima sesión de micro abierto en Punto Joven! No te lo pierdas\, será una experiencia inolvidable llena de arte\, diversión y nuevas amistades. ¡Nos vemos allí! \nHaz click en el botón «Me apunto» y reserva la tuya.
URL:https://plangalapagar.es/plan/micro-abierto-monologos-30-de-abril/
LOCATION:Punto Joven\, Guadarrama\, 68\, Galapagar\, Madrid\, 28260
CATEGORIES:Jóvenes
ATTACH;FMTTYPE=image/jpeg:https://plangalapagar.es/wp-content/uploads/2024/04/MICROABIERTO.jpg
END:VEVENT
END:VCALENDAR