BEGIN:VCALENDAR
VERSION:2.0
PRODID:-//Plan Galapagar - ECPv6.15.20//NONSGML v1.0//EN
CALSCALE:GREGORIAN
METHOD:PUBLISH
X-ORIGINAL-URL:https://plangalapagar.es
X-WR-CALDESC:Eventos para Plan Galapagar
REFRESH-INTERVAL;VALUE=DURATION:PT1H
X-Robots-Tag:noindex
X-PUBLISHED-TTL:PT1H
BEGIN:VTIMEZONE
TZID:Europe/Madrid
BEGIN:DAYLIGHT
TZOFFSETFROM:+0100
TZOFFSETTO:+0200
TZNAME:CEST
DTSTART:20230326T010000
END:DAYLIGHT
BEGIN:STANDARD
TZOFFSETFROM:+0200
TZOFFSETTO:+0100
TZNAME:CET
DTSTART:20231029T010000
END:STANDARD
BEGIN:DAYLIGHT
TZOFFSETFROM:+0100
TZOFFSETTO:+0200
TZNAME:CEST
DTSTART:20240331T010000
END:DAYLIGHT
BEGIN:STANDARD
TZOFFSETFROM:+0200
TZOFFSETTO:+0100
TZNAME:CET
DTSTART:20241027T010000
END:STANDARD
BEGIN:DAYLIGHT
TZOFFSETFROM:+0100
TZOFFSETTO:+0200
TZNAME:CEST
DTSTART:20250330T010000
END:DAYLIGHT
BEGIN:STANDARD
TZOFFSETFROM:+0200
TZOFFSETTO:+0100
TZNAME:CET
DTSTART:20251026T010000
END:STANDARD
END:VTIMEZONE
BEGIN:VEVENT
DTSTART;TZID=Europe/Madrid:20240509T184500
DTEND;TZID=Europe/Madrid:20240627T201500
DTSTAMP:20260421T091044
CREATED:20240430T040003Z
LAST-MODIFIED:20240510T065911Z
UID:10000313-1715280300-1719519300@plangalapagar.es
SUMMARY:Conectando generaciones: Tecno - Profes
DESCRIPTION:¡Ey\, chicos y chicas de la era digital! ¿Listos para una aventura que combina tecnología y diversión? \n¡Por fin llega la segunda edición «Conectando generaciones: Tecno – Profes»! \nÚnete a una experiencia única donde la tecnología y la sabiduría se encuentran para crear conexiones intergeneracionales inolvidables. Después del éxito rotundo de nuestra primera edición\, estamos emocionados de anunciar la segunda entrega de esta increíble actividad. \n¿Qué tal si te digo que tienes el poder de convertirte en un héroe de la tecnología? En nuestra primera edición\, lo hicimos épico\, y ahora estamos de vuelta para una segunda ronda llena de aún más emoción. \nComo Tecno – profes\, tú y tus amigos seréis los cerebros detrás de la magia tecnológica. Durante tres sesiones de preparación de contenidos trabajaremos juntos para organizar dinámicas y recopilar los materiales necesarios para las sesiones con los Tecno – Sabios. Desde enseñar cómo usar un smartphone hasta explorar las maravillas de la navegación en Internet\, haremos que cada sesión sea informativa\, interactiva y divertida para todos los participantes. \n¿Qué vamos a hacer? ¡Pues enseñar a nuestros «Sabios” a dominar los móviles\, a navegar por Internet como unos cracks y a conquistar el mundo digital! Prepárate para momentos épicos mientras compartes tu pasión y aprendes un montón de cosas nuevas. \n¿Por qué unirte? Porque en Tecno – Profes no solo estamos conectando dispositivos electrónicos\, ¡estamos conectando corazones y mentes de diferentes generaciones! Únete a nosotros mientras creamos puentes entre el pasado y el futuro\, una lección de tecnología a la vez. Únete a la revolución tecnológica y forma parte de algo que marcará la diferencia. \nLas sesiones preparatorias tendrán lugar el 9\, 16 y 23 de mayo.  \nLas sesiones prácticas serán el 6\, 13\, 20 y 27 de junio.  \n¿Estás listo para ser el héroe de la tecnología? ¡Entonces regístrate ahora mismo y prepárate para una experiencia que te hará sentir genial! \n¡No te pierdas esta oportunidad de ser parte de algo verdaderamente especial! \nHaz click en el botón «Me apunto» y reserva tu plaza. ¡Recuerda que son limitadas!
URL:https://plangalapagar.es/plan/conectando-generaciones-tecno-profes/
LOCATION:Punto Joven\, Guadarrama\, 68\, Galapagar\, Madrid\, 28260
CATEGORIES:Jóvenes
ATTACH;FMTTYPE=image/jpeg:https://plangalapagar.es/wp-content/uploads/2024/04/CONGEN-TECNOPROFES.jpg
END:VEVENT
BEGIN:VEVENT
DTSTART;TZID=Europe/Madrid:20240510T180000
DTEND;TZID=Europe/Madrid:20240531T193000
DTSTAMP:20260421T091044
CREATED:20240430T040022Z
LAST-MODIFIED:20240430T102114Z
UID:10000315-1715364000-1717183800@plangalapagar.es
SUMMARY:Cineforum: Cortos animados
DESCRIPTION:¿Tienes entre 10 y 17 años? Únete a nosotros para disfrutar de una tarde de cineforum con cortos animados que te dejarán sin aliento. ¡Los viernes de mayo son de cine en nuestro Punto Joven! \nCada semana exploraremos nuevas historias\, emociones y aventuras que no te puedes perder. ¡Trae a tus amigos y prepárate para sumergirte en el mundo del cine de animación! ¡Te esperamos cada viernes a las 18:00 horas en Punto Joven! Ah\, y no olvides traer tus palomitas\, refrescos o la merienda que más te apetezca. \nViernes 10 de mayo: Tema «Amistad y relaciones» \n\n«Kitbull»\n«Loop»\n«La Luna»\n«Lou»\n«In a Heartbeat»\n\nViernes 17 de mayo: Tema «Crecimiento personal y autoaceptación» \n\n«Purl»\n«Out»\n«Bao»\n«Pearl»\n«Hair Love»\n\nViernes 24 de mayo: Tema «Emociones y superación» \n\n«If Anything Happens I Love You»\n«Canvas»\n«The Present»\n«Feast»\n\nViernes 31 de mayo: Tema «Aventura y fantasía» \n\n«Wind»\n«Float»\n«The Blue Umbrella»\n«The Secret of Kells»\n\n  \nHaz click en el botón «Me apunto» y reserva tu plaza. ¡Recuerda que son limitadas!
URL:https://plangalapagar.es/plan/cineforum-cortos-animados/
LOCATION:Punto Joven\, Guadarrama\, 68\, Galapagar\, Madrid\, 28260
CATEGORIES:Jóvenes
ATTACH;FMTTYPE=image/jpeg:https://plangalapagar.es/wp-content/uploads/2024/04/CINEFORUM.jpg
END:VEVENT
BEGIN:VEVENT
DTSTART;TZID=Europe/Madrid:20240521T183000
DTEND;TZID=Europe/Madrid:20240521T194500
DTSTAMP:20260421T091044
CREATED:20240430T040005Z
LAST-MODIFIED:20240430T102734Z
UID:10000311-1716316200-1716320700@plangalapagar.es
SUMMARY:Prepára-te para la EVAU - Manejo del estrés y la ansiedad
DESCRIPTION:¿Estás en 2º de Bachillerato? ¡Prepárate para brillar en la EVAU con nuestros talleres! \n¿Estás listo para enfrentarte a la EVAU con confianza y tranquilidad? ¡Entonces nuestros talleres «Prepara-te para la EVAU» son para ti! En ellos\, no nos centramos en el contenido de los exámenes\, sino en prepararte como persona para afrontar este desafío con calma\, seguridad y determinación. \nDurante este primer taller\, que tendrá lugar el martes 21 de mayo\, aprenderás herramientas prácticas para gestionar el estrés\, los nervios y la presión que puede surgir durante los exámenes. Te enseñaremos técnicas de relajación\, respiración y mindfulness para ayudarte a mantener la calma en momentos clave. \nAdemás\, tendrás la oportunidad de compartir experiencias con otros estudiantes\, fortaleciendo tu red de apoyo y creando un ambiente de colaboración y motivación mutua. Juntos\, nos apoyaremos para alcanzar nuestros objetivos y superar cualquier obstáculo que se nos presente. \n¡No pierdas la oportunidad de prepararte no solo académicamente\, sino también emocionalmente para la EVAU! \nHaz click en el botón «Me apunto» y reserva tu plaza. ¡Recuerda que son limitadas! \nEsta actividad está dirigida a jóvenes que estén cursando 2º de Bachillerato.  \n 
URL:https://plangalapagar.es/plan/prepara-te-para-la-evau-manejo-del-estres-y-la-ansiedad/
LOCATION:Punto Joven\, Guadarrama\, 68\, Galapagar\, Madrid\, 28260
CATEGORIES:Jóvenes
ATTACH;FMTTYPE=image/jpeg:https://plangalapagar.es/wp-content/uploads/2024/04/MAYO-21-EVAU.jpg
END:VEVENT
BEGIN:VEVENT
DTSTART;TZID=Europe/Madrid:20240522T173000
DTEND;TZID=Europe/Madrid:20240522T190000
DTSTAMP:20260421T091044
CREATED:20240430T040046Z
LAST-MODIFIED:20240506T104340Z
UID:10000316-1716399000-1716404400@plangalapagar.es
SUMMARY:Diver Family 22 de mayo
DESCRIPTION:¡En esta sesión de Diver Family descubriremos el maravilloso mundo de los dinosaurios que tanto gustan a los más pequeños de la casa! \nTendrá lugar el próximo miércoles 22 de mayo en Punto Joven.  \nFósiles\, excavaciones\, dinosaurios mágicos escondidos por el hielo y mucho más. \n¿Te lo vas a perder? ¡Es gratis! \nHaz click en el botón «Me apunto y reserva tu plaza». ¡Recuerda que son limitadas! \nEsta actividad está dirigida a niños y niñas de 1 a 5 años con acompañante.
URL:https://plangalapagar.es/plan/diver-family-22-de-mayo/
LOCATION:Punto Joven\, Guadarrama\, 68\, Galapagar\, Madrid\, 28260
CATEGORIES:Infantil
ATTACH;FMTTYPE=image/jpeg:https://plangalapagar.es/wp-content/uploads/2024/04/DIVERFAMILY.jpg
END:VEVENT
BEGIN:VEVENT
DTSTART;TZID=Europe/Madrid:20240524T173000
DTEND;TZID=Europe/Madrid:20240524T203000
DTSTAMP:20260421T091044
CREATED:20240520T065452Z
LAST-MODIFIED:20240520T065316Z
UID:10000319-1716571800-1716582600@plangalapagar.es
SUMMARY:Diverteca 24 de mayo
DESCRIPTION:¡Nuevo plan para los peques de la casa! \nEl próximo viernes 24 de mayo haremos botellas de la calma. Todas las personas necesitamos calmarnos de vez en cuando. ¿Y qué mejor que crear nuestro propio material que ayude a los más pequeños a conseguirlo más fácilmente? \nImportante: No olvidéis traer una botella de agua pequeña y vacía por participante. \n¡No te pierdas este plan! Es gratis y las plazas son limitadas.  \nHaz click en el botón «Me apunto» y reserva la tuya.
URL:https://plangalapagar.es/plan/diverteca-24-de-mayo/
LOCATION:Punto Joven\, Guadarrama\, 68\, Galapagar\, Madrid\, 28260
CATEGORIES:Infantil
ATTACH;FMTTYPE=image/jpeg:https://plangalapagar.es/wp-content/uploads/2024/05/DV-24MAYO.jpg
END:VEVENT
BEGIN:VEVENT
DTSTART;TZID=Europe/Madrid:20240525T173000
DTEND;TZID=Europe/Madrid:20240525T203000
DTSTAMP:20260421T091044
CREATED:20240430T040028Z
LAST-MODIFIED:20240430T103129Z
UID:10000323-1716658200-1716669000@plangalapagar.es
SUMMARY:Ocio Joven 25 de mayo
DESCRIPTION:¡Nuevo plan para jóvenes! \nEl próximo sábado 25 de mayo prepárate para una explosión de color y estilo con nuestra actividad de teñido de camisetas tipo tie dye.  \nTrae tus camisetas favoritas y únete a la diversión mientras exploramos diferentes técnicas para crear diseños alucinantes y únicos. Desde espirales psicodélicas hasta degradados suaves\, el límite es tu imaginación. \n¡Sumérgete en una experiencia creativa llena de música y buen rollo y no te pierdas la oportunidad de hacer de tus camisetas una obra maestra de lo más viral. ¡Ven y haz que tus prendas sean el centro de atención con el toque personal de la tendencia tie dye! \n¡No te pierdas este plan! Es gratis y las plazas son limitadas.  \nHaz click en el botón «Me apunto» y reserva la tuya.
URL:https://plangalapagar.es/plan/ocio-joven-25-de-mayo/
LOCATION:Punto Joven\, Guadarrama\, 68\, Galapagar\, Madrid\, 28260
CATEGORIES:Jóvenes
ATTACH;FMTTYPE=image/jpeg:https://plangalapagar.es/wp-content/uploads/2024/04/OJ-25mayo.jpg
END:VEVENT
END:VCALENDAR