BEGIN:VCALENDAR
VERSION:2.0
PRODID:-//Plan Galapagar - ECPv6.15.20//NONSGML v1.0//EN
CALSCALE:GREGORIAN
METHOD:PUBLISH
X-ORIGINAL-URL:https://plangalapagar.es
X-WR-CALDESC:Eventos para Plan Galapagar
REFRESH-INTERVAL;VALUE=DURATION:PT1H
X-Robots-Tag:noindex
X-PUBLISHED-TTL:PT1H
BEGIN:VTIMEZONE
TZID:Europe/Madrid
BEGIN:DAYLIGHT
TZOFFSETFROM:+0100
TZOFFSETTO:+0200
TZNAME:CEST
DTSTART:20230326T010000
END:DAYLIGHT
BEGIN:STANDARD
TZOFFSETFROM:+0200
TZOFFSETTO:+0100
TZNAME:CET
DTSTART:20231029T010000
END:STANDARD
BEGIN:DAYLIGHT
TZOFFSETFROM:+0100
TZOFFSETTO:+0200
TZNAME:CEST
DTSTART:20240331T010000
END:DAYLIGHT
BEGIN:STANDARD
TZOFFSETFROM:+0200
TZOFFSETTO:+0100
TZNAME:CET
DTSTART:20241027T010000
END:STANDARD
BEGIN:DAYLIGHT
TZOFFSETFROM:+0100
TZOFFSETTO:+0200
TZNAME:CEST
DTSTART:20250330T010000
END:DAYLIGHT
BEGIN:STANDARD
TZOFFSETFROM:+0200
TZOFFSETTO:+0100
TZNAME:CET
DTSTART:20251026T010000
END:STANDARD
END:VTIMEZONE
BEGIN:VEVENT
DTSTART;TZID=Europe/Madrid:20240509T184500
DTEND;TZID=Europe/Madrid:20240627T201500
DTSTAMP:20260421T091049
CREATED:20240430T040003Z
LAST-MODIFIED:20240510T065911Z
UID:10000313-1715280300-1719519300@plangalapagar.es
SUMMARY:Conectando generaciones: Tecno - Profes
DESCRIPTION:¡Ey\, chicos y chicas de la era digital! ¿Listos para una aventura que combina tecnología y diversión? \n¡Por fin llega la segunda edición «Conectando generaciones: Tecno – Profes»! \nÚnete a una experiencia única donde la tecnología y la sabiduría se encuentran para crear conexiones intergeneracionales inolvidables. Después del éxito rotundo de nuestra primera edición\, estamos emocionados de anunciar la segunda entrega de esta increíble actividad. \n¿Qué tal si te digo que tienes el poder de convertirte en un héroe de la tecnología? En nuestra primera edición\, lo hicimos épico\, y ahora estamos de vuelta para una segunda ronda llena de aún más emoción. \nComo Tecno – profes\, tú y tus amigos seréis los cerebros detrás de la magia tecnológica. Durante tres sesiones de preparación de contenidos trabajaremos juntos para organizar dinámicas y recopilar los materiales necesarios para las sesiones con los Tecno – Sabios. Desde enseñar cómo usar un smartphone hasta explorar las maravillas de la navegación en Internet\, haremos que cada sesión sea informativa\, interactiva y divertida para todos los participantes. \n¿Qué vamos a hacer? ¡Pues enseñar a nuestros «Sabios” a dominar los móviles\, a navegar por Internet como unos cracks y a conquistar el mundo digital! Prepárate para momentos épicos mientras compartes tu pasión y aprendes un montón de cosas nuevas. \n¿Por qué unirte? Porque en Tecno – Profes no solo estamos conectando dispositivos electrónicos\, ¡estamos conectando corazones y mentes de diferentes generaciones! Únete a nosotros mientras creamos puentes entre el pasado y el futuro\, una lección de tecnología a la vez. Únete a la revolución tecnológica y forma parte de algo que marcará la diferencia. \nLas sesiones preparatorias tendrán lugar el 9\, 16 y 23 de mayo.  \nLas sesiones prácticas serán el 6\, 13\, 20 y 27 de junio.  \n¿Estás listo para ser el héroe de la tecnología? ¡Entonces regístrate ahora mismo y prepárate para una experiencia que te hará sentir genial! \n¡No te pierdas esta oportunidad de ser parte de algo verdaderamente especial! \nHaz click en el botón «Me apunto» y reserva tu plaza. ¡Recuerda que son limitadas!
URL:https://plangalapagar.es/plan/conectando-generaciones-tecno-profes/
LOCATION:Punto Joven\, Guadarrama\, 68\, Galapagar\, Madrid\, 28260
CATEGORIES:Jóvenes
ATTACH;FMTTYPE=image/jpeg:https://plangalapagar.es/wp-content/uploads/2024/04/CONGEN-TECNOPROFES.jpg
END:VEVENT
BEGIN:VEVENT
DTSTART;TZID=Europe/Madrid:20240604T174500
DTEND;TZID=Europe/Madrid:20240604T201500
DTSTAMP:20260421T091049
CREATED:20240531T184234Z
LAST-MODIFIED:20240531T184109Z
UID:10000332-1717523100-1717532100@plangalapagar.es
SUMMARY:Tardes de juegos 4 de junio
DESCRIPTION:¿No sabes qué hacer por la tarde? \nVen a Punto Joven y pasa un rato divertido con tus amigos y amigas. El uso de la sala es libre. \nHaz click en el botón «Me apunto» y reserva la plaza. ¡Recuerda que son limitadas! \n 
URL:https://plangalapagar.es/plan/tardes-de-juegos-4-de-junio/
LOCATION:Punto Joven\, Guadarrama\, 68\, Galapagar\, Madrid\, 28260
CATEGORIES:Jóvenes
ATTACH;FMTTYPE=image/jpeg:https://plangalapagar.es/wp-content/uploads/2024/06/JUNIO-TARDE-DE-JUEGOS.jpg
END:VEVENT
BEGIN:VEVENT
DTSTART;TZID=Europe/Madrid:20240605T180000
DTEND;TZID=Europe/Madrid:20240612T193000
DTSTAMP:20260421T091049
CREATED:20240601T040009Z
LAST-MODIFIED:20240531T184151Z
UID:10000331-1717610400-1718220600@plangalapagar.es
SUMMARY:Crea tu página web con Canva
DESCRIPTION:¿Te gustaría crear tu propia página web de forma fácil y rápida? Entonces no te puedes perder nuestro taller «Crea tu página web con Canva». \nEn este taller de 2 sesiones aprenderás a usar Canva para diseñar y publicar tu propio sitio web. No necesitas experiencia previa\, solo tus ganas de aprender y un poco de creatividad. \nLa primera sesión tendrá lugar el 5 de junio en Punto Joven. \nLa segunda sesión tendrá lugar el 12 de junio en Punto Joven. \nAprenderemos a diseñar páginas web súper chulas y funcionales. Usaremos plantillas y elementos gráficos y seremos capaces de publicar y gestionar nuestro propio sitio web. \n¡Si tienes entre 12 y 30 años\, no pierdas la oportunidad de aprender algo nuevo y útil! Inscríbete ya y empieza a crear. \nHaz click en el botón «Me apunto» y reserva tu plaza. ¡Recuerda que son limitadas! \nLa inscripción incluye la plaza para las dos sesiones.
URL:https://plangalapagar.es/plan/crea-tu-pagina-web-con-canva/
LOCATION:Punto Joven\, Guadarrama\, 68\, Galapagar\, Madrid\, 28260
CATEGORIES:Jóvenes
ATTACH;FMTTYPE=image/jpeg:https://plangalapagar.es/wp-content/uploads/2024/06/JUNIO-CANVA-Disena-tu-web.jpg
END:VEVENT
BEGIN:VEVENT
DTSTART;TZID=Europe/Madrid:20240606T183000
DTEND;TZID=Europe/Madrid:20240620T200000
DTSTAMP:20260421T091049
CREATED:20240601T040005Z
LAST-MODIFIED:20240611T092212Z
UID:10000335-1717698600-1718913600@plangalapagar.es
SUMMARY:Tecno - Sabios: Conectando generaciones
DESCRIPTION:Tras el éxito de la primera edición y como sabemos que muchos se quedaron fuera\, ¡vuelve «Tecno – Sabios»! \n¿Recuerdas las largas conversaciones telefónicas con amigos y amigas y seres queridos? ¿Por qué no dar un paso más y verlos en vídeo mientras habláis? Las videollamadas\, como las llaman los jóvenes hoy en día\, son una excelente manera de estar más cerca. Y\, ¿quiénes mejor que ellos para enseñarte cómo hacerlo? \nAprende a utilizar tu móvil\, tablet\, ordenador o reloj inteligente. Gestiona citas médicas\, consulta los horarios del transporte público o descubre cómo hacer fotos y vídeos con tu móvil. \n¿En qué consiste el programa? \nIncluye una serie de sesiones presenciales en Punto Joven de Galapagar donde te enseñarán a usar tus propios dispositivos electrónicos como móviles y ordenadores. \nAprenderás desde funciones básicas como subir o bajar el volumen del teléfono\, hasta tareas más complejas como usar distintas aplicaciones\, gestionar citas médicas\, utilizar WhatsApp\, hacer videollamadas\, escuchar música o ver vídeos en YouTube. \nLas sesiones tendrán lugar los días 6\, 13 y 20 de junio.  \n¿Quiénes serán tus profesores? \nLos profesores serán jóvenes del municipio\, quienes te enseñarán todo lo que saben. Ellos prepararán las guías que usarás y estarán disponibles para resolver todas tus dudas. ¿Quién mejor que ellos\, que pasan horas y horas delante de las pantallas? \nIntercambio de Sabiduría \nAl final de cada sesión nos encantaría que compartieras con los jóvenes tus historias\, experiencias y conocimientos\, demostrando que había una vida antes de las pantallas digitales y que sigue existiendo hoy en día. \n¿Qué necesitas traer? \nPara convertirte en un «Tecno – Sabio» solo necesitas muchas ganas de aprender\, compartir experiencias y disfrutar del momento. Además\, trae tu propio dispositivo electrónico\, ya sea un móvil\, tablet\, reloj digital u ordenador. \n¡No te pierdas este plan\, es gratis y las plazas son limitadas! \nHaz click en el botón «Me apunto» y reserva la tuya. ¡También puedes apuntarte de forma presencial!
URL:https://plangalapagar.es/plan/tecno-sabios-conectando-generaciones/
LOCATION:Punto Joven\, Guadarrama\, 68\, Galapagar\, Madrid\, 28260
CATEGORIES:Familiares
ATTACH;FMTTYPE=image/jpeg:https://plangalapagar.es/wp-content/uploads/2024/06/JUNIO-CONGEN-TECNOSABIOS.jpg
END:VEVENT
BEGIN:VEVENT
DTSTART;TZID=Europe/Madrid:20240607T173000
DTEND;TZID=Europe/Madrid:20240607T203000
DTSTAMP:20260421T091049
CREATED:20240603T040058Z
LAST-MODIFIED:20240531T184419Z
UID:10000337-1717781400-1717792200@plangalapagar.es
SUMMARY:Diverteca 7 de junio
DESCRIPTION:¡Nuevo plan de diverteca para los peques de la casa! \nEl próximo viernes 7 de junio tendrá lugar la actividad «Galletas con fondant». \n¿Quieres ser maestro pastelero por un día? Esta tarde decoraremos galletas con pasta de azúcar de colores. \n¿Te lo vas a perder? \n¡Es gratis y las plazas son limitadas! \nHaz click en el botón «Me apunto» y reserva la tuya.
URL:https://plangalapagar.es/plan/diverteca-7-de-junio/
LOCATION:Punto Joven\, Guadarrama\, 68\, Galapagar\, Madrid\, 28260
CATEGORIES:Infantil
ATTACH;FMTTYPE=image/jpeg:https://plangalapagar.es/wp-content/uploads/2024/06/DV-7JUNIO.jpg
END:VEVENT
BEGIN:VEVENT
DTSTART;TZID=Europe/Madrid:20240608T173000
DTEND;TZID=Europe/Madrid:20240608T203000
DTSTAMP:20260421T091049
CREATED:20240601T040045Z
LAST-MODIFIED:20240531T184455Z
UID:10000341-1717867800-1717878600@plangalapagar.es
SUMMARY:Ocio Joven 8 de junio
DESCRIPTION:¡Nueva actividad de Ocio Joven! \nEl próximo sábado 8 de junio podrás descubrir el escape room en Punto Joven. \n¿Estás listo para una experiencia llena de emoción\, misterio y adrenalina? Te invitamos a sumergirte en una aventura única con nuestro increíble escape room\, diseñado especialmente para ti y tus amigos. \n  \n¿Qué te espera en esta emocionante actividad? \n\nDesafíos intrigantes: Prepárate para resolver acertijos\, rompecabezas y enigmas que pondrán a prueba tu mente. Cada pista te acercará un paso más a la salida\, pero tendrás que pensar rápido y con ingenio.\nContra el reloj: La emoción aumenta con cada segundo que pasa. Tienes solo 90 minutos para escapar\, y el tiempo corre en tu contra. ¿Tienes lo necesario para lograrlo antes de que se agote el tiempo?\nTrabajo en equipo: No podrás hacerlo solo. Tendrás que unir fuerzas con tus amigos\, comunicarte eficazmente y colaborar para descubrir las pistas y resolver los enigmas. El trabajo en equipo es esencial para el éxito.\n\n  \n¿Por qué no te lo puedes perder? \nDiversión asegurada: Nuestro escape room ofrece una experiencia emocionante y entretenida que te mantendrá al borde de tu asiento. \nDesarrollo de habilidades: Participar en esta actividad mejorará tus habilidades de lógica\, pensamiento crítico y creatividad\, además de fortalecer tu capacidad de trabajar en equipo. \nConoce nuevos amigos: Esta es una oportunidad perfecta para socializar y conocer a otros jóvenes de la comunidad en un ambiente dinámico y colaborativo. \n¡Es gratis y las plazas son limitadas! \nHaz click en el botón «Me apunto» y reserva la tuya. También puedes inscribirte en Punto Joven de Galapagar. \nPara más información o si tienes alguna pregunta\, no dudes en contactarnos en juventud@galapagar.es.
URL:https://plangalapagar.es/plan/ocio-joven-8-de-junio/
LOCATION:Punto Joven\, Guadarrama\, 68\, Galapagar\, Madrid\, 28260
CATEGORIES:Jóvenes
ATTACH;FMTTYPE=image/jpeg:https://plangalapagar.es/wp-content/uploads/2024/06/OJ-8JUNIO.jpg
END:VEVENT
END:VCALENDAR