BEGIN:VCALENDAR
VERSION:2.0
PRODID:-//Plan Galapagar - ECPv6.15.20//NONSGML v1.0//EN
CALSCALE:GREGORIAN
METHOD:PUBLISH
X-ORIGINAL-URL:https://plangalapagar.es
X-WR-CALDESC:Eventos para Plan Galapagar
REFRESH-INTERVAL;VALUE=DURATION:PT1H
X-Robots-Tag:noindex
X-PUBLISHED-TTL:PT1H
BEGIN:VTIMEZONE
TZID:Europe/Madrid
BEGIN:DAYLIGHT
TZOFFSETFROM:+0100
TZOFFSETTO:+0200
TZNAME:CEST
DTSTART:20230326T010000
END:DAYLIGHT
BEGIN:STANDARD
TZOFFSETFROM:+0200
TZOFFSETTO:+0100
TZNAME:CET
DTSTART:20231029T010000
END:STANDARD
BEGIN:DAYLIGHT
TZOFFSETFROM:+0100
TZOFFSETTO:+0200
TZNAME:CEST
DTSTART:20240331T010000
END:DAYLIGHT
BEGIN:STANDARD
TZOFFSETFROM:+0200
TZOFFSETTO:+0100
TZNAME:CET
DTSTART:20241027T010000
END:STANDARD
BEGIN:DAYLIGHT
TZOFFSETFROM:+0100
TZOFFSETTO:+0200
TZNAME:CEST
DTSTART:20250330T010000
END:DAYLIGHT
BEGIN:STANDARD
TZOFFSETFROM:+0200
TZOFFSETTO:+0100
TZNAME:CET
DTSTART:20251026T010000
END:STANDARD
END:VTIMEZONE
BEGIN:VEVENT
DTSTART;TZID=Europe/Madrid:20240912T220000
DTEND;TZID=Europe/Madrid:20240913T013000
DTSTAMP:20260421T054630
CREATED:20240822T040056Z
LAST-MODIFIED:20240909T113515Z
UID:10000354-1726178400-1726191000@plangalapagar.es
SUMMARY:Gran Prix de las peñas
DESCRIPTION:La Concejalía de Juventud e Infancia organiza el Gran Prix de las peñas. \nSimulando el gran concurso de televisión\, celebraremos nuestro Gran Prix\, un emocionante espectáculo deportivo y de habilidades con la participación de las peñas del municipio. \nTendrá lugar el 12 de septiembre en la Plaza de Toros a partir de las 22:00 horas.  \nPara poder inscribirse en esta actividad es obligatorio tener cumplidos los 18 años. \nInscripciones: Los grupos que deseen participar deberán realizar la inscripción a través de www.plangalapagar.es antes del 8 de septiembre. Podrán participar 6 grupos integrados por 6 participantes cada uno. \nHaz click aquí para descargar el formulario de inscripción. \n¡No te pierdas este plan! \nEs gratis y las plazas son limitadas. \nHaz click en el botón «Me apunto» y reserva la tuya.
URL:https://plangalapagar.es/plan/gran-prix-de-las-penas-2/
LOCATION:Madrid
CATEGORIES:Jóvenes
ATTACH;FMTTYPE=image/jpeg:https://plangalapagar.es/wp-content/uploads/2024/07/Gran-Prix-nueva-copia.jpg
END:VEVENT
END:VCALENDAR