BEGIN:VCALENDAR
VERSION:2.0
PRODID:-//Plan Galapagar - ECPv6.15.20//NONSGML v1.0//EN
CALSCALE:GREGORIAN
METHOD:PUBLISH
X-ORIGINAL-URL:https://plangalapagar.es
X-WR-CALDESC:Eventos para Plan Galapagar
REFRESH-INTERVAL;VALUE=DURATION:PT1H
X-Robots-Tag:noindex
X-PUBLISHED-TTL:PT1H
BEGIN:VTIMEZONE
TZID:Europe/Madrid
BEGIN:DAYLIGHT
TZOFFSETFROM:+0100
TZOFFSETTO:+0200
TZNAME:CEST
DTSTART:20230326T010000
END:DAYLIGHT
BEGIN:STANDARD
TZOFFSETFROM:+0200
TZOFFSETTO:+0100
TZNAME:CET
DTSTART:20231029T010000
END:STANDARD
BEGIN:DAYLIGHT
TZOFFSETFROM:+0100
TZOFFSETTO:+0200
TZNAME:CEST
DTSTART:20240331T010000
END:DAYLIGHT
BEGIN:STANDARD
TZOFFSETFROM:+0200
TZOFFSETTO:+0100
TZNAME:CET
DTSTART:20241027T010000
END:STANDARD
BEGIN:DAYLIGHT
TZOFFSETFROM:+0100
TZOFFSETTO:+0200
TZNAME:CEST
DTSTART:20250330T010000
END:DAYLIGHT
BEGIN:STANDARD
TZOFFSETFROM:+0200
TZOFFSETTO:+0100
TZNAME:CET
DTSTART:20251026T010000
END:STANDARD
END:VTIMEZONE
BEGIN:VEVENT
DTSTART;TZID=Europe/Madrid:20240917T180000
DTEND;TZID=Europe/Madrid:20240924T190000
DTSTAMP:20260421T025428
CREATED:20240907T141504Z
LAST-MODIFIED:20240907T141504Z
UID:10000360-1726596000-1727204400@plangalapagar.es
SUMMARY:Técnicas de estudio septiembre
DESCRIPTION:¡Descubre el secreto del éxito académico en nuestras sesiones de Técnicas de Estudio en Punto Joven! Dos veces al mes\, los martes o miércoles de 18:00 a 19:00 horas (ve mirando fechas en la web) te ofrecemos una oportunidad única para mejorar tus notas y superar el curso con confianza. ¡En septiembre serán los martes 17 y 24. Contamos contigo los dos días! \nEn estas sesiones dinámicas y prácticas aprenderás herramientas esenciales como subrayado\, esquemas\, resúmenes\, comprensión lectora y cómo organizar tu agenda de manera eficiente. Cada martes tendrás la posibilidad de inscribirte y recibir el apoyo que necesitas. \nEn septiembre\, nos enfocaremos en la planificación semanal y la organización de la agenda para que puedas evitar el estrés de las tareas acumuladas y los exámenes de último minuto. No te pierdas la oportunidad de transformar tu manera de estudiar y alcanzar tus metas académicas. ¡Te esperamos! \nHaz click en el botón «Me apunto» y reserva tu plaza. ¡Recuerda que son limitadas!
URL:https://plangalapagar.es/plan/tecnicas-de-estudio-septiembre/
LOCATION:Punto Joven\, Guadarrama\, 68\, Galapagar\, Madrid\, 28260
CATEGORIES:Jóvenes
ATTACH;FMTTYPE=image/jpeg:https://plangalapagar.es/wp-content/uploads/2024/08/Tecnicasdestudio.jpg
END:VEVENT
BEGIN:VEVENT
DTSTART;TZID=Europe/Madrid:20240923T180000
DTEND;TZID=Europe/Madrid:20240923T190000
DTSTAMP:20260421T025428
CREATED:20240907T141400Z
LAST-MODIFIED:20240907T141400Z
UID:10000366-1727114400-1727118000@plangalapagar.es
SUMMARY:Que te interesa 23 de septiembre
DESCRIPTION:Llega el plan «Que te interesa»\, un nuevo espacio que tendrá lugar los lunes de 18:00 a 19:00 horas en el que podrás acercarte a Punto Joven a recibir información de interés solo para jóvenes. \nEsta actividad está relacionada con las ventajas del Carnet joven\, becas\, actividades para jóvenes en el municipio\, trabajos de verano\, formación… También podrás acercarte a compartir con nosotros tus inquietudes\, resolver dudas particulares o proponer actividades de tu interés. \n¡Te esperamos! \nHaz click en el botón «Me apunto» y reserva tu plaza. ¡Recuerda que son limitadas!
URL:https://plangalapagar.es/plan/que-te-interesa-23-de-septiembre/
LOCATION:Punto Joven\, Guadarrama\, 68\, Galapagar\, Madrid\, 28260
CATEGORIES:Jóvenes
ATTACH;FMTTYPE=image/jpeg:https://plangalapagar.es/wp-content/uploads/2024/08/Queteinteresa-23s.jpg
END:VEVENT
BEGIN:VEVENT
DTSTART;TZID=Europe/Madrid:20240924T173000
DTEND;TZID=Europe/Madrid:20240924T190000
DTSTAMP:20260421T025428
CREATED:20240907T141351Z
LAST-MODIFIED:20240907T141351Z
UID:10000367-1727199000-1727204400@plangalapagar.es
SUMMARY:Diver Family 24 de septiembre
DESCRIPTION:Vuelve Diver Family con un montón de rincones donde los más pequeños podrán experimentar investigando. Clasificarán piedras por texturas y tamaños\, harán trasvases coloridos\, investigarán animales como auténticos biólogos\, estudiarán el mecanismo de los coches como auténticos físicos\, construirán edificios como arquitectos\, excavarán como arqueólogos\, pintarán como artistas y mucho más. \nEste mismo plan se repetirá 2 veces al mes\, en la misma semana\, pero la actividad será la misma y solo puedes apuntarte a uno de ellos\, para dar espacio a más familias. ¡Gracias por tu colaboración!  \nEste plan está dirigido a niños de 1 a 5 años más acompañante. \nHaz click en el botón «Me apunto» y reserva tu plaza. ¡Recuerda que son limitadas!
URL:https://plangalapagar.es/plan/diver-family-24-de-septiembre/
LOCATION:Punto Joven\, Guadarrama\, 68\, Galapagar\, Madrid\, 28260
CATEGORIES:Infantil
ATTACH;FMTTYPE=image/jpeg:https://plangalapagar.es/wp-content/uploads/2024/08/DIVERFAMILY_24S.jpg
END:VEVENT
BEGIN:VEVENT
DTSTART;TZID=Europe/Madrid:20240925T173000
DTEND;TZID=Europe/Madrid:20240925T190000
DTSTAMP:20260421T025428
CREATED:20240907T141341Z
LAST-MODIFIED:20240907T141341Z
UID:10000368-1727285400-1727290800@plangalapagar.es
SUMMARY:Desconecta 25 de septiembre
DESCRIPTION:Llega el ecuador de la semana y necesitas un poco de desconexión. \n¡Ven a disfrutar de la Sala de Punto Joven! Te ofrecemos un espacio libre y exclusivo para ti donde puedes disfrutar de la PlayStation\, la Wii\, futbolín\, ping-pong\, juegos de mesa y mucho más. \nTambién es el lugar perfecto para estudiar y hacer trabajos en un ambiente cómodo y amigable. ¡Es una sala creada por y para jóvenes como tú! \n¡Te esperamos! \nHaz click en el botón «Me apunto» y reserva tu plaza. ¡Recuerda que son limitadas!
URL:https://plangalapagar.es/plan/desconecta-25-de-septiembre/
LOCATION:Punto Joven\, Guadarrama\, 68\, Galapagar\, Madrid\, 28260
CATEGORIES:Jóvenes
ATTACH;FMTTYPE=image/jpeg:https://plangalapagar.es/wp-content/uploads/2024/08/Desconecta-25s.jpg
END:VEVENT
BEGIN:VEVENT
DTSTART;TZID=Europe/Madrid:20240926T173000
DTEND;TZID=Europe/Madrid:20240926T190000
DTSTAMP:20260421T025429
CREATED:20240907T141329Z
LAST-MODIFIED:20240925T065040Z
UID:10000370-1727371800-1727377200@plangalapagar.es
SUMMARY:Diver Family 26 de septiembre
DESCRIPTION:Vuelve Diver Family con un montón de rincones donde los más pequeños podrán experimentar investigando. Clasificarán piedras por texturas y tamaños\, harán trasvases coloridos\, investigarán animales como auténticos biólogos\, estudiarán el mecanismo de los coches como auténticos físicos\, construirán edificios como arquitectos\, excavarán como arqueólogos\, pintarán como artistas y mucho más. \nEste mismo plan se repetirá 2 veces al mes\, en la misma semana\, pero la actividad será la misma y solo puedes apuntarte a uno de ellos\, para dar espacio a más familias. ¡Gracias por tu colaboración!  \nEste plan está dirigido a niños de 1 a 5 años más acompañante. \nHaz click en el botón «Me apunto» y reserva tu plaza. ¡Recuerda que son limitadas!
URL:https://plangalapagar.es/plan/diver-family-26-de-septiembre/
LOCATION:Punto Joven\, Guadarrama\, 68\, Galapagar\, Madrid\, 28260
CATEGORIES:Infantil
ATTACH;FMTTYPE=image/jpeg:https://plangalapagar.es/wp-content/uploads/2024/08/DIVERFAMILY_26S.jpg
END:VEVENT
BEGIN:VEVENT
DTSTART;TZID=Europe/Madrid:20240926T180000
DTEND;TZID=Europe/Madrid:20240926T190000
DTSTAMP:20260421T025429
CREATED:20240907T141306Z
LAST-MODIFIED:20240907T141306Z
UID:10000369-1727373600-1727377200@plangalapagar.es
SUMMARY:Empleo Joven 26 de septiembre
DESCRIPTION:¡Únete a Empleo Joven y da el primer paso hacia tu futuro profesional! \nVarios jueves al mes ofrecemos un espacio formativo para jóvenes de 16 a 30 años donde podrás compartir tus inquietudes y resolver tus dudas sobre la búsqueda de empleo. \nEn nuestras sesiones\, aprenderás a crear un CV impactante\, redactar una carta de presentación efectiva y prepararte para entrevistas de trabajo. También exploraremos opciones para ampliar tu formación\, conoceremos diferentes recursos de búsqueda de empleo y te informaremos sobre oportunidades de trabajos de verano y la formación necesaria para ellos. Además\, fomentaremos la creación de una red de apoyo entre los jóvenes del municipio. \n¡No pierdas esta oportunidad de mejorar tus habilidades y conectarte con otros jóvenes en tu misma situación! Inscríbete a través de nuestro nuevo formulario web y prepárate para alcanzar tus metas laborales. \nHaz click en el botón «Me apunto» y reserva tu plaza. ¡Recuerda que son limitadas!
URL:https://plangalapagar.es/plan/empleo-joven-26-de-septiembre/
LOCATION:Punto Joven\, Guadarrama\, 68\, Galapagar\, Madrid\, 28260
CATEGORIES:Jóvenes
ATTACH;FMTTYPE=image/jpeg:https://plangalapagar.es/wp-content/uploads/2024/08/Empleojoven-26s.jpg
END:VEVENT
BEGIN:VEVENT
DTSTART;TZID=Europe/Madrid:20240927T173000
DTEND;TZID=Europe/Madrid:20240927T200000
DTSTAMP:20260421T025429
CREATED:20240907T141256Z
LAST-MODIFIED:20240907T141256Z
UID:10000371-1727458200-1727467200@plangalapagar.es
SUMMARY:Sala Píxel 27 de septiembre
DESCRIPTION:¡Bienvenidos a la Sala Pixel! \nEste invierno\, los viernes se vuelven especiales en Punto Joven con la apertura de nuestra nueva Sala Píxel. Ven y pasa las tardes más cálidas con tus amigos\, disfrutando de palomitas y comentando las mejores producciones\, con temáticas diferentes cada mes. \nRelájate en un ambiente acogedor y comparte tus opiniones y teorías. Es el lugar perfecto para los amantes del cine que quieran pasar un rato divertido y diferente. \n¡Todos sois bienvenidos! Lo único que tienes que hacer es inscribirte. \nHaz click en el botón «Me apunto» y reserva tu plaza. ¡Recuerda que son limitadas!
URL:https://plangalapagar.es/plan/sala-pixel-27-de-septiembre/
LOCATION:Punto Joven\, Guadarrama\, 68\, Galapagar\, Madrid\, 28260
CATEGORIES:Jóvenes
ATTACH;FMTTYPE=image/jpeg:https://plangalapagar.es/wp-content/uploads/2024/08/Salapixel-1.jpg
END:VEVENT
BEGIN:VEVENT
DTSTART;TZID=Europe/Madrid:20240927T173000
DTEND;TZID=Europe/Madrid:20240927T203000
DTSTAMP:20260421T025429
CREATED:20240907T141245Z
LAST-MODIFIED:20240907T141245Z
UID:10000372-1727458200-1727469000@plangalapagar.es
SUMMARY:Diverteca 27 de septiembre
DESCRIPTION:¡Nuevo plan de Diverteca para los peques de la casa! \nPrepárate para una tarde llena de diversión y estrategia con «Rincones de juegos de mesa». En esta actividad\, transformaremos el espacio en una serie de rincones temáticos\, cada uno dedicado a juegos de mesa adaptados para diferentes grupos de edad. Los participantes podrán explorar libremente los diferentes espacios y elegir los juegos que más les apetezcan. \nPodrán jugar de manera individual o en pequeños grupos\, fomentando así la interacción y el trabajo en equipo. Desde juegos clásicos hasta los más modernos\, habrá opciones para todos los gustos. Esta es una oportunidad perfecta para desarrollar habilidades como la creatividad\, la toma de decisiones y el pensamiento crítico\, ¡todo mientras se divierten! \n¡No te pierdas este plan. Es gratis y las plazas son limitadas! \nHaz click en el botón «Me apunto» y reserva la tuya.
URL:https://plangalapagar.es/plan/diverteca-27-de-septiembre/
LOCATION:Punto Joven\, Guadarrama\, 68\, Galapagar\, Madrid\, 28260
CATEGORIES:Infantil
ATTACH;FMTTYPE=image/jpeg:https://plangalapagar.es/wp-content/uploads/2024/08/DV-27S.jpg
END:VEVENT
BEGIN:VEVENT
DTSTART;TZID=Europe/Madrid:20240928T173000
DTEND;TZID=Europe/Madrid:20240928T203000
DTSTAMP:20260421T025429
CREATED:20240907T141237Z
LAST-MODIFIED:20240919T181034Z
UID:10000373-1727544600-1727555400@plangalapagar.es
SUMMARY:Ocio Joven 28 de septiembre
DESCRIPTION:¡Tenemos una actividad alucinante para jóvenes! \nEl sábado 28 de septiembre\,  Punto Joven te invita a nuestro taller «Crea tu propia lámpara de lava». \n¿Siempre has querido tener una lámpara de lava para iluminar tu habitación de una forma única y genial? ¡Ahora es tu oportunidad! \nVen a diseñar y crear tu propia lámpara de lava que brillará con colores vibrantes y dará un toque mágico a tu espacio. \nNo te preocupes por los materiales\, nosotros te los proporcionamos. \nHaz click en el botón «Me apunto» y reserva tu plaza. ¡Recuerda que son limitadas!
URL:https://plangalapagar.es/plan/ocio-joven-28-de-septiembre/
LOCATION:Punto Joven\, Guadarrama\, 68\, Galapagar\, Madrid\, 28260
CATEGORIES:Jóvenes
ATTACH;FMTTYPE=image/jpeg:https://plangalapagar.es/wp-content/uploads/2024/08/OJ-28S.jpg
END:VEVENT
END:VCALENDAR