BEGIN:VCALENDAR
VERSION:2.0
PRODID:-//Plan Galapagar - ECPv6.15.20//NONSGML v1.0//EN
CALSCALE:GREGORIAN
METHOD:PUBLISH
X-WR-CALNAME:Plan Galapagar
X-ORIGINAL-URL:https://plangalapagar.es
X-WR-CALDESC:Eventos para Plan Galapagar
REFRESH-INTERVAL;VALUE=DURATION:PT1H
X-Robots-Tag:noindex
X-PUBLISHED-TTL:PT1H
BEGIN:VTIMEZONE
TZID:Europe/Madrid
BEGIN:DAYLIGHT
TZOFFSETFROM:+0100
TZOFFSETTO:+0200
TZNAME:CEST
DTSTART:20230326T010000
END:DAYLIGHT
BEGIN:STANDARD
TZOFFSETFROM:+0200
TZOFFSETTO:+0100
TZNAME:CET
DTSTART:20231029T010000
END:STANDARD
BEGIN:DAYLIGHT
TZOFFSETFROM:+0100
TZOFFSETTO:+0200
TZNAME:CEST
DTSTART:20240331T010000
END:DAYLIGHT
BEGIN:STANDARD
TZOFFSETFROM:+0200
TZOFFSETTO:+0100
TZNAME:CET
DTSTART:20241027T010000
END:STANDARD
BEGIN:DAYLIGHT
TZOFFSETFROM:+0100
TZOFFSETTO:+0200
TZNAME:CEST
DTSTART:20250330T010000
END:DAYLIGHT
BEGIN:STANDARD
TZOFFSETFROM:+0200
TZOFFSETTO:+0100
TZNAME:CET
DTSTART:20251026T010000
END:STANDARD
END:VTIMEZONE
BEGIN:VEVENT
DTSTART;TZID=Europe/Madrid:20240930T180000
DTEND;TZID=Europe/Madrid:20240930T190000
DTSTAMP:20260421T011959
CREATED:20240907T141225Z
LAST-MODIFIED:20240907T141225Z
UID:10000374-1727719200-1727722800@plangalapagar.es
SUMMARY:Que te interesa 30 de septiembre
DESCRIPTION:Llega el plan «Que te interesa»\, un nuevo espacio que tendrá lugar los lunes de 18:00 a 19:00 horas en el que podrás acercarte a Punto Joven a recibir información de interés solo para jóvenes. \nEsta actividad está relacionada con las ventajas del Carnet joven\, becas\, actividades para jóvenes en el municipio\, trabajos de verano\, formación… También podrás acercarte a compartir con nosotros tus inquietudes\, resolver dudas particulares o proponer actividades de tu interés. \n¡Te esperamos! \nHaz click en el botón «Me apunto» y reserva tu plaza. ¡Recuerda que son limitadas!
URL:https://plangalapagar.es/plan/que-te-interesa-30-de-septiembre/
LOCATION:Punto Joven\, Guadarrama\, 68\, Galapagar\, Madrid\, 28260
CATEGORIES:Jóvenes
ATTACH;FMTTYPE=image/jpeg:https://plangalapagar.es/wp-content/uploads/2024/08/Queteinteresa-30s.jpg
END:VEVENT
BEGIN:VEVENT
DTSTART;TZID=Europe/Madrid:20241004T173000
DTEND;TZID=Europe/Madrid:20241004T200000
DTSTAMP:20260421T011959
CREATED:20241001T091019Z
LAST-MODIFIED:20241004T151918Z
UID:10000382-1728063000-1728072000@plangalapagar.es
SUMMARY:Sala Píxel 4 de octubre
DESCRIPTION:Este octubre\, los viernes se vuelven aterradores en Punto Joven con la apertura de nuestra Sala Pixel especial de Halloween. \nPrepárate para pasar las tardes más espeluznantes con tus amigos\, disfrutando de palomitas y comentando las mejores películas de terror. ¡Halloween es el mes del miedo por excelencia\, y tenemos una selección de películas que te harán temblar de emoción! \nRelájate en un ambiente acogedor y comparte tus opiniones y teorías sobre cada película. Es el lugar perfecto para los amantes del cine que quieren pasar un rato divertido y diferente. No importa si eres un experto en cine o simplemente disfrutas de una buena película de miedo\, ¡todos sois bienvenidos! Lo único que tienes que hacer es inscribirte. \n¡Te esperamos en la Sala Pixel para un octubre lleno de sustos y diversión! \nHaz click en el botón «Me apunto» y reserva tu plaza. ¡Recuerda que son limitadas!
URL:https://plangalapagar.es/plan/sala-pixel-4-de-octubre/
LOCATION:Punto Joven\, Guadarrama\, 68\, Galapagar\, Madrid\, 28260
CATEGORIES:Jóvenes
ATTACH;FMTTYPE=image/jpeg:https://plangalapagar.es/wp-content/uploads/2024/09/4o-Salapixel.jpg
END:VEVENT
BEGIN:VEVENT
DTSTART;TZID=Europe/Madrid:20241004T173000
DTEND;TZID=Europe/Madrid:20241004T203000
DTSTAMP:20260421T011959
CREATED:20240930T040041Z
LAST-MODIFIED:20240925T063714Z
UID:10000376-1728063000-1728073800@plangalapagar.es
SUMMARY:Diverteca 4 de octubre
DESCRIPTION:¡Vuelve la Diverteca en octubre con la actividad «Crea tu propio huerto con materiales reciclados»! \nLos pequeños aprenderán a cultivar plantas utilizando botellas de plástico\, cartones de huevos y otros materiales reciclados. Esta experiencia única les enseñará sobre el reciclaje\, el cuidado del medio ambiente y el ciclo de vida de las plantas. \n¡Ven y descubre la magia de ver crecer tus propias plantas mientras cuidas nuestro planeta! \nNo te pierdas este plan\, es gratis y las plazas son limitadas. \nHaz click en el botón «Me apunto» y reserva la tuya.
URL:https://plangalapagar.es/plan/diverteca-4-de-octubre/
LOCATION:Punto Joven\, Guadarrama\, 68\, Galapagar\, Madrid\, 28260
CATEGORIES:Infantil
ATTACH;FMTTYPE=image/jpeg:https://plangalapagar.es/wp-content/uploads/2024/09/DV-4oct.jpg
END:VEVENT
BEGIN:VEVENT
DTSTART;TZID=Europe/Madrid:20241005T173000
DTEND;TZID=Europe/Madrid:20241005T203000
DTSTAMP:20260421T012000
CREATED:20241001T091043Z
LAST-MODIFIED:20241001T091043Z
UID:10000383-1728149400-1728160200@plangalapagar.es
SUMMARY:Ocio Joven 5 de octubre
DESCRIPTION:¡Llega una nueva actividad para los jóvenes de Galapagar! \n¿Estás listo para una emocionante búsqueda? Se acerca Halloween y por eso te traemos una búsqueda de Calaveras en la que podrás competir con tus amigos por un premio. Todo lo que tienes que hacer para participar es llevar los ojos bien abiertos y encontrar el máximo número de calaveras escondidas en Punto Joven. Cada calavera tendrá un valor diferente que te hará ganar más o menos puntos. Al final de la búsqueda\, cada participante contará sus puntos y los ganadores se llevarán un premio sorpresa. \n¡Comparte un rato divertido y consigue más puntos que tus amigos!
URL:https://plangalapagar.es/plan/ocio-joven-5-de-octubre/
LOCATION:Punto Joven\, Guadarrama\, 68\, Galapagar\, Madrid\, 28260
CATEGORIES:Jóvenes
ATTACH;FMTTYPE=image/jpeg:https://plangalapagar.es/wp-content/uploads/2024/09/OJ-5O.jpg
END:VEVENT
END:VCALENDAR