BEGIN:VCALENDAR
VERSION:2.0
PRODID:-//Plan Galapagar - ECPv6.15.20//NONSGML v1.0//EN
CALSCALE:GREGORIAN
METHOD:PUBLISH
X-WR-CALNAME:Plan Galapagar
X-ORIGINAL-URL:https://plangalapagar.es
X-WR-CALDESC:Eventos para Plan Galapagar
REFRESH-INTERVAL;VALUE=DURATION:PT1H
X-Robots-Tag:noindex
X-PUBLISHED-TTL:PT1H
BEGIN:VTIMEZONE
TZID:Europe/Madrid
BEGIN:DAYLIGHT
TZOFFSETFROM:+0100
TZOFFSETTO:+0200
TZNAME:CEST
DTSTART:20230326T010000
END:DAYLIGHT
BEGIN:STANDARD
TZOFFSETFROM:+0200
TZOFFSETTO:+0100
TZNAME:CET
DTSTART:20231029T010000
END:STANDARD
BEGIN:DAYLIGHT
TZOFFSETFROM:+0100
TZOFFSETTO:+0200
TZNAME:CEST
DTSTART:20240331T010000
END:DAYLIGHT
BEGIN:STANDARD
TZOFFSETFROM:+0200
TZOFFSETTO:+0100
TZNAME:CET
DTSTART:20241027T010000
END:STANDARD
BEGIN:DAYLIGHT
TZOFFSETFROM:+0100
TZOFFSETTO:+0200
TZNAME:CEST
DTSTART:20250330T010000
END:DAYLIGHT
BEGIN:STANDARD
TZOFFSETFROM:+0200
TZOFFSETTO:+0100
TZNAME:CET
DTSTART:20251026T010000
END:STANDARD
END:VTIMEZONE
BEGIN:VEVENT
DTSTART;TZID=Europe/Madrid:20241010T180000
DTEND;TZID=Europe/Madrid:20241024T190000
DTSTAMP:20260421T025247
CREATED:20241007T110044Z
LAST-MODIFIED:20241009T155637Z
UID:10000396-1728583200-1729796400@plangalapagar.es
SUMMARY:Empleo Joven en octubre
DESCRIPTION:¿Te gustaría tener un currículum bonito y completo? ¿Y saber cómo redactar correctamente tu carta de presentación? ¿También quieres ser el número uno en LinkedIn? ¡Entonces sigue leyendo! \nEste plan consta de tres sesiones\, pero solo tendrás que apuntarte una vez. \n  \nSesión del jueves 10 de octubre: Crea el mejor diseño para tu CV. \n¿Quieres que tu CV se vea bonito y completo? En Punto Joven te enseñamos a mejorar el diseño de tu currículum utilizando Canva\, con diferentes plantillas\, colores y maneras de poner toda la información. Ocupará el menor espacio posible\, pero incluirá toda tu formación\, experiencia y datos de interés. De esta manera\, tendrás un CV visualmente atractivo con el que demostrar lo que vales en tu búsqueda de empleo. \nTendrá lugar de 18:00 a 19:00 horas en Punto Joven.  \n  \nSesión del jueves 17 de octubre: Crea el mejor diseño para tu carta de presentación. \nAprende a redactar y diseñar una carta de presentación que destaque tus habilidades y experiencia. Te enseñaremos a personalizar tu carta para cada oferta laboral. \nTendrá lugar de 18:00 a 19:00 horas en Punto Joven.  \n  \nSesión del jueves 24 de octubre: ¡Sé el número uno en LinkedIn! \nDescubre cómo perfeccionar tu perfil de LinkedIn para que destaque entre los demás. Con ayuda de la IA crearás la mejor foto de perfil. Aprenderás a construir una red efectiva de contactos\, a utilizar palabras clave y a compartir contenido relevante para destacar profesionalmente. \nTendrá lugar de 18:00 a 19:00 horas en Punto Joven.  \nHaz click en el botón «Me apunto» y reserva tu plaza. ¡Recuerda que son limitadas!
URL:https://plangalapagar.es/plan/empleo-joven-en-octubre/
LOCATION:Punto Joven\, Guadarrama\, 68\, Galapagar\, Madrid\, 28260
CATEGORIES:Jóvenes
ATTACH;FMTTYPE=image/jpeg:https://plangalapagar.es/wp-content/uploads/2024/09/Empleojoven.jpg
END:VEVENT
BEGIN:VEVENT
DTSTART;TZID=Europe/Madrid:20241014T180000
DTEND;TZID=Europe/Madrid:20241014T190000
DTSTAMP:20260421T025247
CREATED:20241007T105944Z
LAST-MODIFIED:20241007T105944Z
UID:10000397-1728928800-1728932400@plangalapagar.es
SUMMARY:Apúntate a un voluntariado con tus amigos
DESCRIPTION:¿Te gustaría hacer un voluntariado? \nEn este plan exploraremos diferentes voluntariados en los que podrás participar. También puedes venir con tu grupo de amigos y elegir vivir la experiencia acompañado. \nHablaremos sobre otras experiencias de voluntariado con animales\, con diferentes colectivos de personas y de cuidado al medio ambiente. Conocerás fundaciones y asociaciones que hacen un gran trabajo social y tendrás la oportunidad de participar en lo que más te interese. \nHaz click en el botón «Me apunto» y reserva tu plaza. ¡Recuerda que son limitadas!
URL:https://plangalapagar.es/plan/apuntate-a-un-voluntariado-con-tus-amigos/
LOCATION:Punto Joven\, Guadarrama\, 68\, Galapagar\, Madrid\, 28260
CATEGORIES:Jóvenes
ATTACH;FMTTYPE=image/jpeg:https://plangalapagar.es/wp-content/uploads/2024/09/VOLUNTARIADO.jpg
END:VEVENT
BEGIN:VEVENT
DTSTART;TZID=Europe/Madrid:20241015T180000
DTEND;TZID=Europe/Madrid:20241029T193000
DTSTAMP:20260421T025247
CREATED:20241001T091128Z
LAST-MODIFIED:20241021T051433Z
UID:10000384-1729015200-1730230200@plangalapagar.es
SUMMARY:Tecno - Profes octubre
DESCRIPTION:¡Únete a Tecno-Profes y sé el héroe digital que los abuelos necesitan! \nSi tienes entre 10 y 30 años y la tecnología es tu zona de confort\, ¡Tecno-Profes es tu momento de brillar! Ayuda a las personas mayores a descubrir el increíble mundo de los dispositivos electrónicos mientras te llenas de historias épicas y sabiduría de vida. \n  \n¿Por qué ser un Tecno-Profe? \n\nSé el pro de la tecnología: Enseña a los abuelos a manejar sus móviles\, tablets y más.\nGana sabiduría de vida: A cambio\, escucha consejos increíbles y anécdotas que no encontrarás en Google.\nConéctate a otro nivel: Crea amistades auténticas con personas de otras generaciones.\nHaz algo épico: Ayuda a crear una comunidad más tech y más unida.\n\n  \nLo que te espera: \n\nDiversión asegurada: Aprender y enseñar nunca fue tan entretenido.\nSatisfacción total: Ver a los abuelos enviar su primer WhatsApp es priceless.\nReconocimiento: Sé el influencer tech en tu comunidad.\n\n  \n¡No lo pienses más! Súmate a Tecno-Profes y muestra tu talento digital mientras te llenas de historias inolvidables. \nEste plan tendrá lugar los martes 15\, 22 y 29 de octubre en Punto Joven. ¡Solo tendrás que apuntarte una vez para todas las sesiones! \nTecno-Profes\, donde la tecnología une generaciones. \nHaz click en el botón «Me apunto» y reserva tu plaza. ¡Recuerda que son limitadas!
URL:https://plangalapagar.es/plan/tecno-profes-octubre/
LOCATION:Punto Joven\, Guadarrama\, 68\, Galapagar\, Madrid\, 28260
CATEGORIES:Familiares
ATTACH;FMTTYPE=image/jpeg:https://plangalapagar.es/wp-content/uploads/2024/09/TECNOPROFES.jpg
END:VEVENT
BEGIN:VEVENT
DTSTART;TZID=Europe/Madrid:20241016T173000
DTEND;TZID=Europe/Madrid:20241016T190000
DTSTAMP:20260421T025247
CREATED:20241007T105944Z
LAST-MODIFIED:20241007T105944Z
UID:10000393-1729099800-1729105200@plangalapagar.es
SUMMARY:Desconecta 16 de octubre
DESCRIPTION:¿Llega el ecuador de la semana y necesitas un poco de desconexión? \n¡Ven a disfrutar de la Sala de Punto Joven! \nTe ofrecemos un espacio libre y exclusivo para ti\, donde puedes disfrutar de la PlayStation\, la Wii\, futbolín\, ping-pong\, juegos de mesa y mucho más. También es el lugar perfecto para estudiar y hacer trabajos en un ambiente cómodo y amigable. \n¡Es una sala creada por y para jóvenes como tú! ¡Te esperamos! \nHaz click en el botón «Me apunto» y reserva tu plaza. ¡Recuerda que son limitadas!
URL:https://plangalapagar.es/plan/desconecta-16-de-octubre/
LOCATION:Punto Joven\, Guadarrama\, 68\, Galapagar\, Madrid\, 28260
CATEGORIES:Jóvenes
ATTACH;FMTTYPE=image/jpeg:https://plangalapagar.es/wp-content/uploads/2024/09/Desconecta-16O.jpg
END:VEVENT
BEGIN:VEVENT
DTSTART;TZID=Europe/Madrid:20241018T173000
DTEND;TZID=Europe/Madrid:20241018T200000
DTSTAMP:20260421T025247
CREATED:20241001T091144Z
LAST-MODIFIED:20241001T091144Z
UID:10000387-1729272600-1729281600@plangalapagar.es
SUMMARY:Sala Píxel 18 de octubre
DESCRIPTION:Este octubre\, los viernes se vuelven aterradores en Punto Joven con la apertura de nuestra Sala Pixel especial de Halloween. \nPrepárate para pasar las tardes más espeluznantes con tus amigos\, disfrutando de palomitas y comentando las mejores películas de terror. ¡Halloween es el mes del miedo por excelencia\, y tenemos una selección de películas que te harán temblar de emoción! \nRelájate en un ambiente acogedor y comparte tus opiniones y teorías sobre cada película. Es el lugar perfecto para los amantes del cine que quieren pasar un rato divertido y diferente. No importa si eres un experto en cine o simplemente disfrutas de una buena película de miedo\, ¡todos sois bienvenidos! Lo único que tienes que hacer es inscribirte. \n¡Te esperamos en la Sala Pixel para un octubre lleno de sustos y diversión! \nHaz click en el botón «Me apunto» y reserva tu plaza. ¡Recuerda que son limitadas!
URL:https://plangalapagar.es/plan/sala-pixel-18-de-octubre/
LOCATION:Punto Joven\, Guadarrama\, 68\, Galapagar\, Madrid\, 28260
CATEGORIES:Jóvenes
ATTACH;FMTTYPE=image/jpeg:https://plangalapagar.es/wp-content/uploads/2024/09/18o-Salapixel.jpg
END:VEVENT
BEGIN:VEVENT
DTSTART;TZID=Europe/Madrid:20241018T173000
DTEND;TZID=Europe/Madrid:20241018T203000
DTSTAMP:20260421T025247
CREATED:20241014T040035Z
LAST-MODIFIED:20240925T063813Z
UID:10000378-1729272600-1729283400@plangalapagar.es
SUMMARY:Diverteca 18 de octubre
DESCRIPTION:¡Nuevo plan de Diverteca! \n¡Ven y diviértete en nuestra actividad especial de Halloween para niños! \nEn la actividad «Crea tu propia calabaza»\, los pequeños usarán papeles de colores y otros materiales para diseñar y decorar su propia calabaza de Halloween. Durante esta actividad\, los niños podrán dejar volar su imaginación creando calabazas únicas y originales. Aprenderán a trabajar con diferentes materiales y técnicas de manualidades mientras disfrutan de una experiencia festiva y creativa en un ambiente seguro y divertido. \n¡No te pierdas este plan! Es gratis y las plazas son limitadas.  \nHaz click en el botón «Me apunto» y reserva la tuya.
URL:https://plangalapagar.es/plan/diverteca-18-de-octubre/
LOCATION:Punto Joven\, Guadarrama\, 68\, Galapagar\, Madrid\, 28260
CATEGORIES:Infantil
ATTACH;FMTTYPE=image/jpeg:https://plangalapagar.es/wp-content/uploads/2024/09/DV-18oct.jpg
END:VEVENT
BEGIN:VEVENT
DTSTART;TZID=Europe/Madrid:20241019T173000
DTEND;TZID=Europe/Madrid:20241019T203000
DTSTAMP:20260421T025247
CREATED:20241001T091204Z
LAST-MODIFIED:20241018T082449Z
UID:10000388-1729359000-1729369800@plangalapagar.es
SUMMARY:Ocio Joven 19 de octubre
DESCRIPTION:¡Llega una nueva actividad para los jóvenes! \n¡Atrévete a enfrentar el miedo este 19 de octubre en nuestro escalofriante escape room! \n«La Noche Antes de Halloween» te llevará a una antigua mansión abandonada donde los espíritus de los atrapados en su interior vuelven a la vida. Con solo 60 minutos para escapar\, ¿podrás resolver los oscuros enigmas y salir antes de que los fantasmas te atrapen? \nNo recomendado para corazones débiles. ¿Tienes el valor de intentarlo? ¡ \nReserva tu lugar ahora y vive la experiencia más aterradora de tu vida! \nHaz click en el botón «Me apunto» y reserva tu plaza. ¡Recuerda que son limitadas!
URL:https://plangalapagar.es/plan/ocio-joven-19-de-octubre/
LOCATION:Punto Joven\, Guadarrama\, 68\, Galapagar\, Madrid\, 28260
CATEGORIES:Jóvenes
ATTACH;FMTTYPE=image/jpeg:https://plangalapagar.es/wp-content/uploads/2024/09/OJ-19O.jpg
END:VEVENT
END:VCALENDAR