BEGIN:VCALENDAR
VERSION:2.0
PRODID:-//Plan Galapagar - ECPv6.15.20//NONSGML v1.0//EN
CALSCALE:GREGORIAN
METHOD:PUBLISH
X-WR-CALNAME:Plan Galapagar
X-ORIGINAL-URL:https://plangalapagar.es
X-WR-CALDESC:Eventos para Plan Galapagar
REFRESH-INTERVAL;VALUE=DURATION:PT1H
X-Robots-Tag:noindex
X-PUBLISHED-TTL:PT1H
BEGIN:VTIMEZONE
TZID:Europe/Madrid
BEGIN:DAYLIGHT
TZOFFSETFROM:+0100
TZOFFSETTO:+0200
TZNAME:CEST
DTSTART:20230326T010000
END:DAYLIGHT
BEGIN:STANDARD
TZOFFSETFROM:+0200
TZOFFSETTO:+0100
TZNAME:CET
DTSTART:20231029T010000
END:STANDARD
BEGIN:DAYLIGHT
TZOFFSETFROM:+0100
TZOFFSETTO:+0200
TZNAME:CEST
DTSTART:20240331T010000
END:DAYLIGHT
BEGIN:STANDARD
TZOFFSETFROM:+0200
TZOFFSETTO:+0100
TZNAME:CET
DTSTART:20241027T010000
END:STANDARD
BEGIN:DAYLIGHT
TZOFFSETFROM:+0100
TZOFFSETTO:+0200
TZNAME:CEST
DTSTART:20250330T010000
END:DAYLIGHT
BEGIN:STANDARD
TZOFFSETFROM:+0200
TZOFFSETTO:+0100
TZNAME:CET
DTSTART:20251026T010000
END:STANDARD
END:VTIMEZONE
BEGIN:VEVENT
DTSTART;TZID=Europe/Madrid:20241105T180000
DTEND;TZID=Europe/Madrid:20241126T193000
DTSTAMP:20260421T013024
CREATED:20241001T091303Z
LAST-MODIFIED:20241021T051505Z
UID:10000385-1730829600-1732649400@plangalapagar.es
SUMMARY:Tecno - Sabios noviembre
DESCRIPTION:¡Regresa Tecno-Sabios a Punto Joven! \nEstamos emocionados de anunciar el regreso de Tecno-Sabios\, donde los más jóvenes se convierten en maestros de la tecnología para los mayores. Acompáñanos en esta experiencia única donde aprenderás a utilizar las nuevas tecnologías de manera fácil y divertida. \nLos jóvenes guiarán a los mayores en el uso de dispositivos\, aplicaciones y herramientas digitales modernas\, compartiendo su conocimiento y habilidades. Es una oportunidad perfecta para conectar generaciones y explorar juntos el emocionante mundo digital. \nNo importa tu nivel de experiencia\, ¡todos sois bienvenidos! \nÚnete a nosotros para aprender\, enseñar y disfrutar de la tecnología en comunidad. ¡Te esperamos en Tecno-Sabios para descubrir todo lo que la tecnología tiene para ofrecer! \nEste plan tendrá lugar los martes 5\, 12\, 19 y 26 de noviembre.  \nInscríbete en la Casa del Mayor\, en Punto Joven o de forma online. Haz click en el botón «Me apunto» y reserva tu plaza. ¡Recuerda que son limitadas!
URL:https://plangalapagar.es/plan/tecno-sabios-noviembre/
LOCATION:Punto Joven\, Guadarrama\, 68\, Galapagar\, Madrid\, 28260
CATEGORIES:Familiares
ATTACH;FMTTYPE=image/jpeg:https://plangalapagar.es/wp-content/uploads/2024/09/TECNOSABIOS.jpg
END:VEVENT
BEGIN:VEVENT
DTSTART;TZID=Europe/Madrid:20241107T180000
DTEND;TZID=Europe/Madrid:20241114T200000
DTSTAMP:20260421T013024
CREATED:20241028T050027Z
LAST-MODIFIED:20241030T173927Z
UID:10000410-1731002400-1731614400@plangalapagar.es
SUMMARY:Habilidades para el éxito laboral
DESCRIPTION:¿Listo para brillar en el mundo laboral? \nEn este taller dinámico y participativo descubrirás las habilidades claves para el éxito laboral. A través de actividades  y juegos de rol\, trabajaremos la comunicación asertiva\, la confianza\, el trabajo en equipo\, el liderazgo y la resolución de conflictos. \n¡No te pierdas este plan\, es gratis y las plazas son limitadas! \nHaz click en el botón «Me apunto» y reserva la tuya.
URL:https://plangalapagar.es/plan/habilidades-para-el-exito-laboral/
LOCATION:Punto Joven\, Guadarrama\, 68\, Galapagar\, Madrid\, 28260
CATEGORIES:Jóvenes
ATTACH;FMTTYPE=image/jpeg:https://plangalapagar.es/wp-content/uploads/2024/10/Empleojoven-714N.jpg
END:VEVENT
BEGIN:VEVENT
DTSTART;TZID=Europe/Madrid:20241112T170000
DTEND;TZID=Europe/Madrid:20241112T203000
DTSTAMP:20260421T013024
CREATED:20241028T050043Z
LAST-MODIFIED:20241030T174112Z
UID:10000412-1731430800-1731443400@plangalapagar.es
SUMMARY:Desconecta 12 de noviembre
DESCRIPTION:¡Ven a disfrutar de la sala de Punto Joven! \nTe ofrecemos un espacio libre y exclusivo para ti\, donde puedes disfrutar de la Play 5\, la Wii\, futbolín\, ping-pong\, juegos de mesa y mucho más. \nTambién es el lugar perfecto para estudiar y hacer trabajos en un ambiente cómodo y amigable. ¡Es una sala creada por y para jóvenes como tú! ¡Te esperamos! \nHaz click en el botón «Me apunto» y reserva tu plaza. ¡Recuerda que son limitadas!
URL:https://plangalapagar.es/plan/desconecta-12-de-noviembre/
LOCATION:Punto Joven\, Guadarrama\, 68\, Galapagar\, Madrid\, 28260
CATEGORIES:Jóvenes
ATTACH;FMTTYPE=image/jpeg:https://plangalapagar.es/wp-content/uploads/2024/10/Desconecta-12N.jpg
END:VEVENT
BEGIN:VEVENT
DTSTART;TZID=Europe/Madrid:20241115T173000
DTEND;TZID=Europe/Madrid:20241115T200000
DTSTAMP:20260421T013024
CREATED:20241028T050017Z
LAST-MODIFIED:20241030T174156Z
UID:10000417-1731691800-1731700800@plangalapagar.es
SUMMARY:Sala Pixel 15 de noviembre
DESCRIPTION:¡Bienvenidos a la Sala Pixel! \nEste invierno\, los viernes en Punto Joven son especiales. Ven con tus amigos a disfrutar de palomitas y comentar películas diferentes cada mes. Relájate en un ambiente acogedor y comparte tus opiniones. Es el lugar ideal para los amantes del cine que quieren pasar un buen rato. \n¡Inscríbete y únete a la diversión! \nHaz click en el botón «Me apunto» y reserva tu plaza. ¡Recuerda que son limitadas!
URL:https://plangalapagar.es/plan/sala-pixel-15-de-noviembre/
LOCATION:Punto Joven\, Guadarrama\, 68\, Galapagar\, Madrid\, 28260
CATEGORIES:Jóvenes
ATTACH;FMTTYPE=image/jpeg:https://plangalapagar.es/wp-content/uploads/2024/10/SALAPIXEL-15N.jpg
END:VEVENT
BEGIN:VEVENT
DTSTART;TZID=Europe/Madrid:20241115T173000
DTEND;TZID=Europe/Madrid:20241115T203000
DTSTAMP:20260421T013024
CREATED:20241111T050008Z
LAST-MODIFIED:20241030T174207Z
UID:10000402-1731691800-1731702600@plangalapagar.es
SUMMARY:Diverteca 15 de noviembre
DESCRIPTION:¡Llega un nuevo plan de diverteca! \nVive una emocionante aventura de espionaje con nuestra actividad especial para niños. En «Conviértete en espía»\, los pequeños agentes aprenderán a comunicarse mediante códigos secretos y practicarán sus habilidades de movimiento y sigilo de los auténticos espías. \nEste plan es perfecto para desarrollar la creatividad\, el trabajo en equipo y la agilidad mental mientras se divierten explorando el mundo del espionaje. \n¿Te lo vas a perder? \n¡Es gratis y las plazas son limitadas! \nHaz click en el botón «Me apunto» y reserva la tuya.
URL:https://plangalapagar.es/plan/diverteca-15-de-noviembre/
LOCATION:Punto Joven\, Guadarrama\, 68\, Galapagar\, Madrid\, 28260
CATEGORIES:Infantil
ATTACH;FMTTYPE=image/jpeg:https://plangalapagar.es/wp-content/uploads/2024/11/DV-15N.jpg
END:VEVENT
BEGIN:VEVENT
DTSTART;TZID=Europe/Madrid:20241115T193000
DTEND;TZID=Europe/Madrid:20241115T233000
DTSTAMP:20260421T013024
CREATED:20241028T050006Z
LAST-MODIFIED:20241108T091834Z
UID:10000407-1731699000-1731713400@plangalapagar.es
SUMMARY:Excursión familiar: Superluna del Castor
DESCRIPTION:Únete a nosotros el viernes 15 de noviembre para disfrutar de la impresionante superluna «Luna de Castor». Trae ropa cómoda\, tu esterilla\, tu merienda-cena\, ropa de abrigo\, linterna o frontal y muchas ganas de explorar el fascinante mundo lunar. Nos reuniremos en una zona sin luces para observar este espectáculo celestial en su máximo esplendor. \n¡Prepárate para una noche llena de magia y aprendizaje! Observaremos la luna y aprenderemos más sobre su influencia en nuestras vidas. ¡No te lo pierdas\, será una experiencia inolvidable! \nCada menor deberá ir acompañado de al menos un adulto\, ya que es una actividad familiar. \n¿Cómo me apunto? \nEn esta web\, con el botón «Me apunto»\, podrás realizar la inscripción online de todo tu grupo familiar\, para ello debes prestar atención a los siguientes datos que deberás suministrar: \n\nNombre y apellidos del participante: será el nombre y apellido del responsable familiar o del grupo que haga la inscripción. En observaciones pondremos al resto de la familia.\nFecha de nacimiento: de la persona que está haciendo la inscripción cuyo nombre hemos puesto antes.\nCorreo y teléfono: de esta persona también\, debes prestar atención a poner el correo correctamente y verificar que no te llegan a «correo no deseado».\nJustificante de pago: aquí debes subir un archivo con una captura de pantalla o justificante del pago que hayas realizado.\nObservaciones: este campo es muy importante ya que debemos poner los nombres y apellidos y edades de todos los integrandes que van a participar.\n\n  \n¿Cómo realizo el pago? \nPreviamente a la inscripción\, debes tener el pago realizado ya que uno de los datos que te pediremos es el justificante de pago.\nCada participante\, deberá abonar 5€ por persona. Por ejemplo\, si el grupo familiar es de 3 personas\, serían 15€.\nEl abono se hará mediante ingreso o transferencia bancaria al número: ES25 3058 1907 0527 2050 5695\, a nombre de Servicios Psicoeducativos. \n¿Qué debes traer? \n\nCena.\nRopa de abrigo.\nEsterilla.\nLinterna o frontal.\n\nCenaremos todos juntos\, compartiendo historias\, disfrutando de las vistas de la superluna\, los diferentes sonidos de la naturaleza y un poco de astronomía. \nPunto de encuentro: Punto Joven. \nHaz click en el botón «Me apunto» y reserva la tuya.
URL:https://plangalapagar.es/plan/excursion-familiar-superluna-del-castor/
LOCATION:Punto Joven\, Guadarrama\, 68\, Galapagar\, Madrid\, 28260
CATEGORIES:Familiares
ATTACH;FMTTYPE=image/jpeg:https://plangalapagar.es/wp-content/uploads/2024/10/Excursiones-15N.jpg
END:VEVENT
BEGIN:VEVENT
DTSTART;TZID=Europe/Madrid:20241116T173000
DTEND;TZID=Europe/Madrid:20241116T203000
DTSTAMP:20260421T013024
CREATED:20241028T050008Z
LAST-MODIFIED:20241030T174227Z
UID:10000420-1731778200-1731789000@plangalapagar.es
SUMMARY:Ocio Joven 16 de noviembre
DESCRIPTION:¡Prepárate para una tarde de creatividad! \nEste sábado\, Punto Joven te invita al “Taller de personalización de camisetas”. Aprende a hacer tu diseño de colores y dale un toque personal a tu camiseta. Te enseñaremos y te guiaremos paso a paso. \n¡No te pierdas este plan\, es gratis y las plazas son limitadas! \nHaz click en el botón «Me apunto» y reserva la tuya.
URL:https://plangalapagar.es/plan/ocio-joven-16-de-noviembre/
LOCATION:Punto Joven\, Guadarrama\, 68\, Galapagar\, Madrid\, 28260
CATEGORIES:Jóvenes
ATTACH;FMTTYPE=image/jpeg:https://plangalapagar.es/wp-content/uploads/2024/10/OJ-16N.jpg
END:VEVENT
END:VCALENDAR