BEGIN:VCALENDAR
VERSION:2.0
PRODID:-//Plan Galapagar - ECPv6.15.20//NONSGML v1.0//EN
CALSCALE:GREGORIAN
METHOD:PUBLISH
X-ORIGINAL-URL:https://plangalapagar.es
X-WR-CALDESC:Eventos para Plan Galapagar
REFRESH-INTERVAL;VALUE=DURATION:PT1H
X-Robots-Tag:noindex
X-PUBLISHED-TTL:PT1H
BEGIN:VTIMEZONE
TZID:Europe/Madrid
BEGIN:DAYLIGHT
TZOFFSETFROM:+0100
TZOFFSETTO:+0200
TZNAME:CEST
DTSTART:20230326T010000
END:DAYLIGHT
BEGIN:STANDARD
TZOFFSETFROM:+0200
TZOFFSETTO:+0100
TZNAME:CET
DTSTART:20231029T010000
END:STANDARD
BEGIN:DAYLIGHT
TZOFFSETFROM:+0100
TZOFFSETTO:+0200
TZNAME:CEST
DTSTART:20240331T010000
END:DAYLIGHT
BEGIN:STANDARD
TZOFFSETFROM:+0200
TZOFFSETTO:+0100
TZNAME:CET
DTSTART:20241027T010000
END:STANDARD
BEGIN:DAYLIGHT
TZOFFSETFROM:+0100
TZOFFSETTO:+0200
TZNAME:CEST
DTSTART:20250330T010000
END:DAYLIGHT
BEGIN:STANDARD
TZOFFSETFROM:+0200
TZOFFSETTO:+0100
TZNAME:CET
DTSTART:20251026T010000
END:STANDARD
BEGIN:DAYLIGHT
TZOFFSETFROM:+0100
TZOFFSETTO:+0200
TZNAME:CEST
DTSTART:20260329T010000
END:DAYLIGHT
BEGIN:STANDARD
TZOFFSETFROM:+0200
TZOFFSETTO:+0100
TZNAME:CET
DTSTART:20261025T010000
END:STANDARD
END:VTIMEZONE
BEGIN:VEVENT
DTSTART;TZID=Europe/Madrid:20241202T080000
DTEND;TZID=Europe/Madrid:20250203T080000
DTSTAMP:20260421T012146
CREATED:20241202T070011Z
LAST-MODIFIED:20260409T111841Z
UID:10000431-1733126400-1738569600@plangalapagar.es
SUMMARY:Exploradores de Galapagar
DESCRIPTION:¡Esta es una yincana por Galapagar! \nParticipa escaneando los códigos QR que te indica el mapa y consigue un premio al completar los desafíos. \nHay 7 desafíos escondidos. ¿Quieres empezar? Apúntate y te enviamos el mapa con los puntos donde tendrás que buscar. \n¿Hasta cuándo tengo tiempo? No te preocupes\, puedes hacerlo cuando quieras y puedas\, no hay un horario ni un fecha concreta\, el juego estará activo hasta el 2 de febrero de 2025 (¡o hasta que se nos acaben los premios!) \nPor eso\, hazte con el tuyo y comienza la búsqueda. \n 
URL:https://plangalapagar.es/plan/exploradores-de-galapagar/
LOCATION:Punto Joven\, Guadarrama\, 68\, Galapagar\, Madrid\, 28260
CATEGORIES:Jóvenes
ATTACH;FMTTYPE=image/jpeg:https://plangalapagar.es/wp-content/uploads/2024/12/EXPLORADORES_4.jpg
END:VEVENT
BEGIN:VEVENT
DTSTART;TZID=Europe/Madrid:20241202T173000
DTEND;TZID=Europe/Madrid:20250625T190000
DTSTAMP:20260421T012146
CREATED:20241125T050028Z
LAST-MODIFIED:20250320T080416Z
UID:10000425-1733160600-1750878000@plangalapagar.es
SUMMARY:Grupo de deberes
DESCRIPTION:¡Aprende a organizarte con nuestro grupo de deberes! \nPodrás tener tiempo para tus tareas\, un espacio sin distracciones\, con apoyo continuo en todas las dudas que te puedan surgir. Nos juntaremos todos los lunes y miércoles hasta junio (según calendario escolar) de 17:30 a 19:00 horas.  \n*Si solo puedes venir uno de los dos días\, podrás apuntarte un solo día por semana y marcar el elegido en formulario (campo OBSERVACIONES). \n  \n¿Cómo me apunto? \nApúntate\, con la opción «dos días a la semana» o «un solo día» (debes marcarlo en la ficha de inscripción). En el caso de elegir la opción de un solo día\, debes especificar si asistirás los lunes o los miércoles en el campo de OBSERVACIONES del formulario. \nRealiza el pago mediante ingreso en la cuenta de Servicios Psicoeducativos (ES25 3058 1907 0527 2050 5695) de 15€ (dos días) u 8€ (un día) y adjunta la ficha y el justificante de pago a tu inscripción web. \nConfirmación de plaza: La confirmación de plaza se comunicará a través del correo electrónico tras realizar el formulario. \nPara darte de baja en la actividad debes solicitarlo antes del 25 de cada mes al correo desde el que te llega la confirmación de plaza. \nSe harán las devoluciones en caso de no llegar al mínimo de participantes o por causa de fuerza mayor debidamente justificada y previa valoración de la organización. \n¡No te lo pierdas! \nHaz click en el botón «Me apunto» y reserva tu plaza.
URL:https://plangalapagar.es/plan/grupo-de-deberes/
LOCATION:Punto Joven\, Guadarrama\, 68\, Galapagar\, Madrid\, 28260
CATEGORIES:Jóvenes
ATTACH;FMTTYPE=image/jpeg:https://plangalapagar.es/wp-content/uploads/2024/10/GrupoDeberes.jpg
END:VEVENT
BEGIN:VEVENT
DTSTART;TZID=Europe/Madrid:20241209T180000
DTEND;TZID=Europe/Madrid:20241216T200000
DTSTAMP:20260421T012146
CREATED:20241202T183200Z
LAST-MODIFIED:20241203T202453Z
UID:10000463-1733767200-1734379200@plangalapagar.es
SUMMARY:Habilidades para el éxito laboral
DESCRIPTION:¿Listo para brillar en el mundo laboral? \nEn este taller dinámico y participativo descubrirás las habilidades claves para el éxito laboral. A través de actividades  y juegos de rol\, trabajaremos la comunicación asertiva\, la confianza\, el trabajo en equipo\, el liderazgo y la resolución de conflictos. \n¡No te pierdas este plan\, es gratis y las plazas son limitadas! \nHaz click en el botón «Me apunto» y reserva la tuya.
URL:https://plangalapagar.es/plan/habilidades-para-el-exito-laboral-2/
LOCATION:Punto Joven\, Guadarrama\, 68\, Galapagar\, Madrid\, 28260
CATEGORIES:Jóvenes
ATTACH;FMTTYPE=image/jpeg:https://plangalapagar.es/wp-content/uploads/2024/11/EMPLEOJOVEN.jpg
END:VEVENT
BEGIN:VEVENT
DTSTART;TZID=Europe/Madrid:20241210T170000
DTEND;TZID=Europe/Madrid:20241210T203000
DTSTAMP:20260421T012146
CREATED:20241203T202023Z
LAST-MODIFIED:20241203T202023Z
UID:10000462-1733850000-1733862600@plangalapagar.es
SUMMARY:Desconecta 10 de diciembre
DESCRIPTION:¡Ven a disfrutar de la sala de Punto Joven! \nTe ofrecemos un espacio libre y exclusivo para ti\, donde puedes disfrutar de la Play 5\, la Wii\, futbolín\, ping-pong\, juegos de mesa y mucho más. \nTambién es el lugar perfecto para estudiar y hacer trabajos en un ambiente cómodo y amigable. ¡Es una sala creada por y para jóvenes como tú! ¡Te esperamos! \nHaz click en el botón «Me apunto» y reserva tu plaza. ¡Recuerda que son limitadas!
URL:https://plangalapagar.es/plan/desconecta-10-de-diciembre/
LOCATION:Punto Joven\, Guadarrama\, 68\, Galapagar\, Madrid\, 28260
CATEGORIES:Jóvenes
ATTACH;FMTTYPE=image/jpeg:https://plangalapagar.es/wp-content/uploads/2024/11/DESCONECTA-10D.jpg
END:VEVENT
BEGIN:VEVENT
DTSTART;TZID=Europe/Madrid:20241212T180000
DTEND;TZID=Europe/Madrid:20241212T190000
DTSTAMP:20260421T012146
CREATED:20241203T202716Z
LAST-MODIFIED:20241203T202716Z
UID:10000464-1734026400-1734030000@plangalapagar.es
SUMMARY:Información juvenil 12 de diciembre
DESCRIPTION:¿Quieres viajar gratis a Europa? ¿Hacer un voluntariado? ¿Conocer planes gratis en Madrid? ¿Saber para qué sirve el carnet joven? ¿Cómo pedir una beca? \n¡Ven al servicio de información juvenil y entérate de lo que necesitas! \n¡No te lo pierdas\, es gratis y las plazas son limitadas! \nHaz click en el botón «Me apunto» y reserva la tuya.
URL:https://plangalapagar.es/plan/informacion-juvenil-12-de-diciembre/
LOCATION:Punto Joven\, Guadarrama\, 68\, Galapagar\, Madrid\, 28260
CATEGORIES:Jóvenes
ATTACH;FMTTYPE=image/jpeg:https://plangalapagar.es/wp-content/uploads/2024/11/INFOJUVENIL.jpg
END:VEVENT
BEGIN:VEVENT
DTSTART;TZID=Europe/Madrid:20241213T173000
DTEND;TZID=Europe/Madrid:20241213T203000
DTSTAMP:20260421T012146
CREATED:20241203T201246Z
LAST-MODIFIED:20241203T201246Z
UID:10000465-1734111000-1734121800@plangalapagar.es
SUMMARY:Viernes en la buhardilla 13 de diciembre
DESCRIPTION:¡Ven a disfrutar de actividades diseñadas solo para jóvenes! \nTe ofrecemos un espacio exclusivo para ti y jóvenes como tú\, donde disfrutarás de juegos de mesa\, podrás poner tu música\, y también haremos dinámicas divertidas\, bailes y podrás proponer tus propias ideas para las actividades. \n¡Trae tu merienda\, pasa la tarde del viernes sin frío y con muchas risas con amigos! \n¡No te lo pierdas! \nHaz click en el botón «Me apunto» y reserva tu plaza. ¡Recuerda que son limitadas!
URL:https://plangalapagar.es/plan/viernes-en-la-buhardilla-13-de-diciembre/
LOCATION:Punto Joven\, Guadarrama\, 68\, Galapagar\, Madrid\, 28260
CATEGORIES:Jóvenes
ATTACH;FMTTYPE=image/jpeg:https://plangalapagar.es/wp-content/uploads/2024/11/VIERNES_BUHARDILLA-13dic.jpg
END:VEVENT
BEGIN:VEVENT
DTSTART;TZID=Europe/Madrid:20241213T173000
DTEND;TZID=Europe/Madrid:20241213T203000
DTSTAMP:20260421T012146
CREATED:20241209T050042Z
LAST-MODIFIED:20241128T183537Z
UID:10000432-1734111000-1734121800@plangalapagar.es
SUMMARY:Diverteca 13 de diciembre
DESCRIPTION:¡Ya está aquí la Diverteca de diciembre con muchas actividades para los peques de la casa! \nEl próximo viernes 13 de diciembre tendrá lugar el plan «Decorando el árbol». ¡Ven a contagiarte del espíritu de la Navidad con esta actividad especial! Haremos adornos para el árbol y crearemos guirnaldas navideñas para decorar juntos. \n¿Te lo vas a perder? \n¡Es gratis y las plazas son limitadas! \nHaz click en el botón «Me apunto» y reserva la tuya.
URL:https://plangalapagar.es/plan/diverteca-13-de-diciembre/
LOCATION:Punto Joven\, Guadarrama\, 68\, Galapagar\, Madrid\, 28260
CATEGORIES:Infantil
ATTACH;FMTTYPE=image/jpeg:https://plangalapagar.es/wp-content/uploads/2024/12/DV-13DIC.jpg
END:VEVENT
BEGIN:VEVENT
DTSTART;TZID=Europe/Madrid:20241213T210000
DTEND;TZID=Europe/Madrid:20241214T003000
DTSTAMP:20260421T012146
CREATED:20241203T202857Z
LAST-MODIFIED:20241203T202857Z
UID:10000468-1734123600-1734136200@plangalapagar.es
SUMMARY:Jam Session 13 de diciembre
DESCRIPTION:¡Únete al encuentro musical entre bandas y artistas locales de Galapagar! \nPodrás expresarte a través de la música y compartir con otros artistas. \n¿No eres músico? ¡No te preocupes! Podrás disfrutar de una noche llena de arte e ilusión. \n¡No te lo pierdas\, es gratis y las plazas son limitadas! \nHaz click en el botón «Me apunto» y reserva la tuya.
URL:https://plangalapagar.es/plan/jam-session-13-de-diciembre/
LOCATION:Punto Joven\, Guadarrama\, 68\, Galapagar\, Madrid\, 28260
CATEGORIES:Familiares
ATTACH;FMTTYPE=image/jpeg:https://plangalapagar.es/wp-content/uploads/2024/11/JAMSESSION.jpg
END:VEVENT
BEGIN:VEVENT
DTSTART;VALUE=DATE:20241214
DTEND;VALUE=DATE:20241216
DTSTAMP:20260421T012146
CREATED:20241202T212032Z
LAST-MODIFIED:20241202T212032Z
UID:10000469-1734134400-1734307199@plangalapagar.es
SUMMARY:Fin de semana en la naturaleza
DESCRIPTION:¿Te gustaría pasar un fin de semana rodeado de naturaleza y aventura? \nÚnete a esta experiencia donde podrás disfrutar de actividades en el entorno natural\, conocer gente nueva y divertirte con tus amigos. \nEl fin de semana incluye una actividad multiaventura\, actividades de orientación y mucho más. \nEste plan tendrá lugar el fin de semana del 14 y 15 de diciembre en el albergue Sierra Norte Manjirón.  \nEl precio por participante es de 100€. \n  \n¿Qué incluye? \n\nPensión completa desde la cena del sábado a la comida del domingo y alojamiento.\nActividades multiaventura: tirolina\, tiro con arco y escalada.\nSenda hasta el embalse de El Villar.\nAutobús ida y vuelta.\n\n  \nNota: Se tienen que llevar saco de dormir. \n  \n¿Cómo me apunto? \nHaz click en el botón «Me apunto» y completo los datos que se solicitan. Realiza el pago de los 100€ en la cuenta de Servicios Psicoeducativos (ES25 3058 1907 0527 2050 5695) y adjunta el justificante de pago y la ficha de inscripción. \nEl plazo finaliza el 10 de diciembre.
URL:https://plangalapagar.es/plan/fin-de-semana-en-la-naturaleza/
LOCATION:Madrid
CATEGORIES:Jóvenes
ATTACH;FMTTYPE=image/jpeg:https://plangalapagar.es/wp-content/uploads/2024/12/FINDE_NATURALEZA.jpg
END:VEVENT
BEGIN:VEVENT
DTSTART;TZID=Europe/Madrid:20241214T160000
DTEND;TZID=Europe/Madrid:20241214T230000
DTSTAMP:20260421T012146
CREATED:20241125T050045Z
LAST-MODIFIED:20241210T140506Z
UID:10000438-1734192000-1734217200@plangalapagar.es
SUMMARY:Ocio Joven 14 de diciembre - Salida Plaza Mayor
DESCRIPTION:¡Llega una nueva actividad especial para jóvenes! \nEl próximo sábado 14 de diciembre haremos una excursión a la Plaza Mayor para ver las luces y los puestos navideños en transporte público. Cada participante deberá llevar su abono transporte o\, en su defecto\, dinero para comprar el billete de ida y vuelta. \nLa salida se realizará desde Punto Joven.  \n¡No te pierdas este plan\, es gratis y las plazas son limitadas! \nHaz click en el botón «Me apunto» y reserva la tuya. \n 
URL:https://plangalapagar.es/plan/ocio-joven-14-de-diciembre-salida-plaza-mayor/
LOCATION:Punto Joven\, Guadarrama\, 68\, Galapagar\, Madrid\, 28260
CATEGORIES:Jóvenes
ATTACH;FMTTYPE=image/jpeg:https://plangalapagar.es/wp-content/uploads/2024/11/OJ-14DIC.jpg
END:VEVENT
END:VCALENDAR