BEGIN:VCALENDAR
VERSION:2.0
PRODID:-//Plan Galapagar - ECPv6.15.20//NONSGML v1.0//EN
CALSCALE:GREGORIAN
METHOD:PUBLISH
X-ORIGINAL-URL:https://plangalapagar.es
X-WR-CALDESC:Eventos para Plan Galapagar
REFRESH-INTERVAL;VALUE=DURATION:PT1H
X-Robots-Tag:noindex
X-PUBLISHED-TTL:PT1H
BEGIN:VTIMEZONE
TZID:Europe/Madrid
BEGIN:DAYLIGHT
TZOFFSETFROM:+0100
TZOFFSETTO:+0200
TZNAME:CEST
DTSTART:20230326T010000
END:DAYLIGHT
BEGIN:STANDARD
TZOFFSETFROM:+0200
TZOFFSETTO:+0100
TZNAME:CET
DTSTART:20231029T010000
END:STANDARD
BEGIN:DAYLIGHT
TZOFFSETFROM:+0100
TZOFFSETTO:+0200
TZNAME:CEST
DTSTART:20240331T010000
END:DAYLIGHT
BEGIN:STANDARD
TZOFFSETFROM:+0200
TZOFFSETTO:+0100
TZNAME:CET
DTSTART:20241027T010000
END:STANDARD
BEGIN:DAYLIGHT
TZOFFSETFROM:+0100
TZOFFSETTO:+0200
TZNAME:CEST
DTSTART:20250330T010000
END:DAYLIGHT
BEGIN:STANDARD
TZOFFSETFROM:+0200
TZOFFSETTO:+0100
TZNAME:CET
DTSTART:20251026T010000
END:STANDARD
BEGIN:DAYLIGHT
TZOFFSETFROM:+0100
TZOFFSETTO:+0200
TZNAME:CEST
DTSTART:20260329T010000
END:DAYLIGHT
BEGIN:STANDARD
TZOFFSETFROM:+0200
TZOFFSETTO:+0100
TZNAME:CET
DTSTART:20261025T010000
END:STANDARD
END:VTIMEZONE
BEGIN:VEVENT
DTSTART;TZID=Europe/Madrid:20241202T080000
DTEND;TZID=Europe/Madrid:20250203T080000
DTSTAMP:20260420T235118
CREATED:20241202T070011Z
LAST-MODIFIED:20260409T111841Z
UID:10000431-1733126400-1738569600@plangalapagar.es
SUMMARY:Exploradores de Galapagar
DESCRIPTION:¡Esta es una yincana por Galapagar! \nParticipa escaneando los códigos QR que te indica el mapa y consigue un premio al completar los desafíos. \nHay 7 desafíos escondidos. ¿Quieres empezar? Apúntate y te enviamos el mapa con los puntos donde tendrás que buscar. \n¿Hasta cuándo tengo tiempo? No te preocupes\, puedes hacerlo cuando quieras y puedas\, no hay un horario ni un fecha concreta\, el juego estará activo hasta el 2 de febrero de 2025 (¡o hasta que se nos acaben los premios!) \nPor eso\, hazte con el tuyo y comienza la búsqueda. \n 
URL:https://plangalapagar.es/plan/exploradores-de-galapagar/
LOCATION:Punto Joven\, Guadarrama\, 68\, Galapagar\, Madrid\, 28260
CATEGORIES:Jóvenes
ATTACH;FMTTYPE=image/jpeg:https://plangalapagar.es/wp-content/uploads/2024/12/EXPLORADORES_4.jpg
END:VEVENT
BEGIN:VEVENT
DTSTART;TZID=Europe/Madrid:20241202T173000
DTEND;TZID=Europe/Madrid:20250625T190000
DTSTAMP:20260420T235118
CREATED:20241125T050028Z
LAST-MODIFIED:20250320T080416Z
UID:10000425-1733160600-1750878000@plangalapagar.es
SUMMARY:Grupo de deberes
DESCRIPTION:¡Aprende a organizarte con nuestro grupo de deberes! \nPodrás tener tiempo para tus tareas\, un espacio sin distracciones\, con apoyo continuo en todas las dudas que te puedan surgir. Nos juntaremos todos los lunes y miércoles hasta junio (según calendario escolar) de 17:30 a 19:00 horas.  \n*Si solo puedes venir uno de los dos días\, podrás apuntarte un solo día por semana y marcar el elegido en formulario (campo OBSERVACIONES). \n  \n¿Cómo me apunto? \nApúntate\, con la opción «dos días a la semana» o «un solo día» (debes marcarlo en la ficha de inscripción). En el caso de elegir la opción de un solo día\, debes especificar si asistirás los lunes o los miércoles en el campo de OBSERVACIONES del formulario. \nRealiza el pago mediante ingreso en la cuenta de Servicios Psicoeducativos (ES25 3058 1907 0527 2050 5695) de 15€ (dos días) u 8€ (un día) y adjunta la ficha y el justificante de pago a tu inscripción web. \nConfirmación de plaza: La confirmación de plaza se comunicará a través del correo electrónico tras realizar el formulario. \nPara darte de baja en la actividad debes solicitarlo antes del 25 de cada mes al correo desde el que te llega la confirmación de plaza. \nSe harán las devoluciones en caso de no llegar al mínimo de participantes o por causa de fuerza mayor debidamente justificada y previa valoración de la organización. \n¡No te lo pierdas! \nHaz click en el botón «Me apunto» y reserva tu plaza.
URL:https://plangalapagar.es/plan/grupo-de-deberes/
LOCATION:Punto Joven\, Guadarrama\, 68\, Galapagar\, Madrid\, 28260
CATEGORIES:Jóvenes
ATTACH;FMTTYPE=image/jpeg:https://plangalapagar.es/wp-content/uploads/2024/10/GrupoDeberes.jpg
END:VEVENT
BEGIN:VEVENT
DTSTART;TZID=Europe/Madrid:20241230T080000
DTEND;TZID=Europe/Madrid:20241230T160000
DTSTAMP:20260420T235118
CREATED:20241125T050025Z
LAST-MODIFIED:20241218T133055Z
UID:10000442-1735545600-1735574400@plangalapagar.es
SUMMARY:Días sin cole 30 de diciembre
DESCRIPTION:¿No tienes nada que hacer en navidad mientras no hay clase? \n¡No te pierdas los «Días sin cole». La Concejalía de Juventud organiza este programa donde podrás disfrutar de actividades deportivas\, manualidades\, juegos en grupo y mucho más\, mientras los padres disponen de un servicio para conciliar su vida laboral y familiar. \nEl próximo lunes 30 de diciembre habrá muchos juegos y diversión para terminar el año. \nEsta actividad está dirigida a niños de 3 a 12 años (nacidos entre 2013 y 2021). Deben tener control de esfínteres. \n  \nHorarios y precios \n\nDe 09:00 a 14:00 horas: 9€ por día.\nAmpliación hasta las 16:00 horas: 5\,50€ por día. (Los participantes deberán traer su comida de casa).\nServicio extra de madrugadores de 08:00 a 09:00 horas: 1\,75€ por día.\n\n  \n¿Cómo me apunto? \nAntes de proceder a la inscripción debes tener el pago realizado\, ya que uno de los datos que te pediremos es el justificante de pago. El abono se hará mediante ingreso en la cuenta de Servicios Psicoeducativos (ES25 3058 1907 0527 2050 5695). \nHaz click en el botón «Me apunto» y rellena todos los datos que se solicitan. Además del justificante de pago\, deberán adjuntar la ficha de inscripción. \nTras completar los datos y adjuntar la documentación solicitada\, tendrás tu plaza reservada. \nConfirmación de plaza: La confirmación de plaza se comunicará a través del correo electrónico tras realizar el formulario. \nSe harán las devoluciones en caso de no llegar al mínimo de participantes o por causa de fuerza mayor debidamente justificada y previa valoración de la organización. \n¡No te pierdas este plan!
URL:https://plangalapagar.es/plan/dias-sin-cole-30-de-diciembre/
LOCATION:Punto Joven\, Guadarrama\, 68\, Galapagar\, Madrid\, 28260
CATEGORIES:Infantil
ATTACH;FMTTYPE=image/jpeg:https://plangalapagar.es/wp-content/uploads/2024/11/DIASSINCOLE-30D.jpg
END:VEVENT
BEGIN:VEVENT
DTSTART;TZID=Europe/Madrid:20241230T170000
DTEND;TZID=Europe/Madrid:20241230T183000
DTSTAMP:20260420T235118
CREATED:20241125T050051Z
LAST-MODIFIED:20241226T075539Z
UID:10000450-1735578000-1735583400@plangalapagar.es
SUMMARY:Taller navideño - Velas 17:00 - 18:30 horas
DESCRIPTION:¿Tienes entre 3 y 11 años? \n¡No te pierdas nuestro taller navideño en familia! \nEl próximo lunes 30 de diciembre ven a nuestro taller de decoración de velas navideñas\, donde la creatividad y la calidez se unen para crear momentos inolvidables. \nEl plan dispone de dos grupos que se repartirán en los siguientes horarios: \n\nGrupo 1: de 17:00 a 18:30 horas.\nGrupo 2: de 19:00 a 20:30 horas. \n\nEste plan corresponde al grupo 1.  \n  \n¿Cómo me apunto? \nAntes de proceder a la inscripción debes tener el pago realizado\, ya que uno de los datos que te pediremos es el justificante de pago. El abono de 5\,50€ (incluye la participación de un adulto y los menores como acompañantes) se hará mediante ingreso en la cuenta de Servicios Psicoeducativos (ES25 3058 1907 0527 2050 5695). \nUna vez que dispongas del justificante de pago\, haz click en el botón «Me apunto» y rellena todos los datos que se solicitan. No olvides indicar en el campo de observaciones el nombre\, apellidos y edad del menor. \nTras completar los datos y adjuntar la documentación solicitada\, tendrás tu plaza reservada. \nConfirmación de plaza: La confirmación de plaza se comunicará a través del correo electrónico tras realizar el formulario. \nSe harán las devoluciones en caso de no llegar al mínimo de participantes o por causa de fuerza mayor debidamente justificada y previa valoración de la organización. \n¡No te lo puedes perder!
URL:https://plangalapagar.es/plan/taller-navideno-velas-1700-1830-horas/
LOCATION:Punto Joven\, Guadarrama\, 68\, Galapagar\, Madrid\, 28260
CATEGORIES:Familiares
ATTACH;FMTTYPE=image/jpeg:https://plangalapagar.es/wp-content/uploads/2024/11/TALLERESFAM_30D1.jpg
END:VEVENT
BEGIN:VEVENT
DTSTART;TZID=Europe/Madrid:20241230T190000
DTEND;TZID=Europe/Madrid:20241230T203000
DTSTAMP:20260420T235118
CREATED:20241125T050034Z
LAST-MODIFIED:20241218T140647Z
UID:10000451-1735585200-1735590600@plangalapagar.es
SUMMARY:Taller navideño - Velas 19:00 - 20:30 horas
DESCRIPTION:¿Tienes entre 3 y 11 años? \n¡No te pierdas nuestro taller navideño en familia! \nEl próximo lunes 30 de diciembre ven a nuestro taller de decoración de velas navideñas\, donde la creatividad y la calidez se unen para crear momentos inolvidables. \nEl plan dispone de dos grupos que se repartirán en los siguientes horarios: \n\nGrupo 1: de 17:00 a 18:30 horas.\nGrupo 2: de 19:00 a 20:30 horas. \n\nEste plan corresponde al grupo 2.  \n  \n¿Cómo me apunto? \nAntes de proceder a la inscripción debes tener el pago realizado\, ya que uno de los datos que te pediremos es el justificante de pago. El abono de 5\,50€  (incluye la participación de un adulto y los menores como acompañantes)se hará mediante ingreso en la cuenta de Servicios Psicoeducativos (ES25 3058 1907 0527 2050 5695). \nUna vez que dispongas del justificante de pago\, haz click en el botón «Me apunto» y rellena todos los datos que se solicitan. No olvides indicar en el campo de observaciones el nombre\, apellidos y edad del menor. \nTras completar los datos y adjuntar la documentación solicitada\, tendrás tu plaza reservada. \nConfirmación de plaza: La confirmación de plaza se comunicará a través del correo electrónico tras realizar el formulario. \nSe harán las devoluciones en caso de no llegar al mínimo de participantes o por causa de fuerza mayor debidamente justificada y previa valoración de la organización. \n¡No te lo puedes perder!
URL:https://plangalapagar.es/plan/taller-navideno-velas-1900-2030-horas/
LOCATION:Punto Joven\, Guadarrama\, 68\, Galapagar\, Madrid\, 28260
CATEGORIES:Familiares
ATTACH;FMTTYPE=image/jpeg:https://plangalapagar.es/wp-content/uploads/2024/11/TALLERESFAM_30D2.jpg
END:VEVENT
BEGIN:VEVENT
DTSTART;TZID=Europe/Madrid:20250102T080000
DTEND;TZID=Europe/Madrid:20250102T160000
DTSTAMP:20260420T235118
CREATED:20241125T050038Z
LAST-MODIFIED:20241218T140747Z
UID:10000443-1735804800-1735833600@plangalapagar.es
SUMMARY:Días sin cole 2 de enero
DESCRIPTION:¿No tienes nada que hacer en navidad mientras no hay clase? \n¡No te pierdas los «Días sin cole». La Concejalía de Juventud organiza este programa donde podrás disfrutar de actividades deportivas\, manualidades\, juegos en grupo y mucho más\, mientras los padres disponen de un servicio para conciliar su vida laboral y familiar. \nEl jueves 2 de enero haremos un particular amigo invisible disfrutando de sorpresas y pequeños regalos. \nEsta actividad está dirigida a niños de 3 a 12 años (nacidos entre 2013 y 2021). Deben tener control de esfínteres. \n  \nHorarios y precios \n\nDe 09:00 a 14:00 horas: 9€ por día.\nAmpliación hasta las 16:00 horas: 5\,50€ por día. (Los participantes deberán traer su comida de casa).\nServicio extra de madrugadores de 08:00 a 09:00 horas: 1\,75€ por día.\n\n  \n¿Cómo me apunto? \nAntes de proceder a la inscripción debes tener el pago realizado\, ya que uno de los datos que te pediremos es el justificante de pago. El abono se hará mediante ingreso en la cuenta de Servicios Psicoeducativos (ES25 3058 1907 0527 2050 5695). \nHaz click en el botón «Me apunto» y rellena todos los datos que se solicitan. Además del justificante de pago\, deberán adjuntar la ficha de inscripción. \nTras completar los datos y adjuntar la documentación solicitada\, tendrás tu plaza reservada. \nConfirmación de plaza: La confirmación de plaza se comunicará a través del correo electrónico tras realizar el formulario. \nSe harán las devoluciones en caso de no llegar al mínimo de participantes o por causa de fuerza mayor debidamente justificada y previa valoración de la organización. \n¡No te pierdas este plan!
URL:https://plangalapagar.es/plan/dias-sin-cole-2-de-enero/
LOCATION:Punto Joven\, Guadarrama\, 68\, Galapagar\, Madrid\, 28260
CATEGORIES:Infantil
ATTACH;FMTTYPE=image/jpeg:https://plangalapagar.es/wp-content/uploads/2024/11/DIASSINCOLE-2E.jpg
END:VEVENT
BEGIN:VEVENT
DTSTART;TZID=Europe/Madrid:20250102T100000
DTEND;TZID=Europe/Madrid:20250102T120000
DTSTAMP:20260420T235118
CREATED:20241125T050004Z
LAST-MODIFIED:20241202T185633Z
UID:10000452-1735812000-1735819200@plangalapagar.es
SUMMARY:Cocina navideña para jóvenes
DESCRIPTION:¿Te gusta cocinar? ¡Entonces este plan es para ti! \nSi tienes entre 10 y 17 años\, no te pierdas esta actividad en la que haremos recetas frías con temática navideña. \n¡No lo pierdas\, es gratis y las plazas son limitadas! \nHaz click en el botón «Me apunto» y reserva la tuya.
URL:https://plangalapagar.es/plan/cocina-navidena-para-jovenes/
LOCATION:Punto Joven\, Guadarrama\, 68\, Galapagar\, Madrid\, 28260
CATEGORIES:Jóvenes
ATTACH;FMTTYPE=image/jpeg:https://plangalapagar.es/wp-content/uploads/2024/11/COCINA.jpg
END:VEVENT
BEGIN:VEVENT
DTSTART;TZID=Europe/Madrid:20250102T170000
DTEND;TZID=Europe/Madrid:20250102T183000
DTSTAMP:20260420T235118
CREATED:20241205T084913Z
LAST-MODIFIED:20241230T124844Z
UID:10000470-1735837200-1735842600@plangalapagar.es
SUMMARY:Taller navideño - Jabones 17:00 - 18:30 horas
DESCRIPTION:¿Tienes entre 3 y 11 años? \n¡No te pierdas nuestro taller navideño en familia! \nEl jueves 2 de enero tendrá lugar nuestro taller navideño en familia «Jabones caseros». Con la mirada en la recuperación de nuestras tradiciones y del conocimiento de los valores ambientales de nuestro entorno\, esta tarde haremos jabón casero. \n¿Cuál es tu olor y tu color favorito? Te daremos varias opciones para elegir para que desarrolles tu creatividad con la creación de tu propio jabón. \nEl plan dispone de dos grupos que se repartirán en los siguientes horarios: \n\nGrupo 1: de 17:00 a 18:30 horas.\nGrupo 2: de 19:00 a 20:30 horas. \n\nEste plan corresponde al grupo 1.  \n  \n¿Cómo me apunto? \nAntes de proceder a la inscripción debes tener el pago realizado\, ya que uno de los datos que te pediremos es el justificante de pago. El abono de 5\,50€  (incluye la participación de un adulto y los menores como acompañantes)se hará mediante ingreso en la cuenta de Servicios Psicoeducativos (ES25 3058 1907 0527 2050 5695). \nUna vez que dispongas del justificante de pago\, haz click en el botón «Me apunto» y rellena todos los datos que se solicitan. No olvides indicar en el campo de observaciones el nombre\, apellidos y edad del menor. \nTras completar los datos y adjuntar la documentación solicitada\, tendrás tu plaza reservada. \nConfirmación de plaza: La confirmación de plaza se comunicará a través del correo electrónico tras realizar el formulario. \nSe harán las devoluciones en caso de no llegar al mínimo de participantes o por causa de fuerza mayor debidamente justificada y previa valoración de la organización. \n¡No te pierdas este plan!
URL:https://plangalapagar.es/plan/taller-navideno-jabones-1700-1830-horas/
LOCATION:Punto Joven\, Guadarrama\, 68\, Galapagar\, Madrid\, 28260
CATEGORIES:Familiares
ATTACH;FMTTYPE=image/jpeg:https://plangalapagar.es/wp-content/uploads/2024/12/JABONES1.jpg
END:VEVENT
BEGIN:VEVENT
DTSTART;TZID=Europe/Madrid:20250102T190000
DTEND;TZID=Europe/Madrid:20250102T203000
DTSTAMP:20260420T235118
CREATED:20241205T085019Z
LAST-MODIFIED:20241218T092820Z
UID:10000471-1735844400-1735849800@plangalapagar.es
SUMMARY:Taller navideño - Jabones 19:00 - 20:30 horas
DESCRIPTION:¿Tienes entre 3 y 11 años? \n¡No te pierdas nuestro taller navideño en familia! \nEl jueves 2 de enero tendrá lugar nuestro taller navideño en familia «Jabones caseros». Con la mirada en la recuperación de nuestras tradiciones y del conocimiento de los valores ambientales de nuestro entorno\, esta tarde haremos jabón casero. \n¿Cuál es tu olor y tu color favorito? Te daremos varias opciones para elegir para que desarrolles tu creatividad con la creación de tu propio jabón. \nEl plan dispone de dos grupos que se repartirán en los siguientes horarios: \n\nGrupo 1: de 17:00 a 18:30 horas.\nGrupo 2: de 19:00 a 20:30 horas. \n\nEste plan corresponde al grupo 2.  \n  \n¿Cómo me apunto? \nAntes de proceder a la inscripción debes tener el pago realizado\, ya que uno de los datos que te pediremos es el justificante de pago. El abono de 5\,50€  (incluye la participación de un adulto y los menores como acompañantes) se hará mediante ingreso en la cuenta de Servicios Psicoeducativos (ES25 3058 1907 0527 2050 5695). \nUna vez que dispongas del justificante de pago\, haz click en el botón «Me apunto» y rellena todos los datos que se solicitan. No olvides indicar en el campo de observaciones el nombre\, apellidos y edad del menor. \nTras completar los datos y adjuntar la documentación solicitada\, tendrás tu plaza reservada. \nConfirmación de plaza: La confirmación de plaza se comunicará a través del correo electrónico tras realizar el formulario. \nSe harán las devoluciones en caso de no llegar al mínimo de participantes o por causa de fuerza mayor debidamente justificada y previa valoración de la organización. \n¡No te pierdas este plan!
URL:https://plangalapagar.es/plan/taller-navideno-jabones-1900-2030-horas/
LOCATION:Punto Joven\, Guadarrama\, 68\, Galapagar\, Madrid\, 28260
CATEGORIES:Familiares
ATTACH;FMTTYPE=image/jpeg:https://plangalapagar.es/wp-content/uploads/2024/12/JABONES2.jpg
END:VEVENT
BEGIN:VEVENT
DTSTART;TZID=Europe/Madrid:20250103T080000
DTEND;TZID=Europe/Madrid:20250103T160000
DTSTAMP:20260420T235118
CREATED:20241125T050038Z
LAST-MODIFIED:20241218T140933Z
UID:10000444-1735891200-1735920000@plangalapagar.es
SUMMARY:Días sin cole 3 de enero
DESCRIPTION:¿No tienes nada que hacer en navidad mientras no hay clase? \n¡No te pierdas los «Días sin cole». La Concejalía de Juventud organiza este programa donde podrás disfrutar de actividades deportivas\, manualidades\, juegos en grupo y mucho más\, mientras los padres disponen de un servicio para conciliar su vida laboral y familiar. \nEl viernes 3 de enero descubrirás el valor de compartir. Para ello\, trabajaremos en equipo diferentes manualidades navideñas. \nEsta actividad está dirigida a niños de 3 a 12 años (nacidos entre 2013 y 2021). Deben tener control de esfínteres. \n  \nHorarios y precios \n\nDe 09:00 a 14:00 horas: 9€ por día.\nAmpliación hasta las 16:00 horas: 5\,50€ por día. (Los participantes deberán traer su comida de casa).\nServicio extra de madrugadores de 08:00 a 09:00 horas: 1\,75€ por día.\n\n  \n¿Cómo me apunto? \nAntes de proceder a la inscripción debes tener el pago realizado\, ya que uno de los datos que te pediremos es el justificante de pago. El abono se hará mediante ingreso en la cuenta de Servicios Psicoeducativos (ES25 3058 1907 0527 2050 5695). \nHaz click en el botón «Me apunto» y rellena todos los datos que se solicitan. Además del justificante de pago\, deberán adjuntar la ficha de inscripción. \nTras completar los datos y adjuntar la documentación solicitada\, tendrás tu plaza reservada. \nConfirmación de plaza: La confirmación de plaza se comunicará a través del correo electrónico tras realizar el formulario. \nSe harán las devoluciones en caso de no llegar al mínimo de participantes o por causa de fuerza mayor debidamente justificada y previa valoración de la organización. \n¡No te pierdas este plan!
URL:https://plangalapagar.es/plan/dias-sin-cole-3-de-enero/
LOCATION:Punto Joven\, Guadarrama\, 68\, Galapagar\, Madrid\, 28260
CATEGORIES:Infantil
ATTACH;FMTTYPE=image/jpeg:https://plangalapagar.es/wp-content/uploads/2024/11/DIASSINCOLE-3E.jpg
END:VEVENT
BEGIN:VEVENT
DTSTART;TZID=Europe/Madrid:20250103T173000
DTEND;TZID=Europe/Madrid:20250103T203000
DTSTAMP:20260420T235118
CREATED:20241223T050047Z
LAST-MODIFIED:20241218T174241Z
UID:10000482-1735925400-1735936200@plangalapagar.es
SUMMARY:Viernes en la buhardilla 3 de enero
DESCRIPTION:¡Ven a disfrutar de actividades diseñadas solo para jóvenes! \nTe ofrecemos un espacio exclusivo para ti y jóvenes como tú\, donde disfrutarás de juegos de mesa\, podrás poner tu música\, y también haremos dinámicas divertidas\, bailes y podrás proponer tus propias ideas para las actividades. \n¡Trae tu merienda\, pasa la tarde del viernes sin frío y con muchas risas con amigos! \n¡No te lo pierdas! \nHaz click en el botón «Me apunto» y reserva tu plaza. ¡Recuerda que son limitadas!
URL:https://plangalapagar.es/plan/viernes-en-la-buhardilla-3-de-enero/
LOCATION:Punto Joven\, Guadarrama\, 68\, Galapagar\, Madrid\, 28260
CATEGORIES:Jóvenes
ATTACH;FMTTYPE=image/jpeg:https://plangalapagar.es/wp-content/uploads/2024/12/VIERNES_BUHARDILLA-3E.jpg
END:VEVENT
BEGIN:VEVENT
DTSTART;TZID=Europe/Madrid:20250104T190000
DTEND;TZID=Europe/Madrid:20250105T010000
DTSTAMP:20260420T235118
CREATED:20241125T050042Z
LAST-MODIFIED:20241202T185756Z
UID:10000423-1736017200-1736038800@plangalapagar.es
SUMMARY:Ocio Joven nocturno 4 de enero
DESCRIPTION:¿Tienes entre 18 y 35 años? \n¡No te puedes perder nuestro torneo mus! \nDemuestra tus habilidades en este clásico juego\, participa con tu pareja y compite en partidas eliminatorias directas hasta alcanzar el premio. \nImportante: Para participar en el campeonato deberás traer tu DNI para justificar el requisito de edad. Recuerda\, si tienes menos de 18 años no podrás participar. \n  \n¿Cómo me apunto? \nEn esta web\, con el botón «Me apunto»\, podrás realizar la inscripción online con tus datos y los de tu pareja. Para ello\, debes prestar atención a lo siguiente: \n\nNombre y apellidos del participante: será el nombre y apellido del responsable del grupo que haga la inscripción. En observaciones\, escribirás el nombre de tu pareja.\nFecha de nacimiento: de la persona que está haciendo la inscripción\, cuyo nombre hemos puesto antes.\nCorreo y teléfono: de la persona que está haciendo la inscripción. Debes prestar atención y poner el correo correctamente y verificar que no te llegan a «correo no deseado».\nJustificante de pago: aquí debes subir un archivo con una captura de pantalla o justificante del pago que hayas realizado.\nObservaciones: este campo es muy importante\, ya que debes poner el nombre\, apellidos y la edad de tu pareja para esta actividad.\n\n  \nCompleta tus datos y los de tu pareja en el formulario web y realiza el pago de 10€ por pareja mediante ingreso en la cuenta de Servicios Psicoeducativos (ES25 3058 1907 0527 2050 5695). \nConfirmación de plaza: La confirmación de plaza se comunicará a través del correo electrónico tras realizar el formulario. \nSe harán las devoluciones en caso de no llegar al mínimo de participantes o por causa de fuerza mayor debidamente justificada y previa valoración de la organización. También se podrá dar de baja en caso de no cumplir los requisitos de edad. \n¡La participación en el torneo de mus incluye la posibilidad de ganar premios económicos! \n¿Te lo vas a perder? \nHaz click en el botón «Me apunto» y reserva tu plaza.
URL:https://plangalapagar.es/plan/ocio-joven-nocturno-4-de-enero/
LOCATION:Punto Joven\, Guadarrama\, 68\, Galapagar\, Madrid\, 28260
CATEGORIES:Jóvenes
ATTACH;FMTTYPE=image/jpeg:https://plangalapagar.es/wp-content/uploads/2024/11/OCIONOCTURNO.jpg
END:VEVENT
END:VCALENDAR