BEGIN:VCALENDAR
VERSION:2.0
PRODID:-//Plan Galapagar - ECPv6.15.20//NONSGML v1.0//EN
CALSCALE:GREGORIAN
METHOD:PUBLISH
X-WR-CALNAME:Plan Galapagar
X-ORIGINAL-URL:https://plangalapagar.es
X-WR-CALDESC:Eventos para Plan Galapagar
REFRESH-INTERVAL;VALUE=DURATION:PT1H
X-Robots-Tag:noindex
X-PUBLISHED-TTL:PT1H
BEGIN:VTIMEZONE
TZID:Europe/Madrid
BEGIN:DAYLIGHT
TZOFFSETFROM:+0100
TZOFFSETTO:+0200
TZNAME:CEST
DTSTART:20230326T010000
END:DAYLIGHT
BEGIN:STANDARD
TZOFFSETFROM:+0200
TZOFFSETTO:+0100
TZNAME:CET
DTSTART:20231029T010000
END:STANDARD
BEGIN:DAYLIGHT
TZOFFSETFROM:+0100
TZOFFSETTO:+0200
TZNAME:CEST
DTSTART:20240331T010000
END:DAYLIGHT
BEGIN:STANDARD
TZOFFSETFROM:+0200
TZOFFSETTO:+0100
TZNAME:CET
DTSTART:20241027T010000
END:STANDARD
BEGIN:DAYLIGHT
TZOFFSETFROM:+0100
TZOFFSETTO:+0200
TZNAME:CEST
DTSTART:20250330T010000
END:DAYLIGHT
BEGIN:STANDARD
TZOFFSETFROM:+0200
TZOFFSETTO:+0100
TZNAME:CET
DTSTART:20251026T010000
END:STANDARD
BEGIN:DAYLIGHT
TZOFFSETFROM:+0100
TZOFFSETTO:+0200
TZNAME:CEST
DTSTART:20260329T010000
END:DAYLIGHT
BEGIN:STANDARD
TZOFFSETFROM:+0200
TZOFFSETTO:+0100
TZNAME:CET
DTSTART:20261025T010000
END:STANDARD
END:VTIMEZONE
BEGIN:VEVENT
DTSTART;TZID=Europe/Madrid:20241202T080000
DTEND;TZID=Europe/Madrid:20250203T080000
DTSTAMP:20260420T192251
CREATED:20241202T070011Z
LAST-MODIFIED:20260409T111841Z
UID:10000431-1733126400-1738569600@plangalapagar.es
SUMMARY:Exploradores de Galapagar
DESCRIPTION:¡Esta es una yincana por Galapagar! \nParticipa escaneando los códigos QR que te indica el mapa y consigue un premio al completar los desafíos. \nHay 7 desafíos escondidos. ¿Quieres empezar? Apúntate y te enviamos el mapa con los puntos donde tendrás que buscar. \n¿Hasta cuándo tengo tiempo? No te preocupes\, puedes hacerlo cuando quieras y puedas\, no hay un horario ni un fecha concreta\, el juego estará activo hasta el 2 de febrero de 2025 (¡o hasta que se nos acaben los premios!) \nPor eso\, hazte con el tuyo y comienza la búsqueda. \n 
URL:https://plangalapagar.es/plan/exploradores-de-galapagar/
LOCATION:Punto Joven\, Guadarrama\, 68\, Galapagar\, Madrid\, 28260
CATEGORIES:Jóvenes
ATTACH;FMTTYPE=image/jpeg:https://plangalapagar.es/wp-content/uploads/2024/12/EXPLORADORES_4.jpg
END:VEVENT
BEGIN:VEVENT
DTSTART;TZID=Europe/Madrid:20241202T173000
DTEND;TZID=Europe/Madrid:20250625T190000
DTSTAMP:20260420T192251
CREATED:20241125T050028Z
LAST-MODIFIED:20250320T080416Z
UID:10000425-1733160600-1750878000@plangalapagar.es
SUMMARY:Grupo de deberes
DESCRIPTION:¡Aprende a organizarte con nuestro grupo de deberes! \nPodrás tener tiempo para tus tareas\, un espacio sin distracciones\, con apoyo continuo en todas las dudas que te puedan surgir. Nos juntaremos todos los lunes y miércoles hasta junio (según calendario escolar) de 17:30 a 19:00 horas.  \n*Si solo puedes venir uno de los dos días\, podrás apuntarte un solo día por semana y marcar el elegido en formulario (campo OBSERVACIONES). \n  \n¿Cómo me apunto? \nApúntate\, con la opción «dos días a la semana» o «un solo día» (debes marcarlo en la ficha de inscripción). En el caso de elegir la opción de un solo día\, debes especificar si asistirás los lunes o los miércoles en el campo de OBSERVACIONES del formulario. \nRealiza el pago mediante ingreso en la cuenta de Servicios Psicoeducativos (ES25 3058 1907 0527 2050 5695) de 15€ (dos días) u 8€ (un día) y adjunta la ficha y el justificante de pago a tu inscripción web. \nConfirmación de plaza: La confirmación de plaza se comunicará a través del correo electrónico tras realizar el formulario. \nPara darte de baja en la actividad debes solicitarlo antes del 25 de cada mes al correo desde el que te llega la confirmación de plaza. \nSe harán las devoluciones en caso de no llegar al mínimo de participantes o por causa de fuerza mayor debidamente justificada y previa valoración de la organización. \n¡No te lo pierdas! \nHaz click en el botón «Me apunto» y reserva tu plaza.
URL:https://plangalapagar.es/plan/grupo-de-deberes/
LOCATION:Punto Joven\, Guadarrama\, 68\, Galapagar\, Madrid\, 28260
CATEGORIES:Jóvenes
ATTACH;FMTTYPE=image/jpeg:https://plangalapagar.es/wp-content/uploads/2024/10/GrupoDeberes.jpg
END:VEVENT
BEGIN:VEVENT
DTSTART;TZID=Europe/Madrid:20250125T120000
DTEND;TZID=Europe/Madrid:20250825T150000
DTSTAMP:20260420T192251
CREATED:20241224T055813Z
LAST-MODIFIED:20250829T111907Z
UID:10000492-1737806400-1756134000@plangalapagar.es
SUMMARY:El desafío de las peñas
DESCRIPTION:¿Quieres ser la mejor peña de Galapagar? \n¡No te pierdas este evento competitivo donde\, una vez al mes\, nos reuniremos para enfrentarnos a diferentes desafíos para demostrar cuál es la mejor peña del municipio! \nUna vez inscrito en el plan\, se informará a la peña (vía WhatsApp)  las fechas de cada evento y se explicará en qué consiste exactamente (fecha\, lugar\, indumentaria\, miembros necesarios\, temática del juego…). \nEl primer evento será una orientación por Galapagar que tendrá lugar el 25 de enero de 2025\, y el último será la gran final en septiembre en el Gran Prix. \nNota: Para participar en esta actividad será necesario tener cumplidos los 18 años.  \n  \n¿Cómo me apunto?  \nLa participación es gratuita. Haz click en el botón «Me apunto» y rellena los datos que se solicitan. Deberás adjuntar la solicitud de participación.  \n¡No te lo pierdas! Habrá servicio y premios para las tres primeras peñas!
URL:https://plangalapagar.es/plan/el-desafio-de-las-penas/
LOCATION:Punto Joven\, Guadarrama\, 68\, Galapagar\, Madrid\, 28260
CATEGORIES:Jóvenes
ATTACH;FMTTYPE=image/jpeg:https://plangalapagar.es/wp-content/uploads/2024/12/DESAFIOPENAS.jpg
END:VEVENT
BEGIN:VEVENT
DTSTART;TZID=Europe/Madrid:20250128T173000
DTEND;TZID=Europe/Madrid:20250128T190000
DTSTAMP:20260420T192251
CREATED:20241230T050039Z
LAST-MODIFIED:20250116T123353Z
UID:10000476-1738085400-1738090800@plangalapagar.es
SUMMARY:Diver Family 28 de enero
DESCRIPTION:¡Nueva actividad de Diver Family! \nEl martes 28 de enero tendrá lugar el plan «Exploradores invernales». Teniendo como tema principal el invierno\, haremos dinámicas y talleres donde manipularemos\, en distintos rincones\, materiales con diferentes texturas y colores. \n¡No te pierdas esta gran experiencia sensorial! \nEsta actividad está dirigida a niños de 1 a 5 años acompañados de un adulto para disfrutar de una tarde de actividades en familia. \nImportante: Este plan se repetirá 2 veces al mes\, en la misma semana\, pero la actividad será la misma y solo puedes apuntarte a uno de ellos para dar espacio a más familias. ¡Gracias por tu colaboración! \nHaz click en el botón «Me apunto» y reserva tu plaza. ¡Recuerda que son limitadas!
URL:https://plangalapagar.es/plan/diver-family-28-de-enero/
LOCATION:Punto Joven\, Guadarrama\, 68\, Galapagar\, Madrid\, 28260
CATEGORIES:Familiares
ATTACH;FMTTYPE=image/jpeg:https://plangalapagar.es/wp-content/uploads/2024/12/DIVERFAMILY_28E.jpg
END:VEVENT
BEGIN:VEVENT
DTSTART;TZID=Europe/Madrid:20250130T173000
DTEND;TZID=Europe/Madrid:20250130T190000
DTSTAMP:20260420T192251
CREATED:20241230T050056Z
LAST-MODIFIED:20250116T123350Z
UID:10000477-1738258200-1738263600@plangalapagar.es
SUMMARY:Diver Family 30 de enero
DESCRIPTION:¡Nueva actividad de Diver Family! \nEl jueves 30 de enero tendrá lugar el plan «Exploradores invernales». Teniendo como tema principal el invierno\, haremos dinámicas y talleres donde manipularemos\, en distintos rincones\, materiales con diferentes texturas y colores. \n¡No te pierdas esta gran experiencia sensorial! \nEsta actividad está dirigida a niños de 1 a 5 años acompañados de un adulto para disfrutar de una tarde de actividades en familia. \nImportante: Este plan se repetirá 2 veces al mes\, en la misma semana\, pero la actividad será la misma y solo puedes apuntarte a uno de ellos para dar espacio a más familias. ¡Gracias por tu colaboración! \nHaz click en el botón «Me apunto» y reserva tu plaza. ¡Recuerda que son limitadas!
URL:https://plangalapagar.es/plan/diver-family-30-de-enero/
LOCATION:Punto Joven\, Guadarrama\, 68\, Galapagar\, Madrid\, 28260
CATEGORIES:Familiares
ATTACH;FMTTYPE=image/jpeg:https://plangalapagar.es/wp-content/uploads/2024/12/DIVERFAMILY_30E.jpg
END:VEVENT
BEGIN:VEVENT
DTSTART;TZID=Europe/Madrid:20250131T173000
DTEND;TZID=Europe/Madrid:20250131T203000
DTSTAMP:20260420T192251
CREATED:20241230T050034Z
LAST-MODIFIED:20241218T180158Z
UID:10000484-1738344600-1738355400@plangalapagar.es
SUMMARY:Viernes en la buhardilla 31 de enero
DESCRIPTION:¡Ven a disfrutar de actividades diseñadas solo para jóvenes! \nTe ofrecemos un espacio exclusivo para ti y jóvenes como tú\, donde disfrutarás de juegos de mesa\, podrás poner tu música\, y también haremos dinámicas divertidas\, bailes y podrás proponer tus propias ideas para las actividades. \n¡Trae tu merienda\, pasa la tarde del viernes sin frío y con muchas risas con amigos! \n¡No te lo pierdas! \nHaz click en el botón «Me apunto» y reserva tu plaza. ¡Recuerda que son limitadas!
URL:https://plangalapagar.es/plan/viernes-en-la-buhardilla-31-de-enero/
LOCATION:Punto Joven\, Guadarrama\, 68\, Galapagar\, Madrid\, 28260
CATEGORIES:Jóvenes
ATTACH;FMTTYPE=image/jpeg:https://plangalapagar.es/wp-content/uploads/2024/12/VIERNES_BUHARDILLA-31E.jpg
END:VEVENT
BEGIN:VEVENT
DTSTART;TZID=Europe/Madrid:20250131T173000
DTEND;TZID=Europe/Madrid:20250131T203000
DTSTAMP:20260420T192251
CREATED:20250127T050043Z
LAST-MODIFIED:20241218T180256Z
UID:10000475-1738344600-1738355400@plangalapagar.es
SUMMARY:Diverteca 31 de enero
DESCRIPTION:¡Llega la actividad «Mandalas de la paz» para los más peques! \nVen el viernes 31 de enero para celebrar el Día de la Paz. Haremos mandalas y diferentes dinámicas colaborativas con valores de paz y respeto. \n¿Te lo vas a perder? \n¡Es gratis y las plazas son limitadas! \nHaz click en el botón «Me apunto» y reserva la tuya.
URL:https://plangalapagar.es/plan/diverteca-31-de-enero/
LOCATION:Punto Joven\, Guadarrama\, 68\, Galapagar\, Madrid\, 28260
CATEGORIES:Infantil
ATTACH;FMTTYPE=image/jpeg:https://plangalapagar.es/wp-content/uploads/2025/01/DV-31E.jpg
END:VEVENT
BEGIN:VEVENT
DTSTART;TZID=Europe/Madrid:20250201T173000
DTEND;TZID=Europe/Madrid:20250201T203000
DTSTAMP:20260420T192251
CREATED:20250127T050058Z
LAST-MODIFIED:20250128T201821Z
UID:10000499-1738431000-1738441800@plangalapagar.es
SUMMARY:Ocio Joven 1 de febrero
DESCRIPTION:¡Llega una nueva actividad para jóvenes! \nEl sábado 1 de febrero tendrá lugar el plan «Malabares y cariocas». Crearemos nuestras cariocas y objetos de malabares y practicaremos con ellos distintos movimientos jugando con el equilibrio y la destreza. \n¡No te pierdas este plan\, es gratis y las plazas son limitadas! \nHaz click en el botón «Me apunto» y reserva la tuya.
URL:https://plangalapagar.es/plan/ocio-joven-1-de-febrero/
LOCATION:Punto Joven\, Guadarrama\, 68\, Galapagar\, Madrid\, 28260
CATEGORIES:Jóvenes
ATTACH;FMTTYPE=image/jpeg:https://plangalapagar.es/wp-content/uploads/2025/01/OJ-01F.jpg
END:VEVENT
END:VCALENDAR