BEGIN:VCALENDAR
VERSION:2.0
PRODID:-//Plan Galapagar - ECPv6.15.20//NONSGML v1.0//EN
CALSCALE:GREGORIAN
METHOD:PUBLISH
X-WR-CALNAME:Plan Galapagar
X-ORIGINAL-URL:https://plangalapagar.es
X-WR-CALDESC:Eventos para Plan Galapagar
REFRESH-INTERVAL;VALUE=DURATION:PT1H
X-Robots-Tag:noindex
X-PUBLISHED-TTL:PT1H
BEGIN:VTIMEZONE
TZID:Europe/Madrid
BEGIN:DAYLIGHT
TZOFFSETFROM:+0100
TZOFFSETTO:+0200
TZNAME:CEST
DTSTART:20230326T010000
END:DAYLIGHT
BEGIN:STANDARD
TZOFFSETFROM:+0200
TZOFFSETTO:+0100
TZNAME:CET
DTSTART:20231029T010000
END:STANDARD
BEGIN:DAYLIGHT
TZOFFSETFROM:+0100
TZOFFSETTO:+0200
TZNAME:CEST
DTSTART:20240331T010000
END:DAYLIGHT
BEGIN:STANDARD
TZOFFSETFROM:+0200
TZOFFSETTO:+0100
TZNAME:CET
DTSTART:20241027T010000
END:STANDARD
BEGIN:DAYLIGHT
TZOFFSETFROM:+0100
TZOFFSETTO:+0200
TZNAME:CEST
DTSTART:20250330T010000
END:DAYLIGHT
BEGIN:STANDARD
TZOFFSETFROM:+0200
TZOFFSETTO:+0100
TZNAME:CET
DTSTART:20251026T010000
END:STANDARD
BEGIN:DAYLIGHT
TZOFFSETFROM:+0100
TZOFFSETTO:+0200
TZNAME:CEST
DTSTART:20260329T010000
END:DAYLIGHT
BEGIN:STANDARD
TZOFFSETFROM:+0200
TZOFFSETTO:+0100
TZNAME:CET
DTSTART:20261025T010000
END:STANDARD
END:VTIMEZONE
BEGIN:VEVENT
DTSTART;TZID=Europe/Madrid:20241202T173000
DTEND;TZID=Europe/Madrid:20250625T190000
DTSTAMP:20260420T192252
CREATED:20241125T050028Z
LAST-MODIFIED:20250320T080416Z
UID:10000425-1733160600-1750878000@plangalapagar.es
SUMMARY:Grupo de deberes
DESCRIPTION:¡Aprende a organizarte con nuestro grupo de deberes! \nPodrás tener tiempo para tus tareas\, un espacio sin distracciones\, con apoyo continuo en todas las dudas que te puedan surgir. Nos juntaremos todos los lunes y miércoles hasta junio (según calendario escolar) de 17:30 a 19:00 horas.  \n*Si solo puedes venir uno de los dos días\, podrás apuntarte un solo día por semana y marcar el elegido en formulario (campo OBSERVACIONES). \n  \n¿Cómo me apunto? \nApúntate\, con la opción «dos días a la semana» o «un solo día» (debes marcarlo en la ficha de inscripción). En el caso de elegir la opción de un solo día\, debes especificar si asistirás los lunes o los miércoles en el campo de OBSERVACIONES del formulario. \nRealiza el pago mediante ingreso en la cuenta de Servicios Psicoeducativos (ES25 3058 1907 0527 2050 5695) de 15€ (dos días) u 8€ (un día) y adjunta la ficha y el justificante de pago a tu inscripción web. \nConfirmación de plaza: La confirmación de plaza se comunicará a través del correo electrónico tras realizar el formulario. \nPara darte de baja en la actividad debes solicitarlo antes del 25 de cada mes al correo desde el que te llega la confirmación de plaza. \nSe harán las devoluciones en caso de no llegar al mínimo de participantes o por causa de fuerza mayor debidamente justificada y previa valoración de la organización. \n¡No te lo pierdas! \nHaz click en el botón «Me apunto» y reserva tu plaza.
URL:https://plangalapagar.es/plan/grupo-de-deberes/
LOCATION:Punto Joven\, Guadarrama\, 68\, Galapagar\, Madrid\, 28260
CATEGORIES:Jóvenes
ATTACH;FMTTYPE=image/jpeg:https://plangalapagar.es/wp-content/uploads/2024/10/GrupoDeberes.jpg
END:VEVENT
BEGIN:VEVENT
DTSTART;TZID=Europe/Madrid:20250125T120000
DTEND;TZID=Europe/Madrid:20250825T150000
DTSTAMP:20260420T192252
CREATED:20241224T055813Z
LAST-MODIFIED:20250829T111907Z
UID:10000492-1737806400-1756134000@plangalapagar.es
SUMMARY:El desafío de las peñas
DESCRIPTION:¿Quieres ser la mejor peña de Galapagar? \n¡No te pierdas este evento competitivo donde\, una vez al mes\, nos reuniremos para enfrentarnos a diferentes desafíos para demostrar cuál es la mejor peña del municipio! \nUna vez inscrito en el plan\, se informará a la peña (vía WhatsApp)  las fechas de cada evento y se explicará en qué consiste exactamente (fecha\, lugar\, indumentaria\, miembros necesarios\, temática del juego…). \nEl primer evento será una orientación por Galapagar que tendrá lugar el 25 de enero de 2025\, y el último será la gran final en septiembre en el Gran Prix. \nNota: Para participar en esta actividad será necesario tener cumplidos los 18 años.  \n  \n¿Cómo me apunto?  \nLa participación es gratuita. Haz click en el botón «Me apunto» y rellena los datos que se solicitan. Deberás adjuntar la solicitud de participación.  \n¡No te lo pierdas! Habrá servicio y premios para las tres primeras peñas!
URL:https://plangalapagar.es/plan/el-desafio-de-las-penas/
LOCATION:Punto Joven\, Guadarrama\, 68\, Galapagar\, Madrid\, 28260
CATEGORIES:Jóvenes
ATTACH;FMTTYPE=image/jpeg:https://plangalapagar.es/wp-content/uploads/2024/12/DESAFIOPENAS.jpg
END:VEVENT
BEGIN:VEVENT
DTSTART;TZID=Europe/Madrid:20250301T090000
DTEND;TZID=Europe/Madrid:20250607T180000
DTSTAMP:20260420T192252
CREATED:20240907T141208Z
LAST-MODIFIED:20251114T112210Z
UID:10000375-1740819600-1749319200@plangalapagar.es
SUMMARY:Curso de monitor de ocio y tiempo libre-2024
DESCRIPTION:¿Tienes entre 17 y 35 años? ¡Entonces este curso está diseñado para ti! \nEl Ayuntamiento de Galapagar (Madrid)\, junto con la Escuela Coeduca\, han puesto en marcha un curso de monitor de ocio y tiempo libre. Los jóvenes que lo realicen podrán conseguir la titulación oficial para trabajar como monitor en toda España. \nTendrá lugar del sábado 1 de marzo al sábado 7 de junio.  \nHabrá sesiones todos los sábados\, excepto el 3 de mayo. También habrá clases los días lectivos de Semana Santa: viernes 11\, lunes 14\, martes 15 y miércoles 16 de abril de 2025.  \nEl horario de sesiones será de 09:00 a 14:00 y de 15:00 a 18:00 horas. El miércoles 16 de abril el horario será de 09:00 a 15:00 horas.  \n  \n¿Cuánto cuesta? \nEl precio es de 198€. \nServicios incluidos: \n\n150 horas de formación que corresponden a la parte teórico-práctica del curso.\nTutor según las normas de la escuela para sus alumnos durante la fase teórico-práctica y la fase práctica.\nSalida de convivencia en Pensión Completa (excepto la comida del primer día) y traslado en autobús.\n\n  \n¿Qué documentación necesito aportar? \nFotocopia del DNI o escaneado\, fotocopia del título de alguna de las titulaciones requeridas y la autorización de menores de edad. \n  \n¿Cómo me apunto?  \nRealiza el pago mediante ingreso en la cuenta de Servicios Psicoeducativos (ES25 3058 1907 0527 2050 5695). \nEn esta web\, con el botón «Me apunto»\, podrás realizar la inscripción online con tus datos. Deberás adjuntar el justificante de pago y la ficha de inscripción que incluye la autorización de menores. \n  \nObservaciones especiales \nTener 17 años cumplidos en la fecha de inicio del curso (1 de marzo de 2025)\, hasta 35 años. \nEstar en posesión de alguna de las siguientes titulaciones: \n\nTítulo de Graduado en ESO o equivalente.\nEstar en posesión de un certificado profesional de nivel 1 de la familia profesional servicios socioculturales y a la comunidad o de una formación profesional básica.\nTener superada la prueba de acceso a ciclo formativo de grado medio o de grado superior.\nTener superada la prueba de acceso a la universidad.\n\n  \nSe harán las devoluciones en caso de no llegar al mínimo de participantes o por causa de fuerza mayor debidamente justificada y previa valoración de la organización \n¡No te lo pierdas! \nHaz click en el botón «Me apunto» antes del 21 de febrero y reserva tu plaza.
URL:https://plangalapagar.es/plan/curso-de-monitor-de-ocio-y-tiempo-libre-2024/
LOCATION:Punto Joven\, Guadarrama\, 68\, Galapagar\, Madrid\, 28260
CATEGORIES:Jóvenes
ATTACH;FMTTYPE=image/jpeg:https://plangalapagar.es/wp-content/uploads/2024/09/MONITOR.jpg
END:VEVENT
BEGIN:VEVENT
DTSTART;TZID=Europe/Madrid:20250303T090000
DTEND;TZID=Europe/Madrid:20250303T140000
DTSTAMP:20260420T192252
CREATED:20250127T050018Z
LAST-MODIFIED:20250224T103506Z
UID:10000512-1740992400-1741010400@plangalapagar.es
SUMMARY:Días sin cole 3 de marzo
DESCRIPTION:  \n¿Tienes entre 3 y 12 años? \nLa Concejalía de Juventud organiza el programa “Días sin cole”\, donde los niños podrán disfrutar de actividades creativas\, manualidades\, juegos en grupo y mucho más\, mientras las familias disponen de un servicio para conciliar su vida laboral y familiar. \nEste plan tendrá lugar el lunes 3 de marzo.  \n¿Qué haremos? \n  \nCreación de Máscaras y Juegos Carnavalescos: Los niños crearán sus propias máscaras de Carnaval usando materiales simples como cartulina\, pinturas y pegatinas. Esta actividad fomenta la creatividad y el trabajo manual. \nTambién habrá actividades como carreras de sacos\, juegos con pelotas y carreras de obstáculos adaptadas a la edad para promover la motricidad gruesa y el trabajo en equipo. \nBaile y Ritmos de Carnaval: Los niños disfrutarán de una actividad de baile libre con música alegre de Carnaval. Aprenderán algunos pasos simples y se divertirán al ritmo de la música\, desarrollando su coordinación y expresión corporal. Al final\, se organizará una mini presentación de baile donde los niños mostrarán lo aprendido. \n  \nHorarios y precios \n  \n\nDe 09:00 a 14:00 horas: 9€ por día.\nAmpliación hasta las 16:00 horas: 5\,50€ por día. (Los participantes deberán traer su comida de casa).\nServicio extra de madrugadores de 08:00 a 09:00 horas: 1\,75€ por día.\n\n  \n¿Cómo me apunto? \nAntes de proceder a la inscripción debes tener el pago realizado\, ya que uno de los datos que te pediremos es el justificante de pago. El abono se hará mediante ingreso en la cuenta de Servicios Psicoeducativos (ES25 3058 1907 0527 2050 5695). \nHaz click en el botón «Me apunto» antes del 23 de febrero y rellena todos los datos que se solicitan. Además del justificante de pago\, deberán adjuntar la ficha de inscripción. \nConfirmación de plaza: La confirmación de plaza se comunicará a través del correo electrónico antes del 24 una vez formalizado el grupo mínimo. \nSe harán las devoluciones en caso de no llegar al mínimo de participantes o por causa de fuerza mayor debidamente justificada y previa valoración de la organización. \nObservaciones especiales: Puedes traer un gorro o sombrero y un chaleco que ya no uses para convertirlo en un disfraz. \n¡No te pierdas este plan!
URL:https://plangalapagar.es/plan/dias-sin-cole-3-de-marzo/
LOCATION:Punto Joven\, Guadarrama\, 68\, Galapagar\, Madrid\, 28260
CATEGORIES:Infantil
ATTACH;FMTTYPE=image/jpeg:https://plangalapagar.es/wp-content/uploads/2025/01/DIAS_SIN_COLE-03M.jpg
END:VEVENT
BEGIN:VEVENT
DTSTART;TZID=Europe/Madrid:20250303T173000
DTEND;TZID=Europe/Madrid:20250331T203000
DTSTAMP:20260420T192252
CREATED:20250301T050023Z
LAST-MODIFIED:20250225T121526Z
UID:10000546-1741023000-1743453000@plangalapagar.es
SUMMARY:Desconecta - Marzo
DESCRIPTION:¡Ven a disfrutar de la Sala de Punto Joven! \nTe ofrecemos este espacio donde puedes disfrutar con amigos en un entorno seguro de la Play 5\, la Wii\, futbolín\, ping-pong\, juegos de mesa y mucho más. \n¡Es una sala creada por y para jóvenes como tú! \nEste plan tendrá lugar de lunes a jueves de 17:30 a 20:30 horas (excepto los días de Diver Family el 25 y 27 de marzo). \n¡Te esperamos! \nHaz click en el botón «Me apunto» y reserva tu plaza. ¡Recuerda que son limitadas!
URL:https://plangalapagar.es/plan/desconecta-marzo/
LOCATION:Punto Joven\, Guadarrama\, 68\, Galapagar\, Madrid\, 28260
CATEGORIES:Jóvenes
ATTACH;FMTTYPE=image/jpeg:https://plangalapagar.es/wp-content/uploads/2025/03/DESCONECTA.jpg
END:VEVENT
BEGIN:VEVENT
DTSTART;VALUE=DATE:20250304
DTEND;VALUE=DATE:20250405
DTSTAMP:20260420T192252
CREATED:20250219T072756Z
LAST-MODIFIED:20250219T072756Z
UID:10000528-1741046400-1743811199@plangalapagar.es
SUMMARY:XXII Circuito de Arte Joven
DESCRIPTION:Si tienes entre 14 y 30 años y posees un espíritu artístico\, no te pierdas la oportunidad de participar en el XXII Circuito de Arte Joven de la Zona Noroeste de la Comunidad de Madrid 2025. \n  \n¿Cuáles son los requisitos?  \n\nParticipantes: Jóvenes de 14 a 30 años que presenten su obra en cualquiera de los municipios a continuación relacionados\, debiendo elegir el más cercano a su lugar de estudios\, residencia o trabajo: Alpedrete\, Collado Villalba\, Colmenarejo\, El Escorial\, Galapagar\, Guadarrama y Torrelodones.\nModalidades artísticas: Aceptamos obras en las modalidades de fotografía\, pintura\, dibujo\, técnica de estampación y escultura. Se admitirán obras en digital siempre y cuando se presenten en formato físico.\nCantidad de obras: Cada participante podrá concurrir con un máximo de tres obras. \n\n  \n¿Cómo participar? \nHaz clic en el botón «Me apunto» y sigue las instrucciones. El plazo de presentación de las obras será desde el 4 de marzo al 4 de abril de 2025. \n  \nLos premios:  \n\nMejor Obra presentada en Galapagar: 250€.\nMejor Obra artista local: 150€.\nTercera Obra seleccionada: 100€.\n\n  \nPremios adicionales del Ayuntamiento de Galapagar: \n\nPremio Junior (14-17 años): 100€ en material artístico.\nPremio Especial (diversidad funcional\, vinculados a Galapagar): 100€ en material artístico.\n\n  \n¿Qué documentación tengo que aportar?  \n\nHoja de inscripción firmada.\nFotocopia del DNI o NIE.\nUna imagen de cada obra en formato JPG en buena resolución (con el título de la obra como nombre de archivo). Mínimo 1 obra\, máximo 3.\nCurriculum artístico.\n\n  \nObservaciones especiales: Las obras se entregarán físicamente en Punto Joven de Galapagar en horario de lunes a viernes de 9:00 a 14:00 y de lunes a sábado de 17:00 a 21:00 horas. Deberán presentarse embaladas y preparadas para ser expuestas. \nPara más información\, consulta las bases del concurso.
URL:https://plangalapagar.es/plan/xxii-circuito-de-arte-joven/
LOCATION:Madrid
CATEGORIES:Jóvenes
ATTACH;FMTTYPE=image/jpeg:https://plangalapagar.es/wp-content/uploads/2025/02/ARTEJOVEN.jpg
END:VEVENT
BEGIN:VEVENT
DTSTART;TZID=Europe/Madrid:20250306T180000
DTEND;TZID=Europe/Madrid:20250306T200000
DTSTAMP:20260420T192252
CREATED:20250224T050017Z
LAST-MODIFIED:20250225T121622Z
UID:10000549-1741284000-1741291200@plangalapagar.es
SUMMARY:Información juvenil 6 de marzo
DESCRIPTION:¿Te has enterado de que ya está en marcha la XXII convocatoria del circuito de Arte Joven? \nHasta el 4 de abril puedes traer tu obra de arte (fotografía\, pintura\, dibujo\, técnicas de estampación y escultura) e informarte de las bases. Si aún no te has presentado a ninguna convocatoria\, ¡este es el momento de empezar a trabajar en tu proyecto artístico! \n¡Anímate a participar! \n¡Ven al servicio de información juvenil y entérate de todo! \n¡No te lo pierdas\, es gratis y las plazas son limitadas! \nHaz click en el botón «Me apunto» y reserva la tuya.
URL:https://plangalapagar.es/plan/informacion-juvenil-6-de-marzo/
LOCATION:Punto Joven\, Guadarrama\, 68\, Galapagar\, Madrid\, 28260
CATEGORIES:Jóvenes
ATTACH;FMTTYPE=image/jpeg:https://plangalapagar.es/wp-content/uploads/2025/02/INFOJUVENIL_6m.jpg
END:VEVENT
BEGIN:VEVENT
DTSTART;TZID=Europe/Madrid:20250307T173000
DTEND;TZID=Europe/Madrid:20250307T203000
DTSTAMP:20260420T192252
CREATED:20250301T050019Z
LAST-MODIFIED:20250225T121727Z
UID:10000547-1741368600-1741379400@plangalapagar.es
SUMMARY:Viernes en la buhardilla 7 de marzo
DESCRIPTION:¡Ven a disfrutar de actividades diseñadas solo para jóvenes! \nEste plan reúne dinámicas divertidas que combinan estrategia\, creatividad y destreza\, ideales para compartir en grupo y fomentar la interacción. \nEl viernes 7 de marzo pasaremos una tarde muy divertida con juegos de mesa. ¿Qué tal una partida de Virus\, Pueblo duerme\, Kaleidos\, Uno\, ajedrez\, parchís\, gestos\, ¿Quién soy? \n¡No te lo pierdas! \nHaz click en el botón «Me apunto» y reserva tu plaza. ¡Recuerda que son limitadas!
URL:https://plangalapagar.es/plan/viernes-en-la-buhardilla-7-de-marzo/
LOCATION:Punto Joven\, Guadarrama\, 68\, Galapagar\, Madrid\, 28260
CATEGORIES:Jóvenes
ATTACH;FMTTYPE=image/jpeg:https://plangalapagar.es/wp-content/uploads/2025/03/VIERNES_BUHARDILLA-7M.jpg
END:VEVENT
BEGIN:VEVENT
DTSTART;TZID=Europe/Madrid:20250307T173000
DTEND;TZID=Europe/Madrid:20250307T203000
DTSTAMP:20260420T192252
CREATED:20250303T050023Z
LAST-MODIFIED:20250225T121840Z
UID:10000533-1741368600-1741379400@plangalapagar.es
SUMMARY:Diverteca 7 de marzo
DESCRIPTION:¡Nueva actividad para los peques! \nEl viernes 7 de marzo tendrá lugar la actividad «Arte entre todos». Aprendemos a colaborar y trabajar en equipo creando un mural decorativo con elementos plásticos dando rienda suelta a nuestra creatividad. \n¿Te lo vas a perder? \n¡Es gratis y las plazas son limitadas! \nHaz click en el botón «Me apunto» y reserva la tuya.
URL:https://plangalapagar.es/plan/diverteca-7-de-marzo/
LOCATION:Punto Joven\, Guadarrama\, 68\, Galapagar\, Madrid\, 28260
CATEGORIES:Infantil
ATTACH;FMTTYPE=image/jpeg:https://plangalapagar.es/wp-content/uploads/2025/03/DV-7M.jpg
END:VEVENT
BEGIN:VEVENT
DTSTART;TZID=Europe/Madrid:20250308T173000
DTEND;TZID=Europe/Madrid:20250308T203000
DTSTAMP:20260420T192252
CREATED:20250224T050006Z
LAST-MODIFIED:20250225T121950Z
UID:10000540-1741455000-1741465800@plangalapagar.es
SUMMARY:Ocio Joven 8 de marzo
DESCRIPTION:¡Nuevo plan de Ocio Joven! \nEl sábado 8 de marzo habrá un taller creativo de accesorios. Crea tu complemento o adorno con nudos e hilos. Trae tu figura\, piedra o recuerdo favorito para poder integrarlo en tu manualidad y convertirlo en un objeto único. \n¡No te pierdas este plan\, es gratis y las plazas son limitadas! \nHaz click en el botón «Me apunto» y reserva la tuya.
URL:https://plangalapagar.es/plan/ocio-joven-8-de-marzo/
LOCATION:Punto Joven\, Guadarrama\, 68\, Galapagar\, Madrid\, 28260
CATEGORIES:Jóvenes
ATTACH;FMTTYPE=image/jpeg:https://plangalapagar.es/wp-content/uploads/2025/02/OJ-8M.jpg
END:VEVENT
END:VCALENDAR