BEGIN:VCALENDAR
VERSION:2.0
PRODID:-//Plan Galapagar - ECPv6.15.20//NONSGML v1.0//EN
CALSCALE:GREGORIAN
METHOD:PUBLISH
X-WR-CALNAME:Plan Galapagar
X-ORIGINAL-URL:https://plangalapagar.es
X-WR-CALDESC:Eventos para Plan Galapagar
REFRESH-INTERVAL;VALUE=DURATION:PT1H
X-Robots-Tag:noindex
X-PUBLISHED-TTL:PT1H
BEGIN:VTIMEZONE
TZID:Europe/Madrid
BEGIN:DAYLIGHT
TZOFFSETFROM:+0100
TZOFFSETTO:+0200
TZNAME:CEST
DTSTART:20230326T010000
END:DAYLIGHT
BEGIN:STANDARD
TZOFFSETFROM:+0200
TZOFFSETTO:+0100
TZNAME:CET
DTSTART:20231029T010000
END:STANDARD
BEGIN:DAYLIGHT
TZOFFSETFROM:+0100
TZOFFSETTO:+0200
TZNAME:CEST
DTSTART:20240331T010000
END:DAYLIGHT
BEGIN:STANDARD
TZOFFSETFROM:+0200
TZOFFSETTO:+0100
TZNAME:CET
DTSTART:20241027T010000
END:STANDARD
BEGIN:DAYLIGHT
TZOFFSETFROM:+0100
TZOFFSETTO:+0200
TZNAME:CEST
DTSTART:20250330T010000
END:DAYLIGHT
BEGIN:STANDARD
TZOFFSETFROM:+0200
TZOFFSETTO:+0100
TZNAME:CET
DTSTART:20251026T010000
END:STANDARD
BEGIN:DAYLIGHT
TZOFFSETFROM:+0100
TZOFFSETTO:+0200
TZNAME:CEST
DTSTART:20260329T010000
END:DAYLIGHT
BEGIN:STANDARD
TZOFFSETFROM:+0200
TZOFFSETTO:+0100
TZNAME:CET
DTSTART:20261025T010000
END:STANDARD
END:VTIMEZONE
BEGIN:VEVENT
DTSTART;TZID=Europe/Madrid:20241202T173000
DTEND;TZID=Europe/Madrid:20250625T190000
DTSTAMP:20260420T145706
CREATED:20241125T050028Z
LAST-MODIFIED:20250320T080416Z
UID:10000425-1733160600-1750878000@plangalapagar.es
SUMMARY:Grupo de deberes
DESCRIPTION:¡Aprende a organizarte con nuestro grupo de deberes! \nPodrás tener tiempo para tus tareas\, un espacio sin distracciones\, con apoyo continuo en todas las dudas que te puedan surgir. Nos juntaremos todos los lunes y miércoles hasta junio (según calendario escolar) de 17:30 a 19:00 horas.  \n*Si solo puedes venir uno de los dos días\, podrás apuntarte un solo día por semana y marcar el elegido en formulario (campo OBSERVACIONES). \n  \n¿Cómo me apunto? \nApúntate\, con la opción «dos días a la semana» o «un solo día» (debes marcarlo en la ficha de inscripción). En el caso de elegir la opción de un solo día\, debes especificar si asistirás los lunes o los miércoles en el campo de OBSERVACIONES del formulario. \nRealiza el pago mediante ingreso en la cuenta de Servicios Psicoeducativos (ES25 3058 1907 0527 2050 5695) de 15€ (dos días) u 8€ (un día) y adjunta la ficha y el justificante de pago a tu inscripción web. \nConfirmación de plaza: La confirmación de plaza se comunicará a través del correo electrónico tras realizar el formulario. \nPara darte de baja en la actividad debes solicitarlo antes del 25 de cada mes al correo desde el que te llega la confirmación de plaza. \nSe harán las devoluciones en caso de no llegar al mínimo de participantes o por causa de fuerza mayor debidamente justificada y previa valoración de la organización. \n¡No te lo pierdas! \nHaz click en el botón «Me apunto» y reserva tu plaza.
URL:https://plangalapagar.es/plan/grupo-de-deberes/
LOCATION:Punto Joven\, Guadarrama\, 68\, Galapagar\, Madrid\, 28260
CATEGORIES:Jóvenes
ATTACH;FMTTYPE=image/jpeg:https://plangalapagar.es/wp-content/uploads/2024/10/GrupoDeberes.jpg
END:VEVENT
BEGIN:VEVENT
DTSTART;TZID=Europe/Madrid:20250125T120000
DTEND;TZID=Europe/Madrid:20250825T150000
DTSTAMP:20260420T145706
CREATED:20241224T055813Z
LAST-MODIFIED:20250829T111907Z
UID:10000492-1737806400-1756134000@plangalapagar.es
SUMMARY:El desafío de las peñas
DESCRIPTION:¿Quieres ser la mejor peña de Galapagar? \n¡No te pierdas este evento competitivo donde\, una vez al mes\, nos reuniremos para enfrentarnos a diferentes desafíos para demostrar cuál es la mejor peña del municipio! \nUna vez inscrito en el plan\, se informará a la peña (vía WhatsApp)  las fechas de cada evento y se explicará en qué consiste exactamente (fecha\, lugar\, indumentaria\, miembros necesarios\, temática del juego…). \nEl primer evento será una orientación por Galapagar que tendrá lugar el 25 de enero de 2025\, y el último será la gran final en septiembre en el Gran Prix. \nNota: Para participar en esta actividad será necesario tener cumplidos los 18 años.  \n  \n¿Cómo me apunto?  \nLa participación es gratuita. Haz click en el botón «Me apunto» y rellena los datos que se solicitan. Deberás adjuntar la solicitud de participación.  \n¡No te lo pierdas! Habrá servicio y premios para las tres primeras peñas!
URL:https://plangalapagar.es/plan/el-desafio-de-las-penas/
LOCATION:Punto Joven\, Guadarrama\, 68\, Galapagar\, Madrid\, 28260
CATEGORIES:Jóvenes
ATTACH;FMTTYPE=image/jpeg:https://plangalapagar.es/wp-content/uploads/2024/12/DESAFIOPENAS.jpg
END:VEVENT
BEGIN:VEVENT
DTSTART;TZID=Europe/Madrid:20250301T090000
DTEND;TZID=Europe/Madrid:20250607T180000
DTSTAMP:20260420T145706
CREATED:20240907T141208Z
LAST-MODIFIED:20251114T112210Z
UID:10000375-1740819600-1749319200@plangalapagar.es
SUMMARY:Curso de monitor de ocio y tiempo libre-2024
DESCRIPTION:¿Tienes entre 17 y 35 años? ¡Entonces este curso está diseñado para ti! \nEl Ayuntamiento de Galapagar (Madrid)\, junto con la Escuela Coeduca\, han puesto en marcha un curso de monitor de ocio y tiempo libre. Los jóvenes que lo realicen podrán conseguir la titulación oficial para trabajar como monitor en toda España. \nTendrá lugar del sábado 1 de marzo al sábado 7 de junio.  \nHabrá sesiones todos los sábados\, excepto el 3 de mayo. También habrá clases los días lectivos de Semana Santa: viernes 11\, lunes 14\, martes 15 y miércoles 16 de abril de 2025.  \nEl horario de sesiones será de 09:00 a 14:00 y de 15:00 a 18:00 horas. El miércoles 16 de abril el horario será de 09:00 a 15:00 horas.  \n  \n¿Cuánto cuesta? \nEl precio es de 198€. \nServicios incluidos: \n\n150 horas de formación que corresponden a la parte teórico-práctica del curso.\nTutor según las normas de la escuela para sus alumnos durante la fase teórico-práctica y la fase práctica.\nSalida de convivencia en Pensión Completa (excepto la comida del primer día) y traslado en autobús.\n\n  \n¿Qué documentación necesito aportar? \nFotocopia del DNI o escaneado\, fotocopia del título de alguna de las titulaciones requeridas y la autorización de menores de edad. \n  \n¿Cómo me apunto?  \nRealiza el pago mediante ingreso en la cuenta de Servicios Psicoeducativos (ES25 3058 1907 0527 2050 5695). \nEn esta web\, con el botón «Me apunto»\, podrás realizar la inscripción online con tus datos. Deberás adjuntar el justificante de pago y la ficha de inscripción que incluye la autorización de menores. \n  \nObservaciones especiales \nTener 17 años cumplidos en la fecha de inicio del curso (1 de marzo de 2025)\, hasta 35 años. \nEstar en posesión de alguna de las siguientes titulaciones: \n\nTítulo de Graduado en ESO o equivalente.\nEstar en posesión de un certificado profesional de nivel 1 de la familia profesional servicios socioculturales y a la comunidad o de una formación profesional básica.\nTener superada la prueba de acceso a ciclo formativo de grado medio o de grado superior.\nTener superada la prueba de acceso a la universidad.\n\n  \nSe harán las devoluciones en caso de no llegar al mínimo de participantes o por causa de fuerza mayor debidamente justificada y previa valoración de la organización \n¡No te lo pierdas! \nHaz click en el botón «Me apunto» antes del 21 de febrero y reserva tu plaza.
URL:https://plangalapagar.es/plan/curso-de-monitor-de-ocio-y-tiempo-libre-2024/
LOCATION:Punto Joven\, Guadarrama\, 68\, Galapagar\, Madrid\, 28260
CATEGORIES:Jóvenes
ATTACH;FMTTYPE=image/jpeg:https://plangalapagar.es/wp-content/uploads/2024/09/MONITOR.jpg
END:VEVENT
BEGIN:VEVENT
DTSTART;TZID=Europe/Madrid:20250602T173000
DTEND;TZID=Europe/Madrid:20250630T203000
DTSTAMP:20260420T145706
CREATED:20250526T040032Z
LAST-MODIFIED:20250626T142928Z
UID:10000609-1748885400-1751315400@plangalapagar.es
SUMMARY:Desconecta - Junio
DESCRIPTION:¿Tienes entre 10 y 17 años? \n¡Ven a disfrutar de la Sala de Punto Joven! \nTe ofrecemos este espacio donde puedes compartir\, divertirte y disfrutar con amigos en un ambiente de compañerismo y buen rollo.  Aquí encontrarás la Play 5\, la Wii\, futbolín\, ping-pong\, juegos de mesa y mucho más. \nRecuerda que el respeto y la convivencia son clave: todos tenemos nuestro turno para jugar y pasarlo bien juntos. \n¡Es una sala creada por y para jóvenes como tú! \nEste plan tendrá lugar de lunes a jueves de 17:30 a 20:30 horas (excepto los días de Diver Family 17 y 19 de junio)\, y el viernes 27 y sábado 28 de junio.  \n¡Te esperamos! \nHaz click en el botón «Me apunto» y reserva tu plaza. ¡Recuerda que son limitadas!
URL:https://plangalapagar.es/plan/desconecta-junio/
LOCATION:Punto Joven\, Guadarrama\, 68\, Galapagar\, Madrid\, 28260
CATEGORIES:Jóvenes
ATTACH;FMTTYPE=image/jpeg:https://plangalapagar.es/wp-content/uploads/2025/05/DESCONECTA.jpg
END:VEVENT
BEGIN:VEVENT
DTSTART;TZID=Europe/Madrid:20250604T180000
DTEND;TZID=Europe/Madrid:20250604T200000
DTSTAMP:20260420T145706
CREATED:20250526T040023Z
LAST-MODIFIED:20250526T122233Z
UID:10000612-1749060000-1749067200@plangalapagar.es
SUMMARY:Información juvenil 4 de junio
DESCRIPTION:¿Tienes entre 14 y 30 años? \n¡No te pierdas el plan «Emancipación juvenil: Recursos y ayudas para independizarse».  \n¿Estás pensando en independizarte? Te contamos todo sobre las ayudas al alquiler\, opciones de vivienda compartida y recursos para jóvenes que buscan dar el salto a la vida independiente. \nEn Punto Joven te ofrecemos información fiable y actualizada para que tomes decisiones informadas sobre tu futuro. ¡Ven y resuelve tus dudas! \nErasmus +: Conoce el programa de la UE que respalda la educación\, la formación\, la juventud y el deporte en Europa. Descubre este fenómeno cultural y social que puede cambiar tu vida. \n¡No te lo pierdas\, es gratis y las plazas son limitadas! \nHaz click en el botón «Me apunto» y reserva la tuya.
URL:https://plangalapagar.es/plan/informacion-juvenil-4-de-junio/
LOCATION:Punto Joven\, Guadarrama\, 68\, Galapagar\, Madrid\, 28260
CATEGORIES:Jóvenes
ATTACH;FMTTYPE=image/jpeg:https://plangalapagar.es/wp-content/uploads/2025/05/INFOJUVENIL_4J.jpg
END:VEVENT
BEGIN:VEVENT
DTSTART;TZID=Europe/Madrid:20250606T173000
DTEND;TZID=Europe/Madrid:20250606T203000
DTSTAMP:20260420T145706
CREATED:20250602T040024Z
LAST-MODIFIED:20250526T122342Z
UID:10000604-1749231000-1749241800@plangalapagar.es
SUMMARY:Diverteca 6 de junio
DESCRIPTION:¡Nuevo plan para los peques de la casa! \nEl viernes 6 de junio tendrá lugar la actividad «Laboratorio de los sentidos». Despierta tu curiosidad y pon a prueba tus sentidos en este laboratorio lleno de desafíos. A través de experimentos y retos\, descubrirás secretos ocultos en el tacto\, el oído\, el olfato y la vista. \n¿Podrás superar cada prueba y convertirte en un verdadero explorador sensorial? \n¡No te lo pierdas\, es gratis y las plazas son limitadas! \nHaz click en el botón «Me apunto» y reserva la tuya.
URL:https://plangalapagar.es/plan/diverteca-6-de-junio/
LOCATION:Punto Joven\, Guadarrama\, 68\, Galapagar\, Madrid\, 28260
CATEGORIES:Infantil
ATTACH;FMTTYPE=image/jpeg:https://plangalapagar.es/wp-content/uploads/2025/06/DV-6J.jpg
END:VEVENT
BEGIN:VEVENT
DTSTART;TZID=Europe/Madrid:20250606T180000
DTEND;TZID=Europe/Madrid:20250606T203000
DTSTAMP:20260420T145706
CREATED:20250526T040044Z
LAST-MODIFIED:20250526T122509Z
UID:10000614-1749232800-1749241800@plangalapagar.es
SUMMARY:Sala Pixel 6 de junio
DESCRIPTION:¿Tienes entre 10 y 17 años? ¡No te pierdas nuestra Sala Pixel! \nUna tarde de cine\, buen ambiente y debate. Elegiremos juntos la película\, disfrutaremos de unas palomitas (¡puedes traer tu merienda!) y\, al final\, charlaremos sobre los personajes\, sus historias y cómo conectan con nuestras propias experiencias. \n¡Tú decides la peli\, nosotros ponemos el espacio! \n¿Te lo vas a perder? \nRecuerda que este plan es gratis y las plazas son limitadas. \nHaz click en el botón «Me apunto» y reserva la tuya.
URL:https://plangalapagar.es/plan/sala-pixel-6-de-junio/
LOCATION:Punto Joven\, Guadarrama\, 68\, Galapagar\, Madrid\, 28260
CATEGORIES:Jóvenes
ATTACH;FMTTYPE=image/jpeg:https://plangalapagar.es/wp-content/uploads/2025/05/SALAPIXEL.jpg
END:VEVENT
BEGIN:VEVENT
DTSTART;TZID=Europe/Madrid:20250607T173000
DTEND;TZID=Europe/Madrid:20250607T203000
DTSTAMP:20260420T145706
CREATED:20250526T040042Z
LAST-MODIFIED:20250526T122624Z
UID:10000610-1749317400-1749328200@plangalapagar.es
SUMMARY:Ocio Joven 7 de junio
DESCRIPTION:¡Nuevo plan de Ocio Joven! \nEl sábado 7 de junio tendrá lugar la actividad «Tarde de arte y descubrimiento en el Parque del Toril». \nTe invitamos a una experiencia única donde combinaremos la creatividad artística con la exploración histórica en el encantador Parque del Toril. \n  \n¿Qué haremos?  \n\nPintura al aire libre: Capturaremos la belleza del entorno natural en lienzos\, inspirándonos en los paisajes que nos rodean. No es necesario ser un artista experimentado\, lo importante es expresar nuestra visión y disfrutar del proceso creativo.\nExploración de la calzada romana: Descubriremos juntos un tramo de la antigua Vía XXIV Antonina\, una calzada romana del siglo III d.C. que atraviesa nuestro municipio. Este camino histórico\, que conectaba importantes ciudades del Imperio Romano\, pasa por lugares emblemáticos como El Guijo y El Toril.\n\nEl lugar de partida es Punto Joven. \nRecomendaciones: \n\nTrae ropa cómoda y que puedas manchar durante la actividad de pintura.\nAunque proporcionaremos materiales básicos\, si tienes pinceles o pinturas favoritas\, ¡no dudes en traerlas!\nNo olvides una botella de agua y protección solar.\n\n  \n¡No te pierdas este plan\, es gratis y las plazas son limitadas! \nHaz click en el botón «Me apunto» y reserva la tuya.
URL:https://plangalapagar.es/plan/ocio-joven-7-de-junio/
LOCATION:Punto Joven\, Guadarrama\, 68\, Galapagar\, Madrid\, 28260
CATEGORIES:Jóvenes
ATTACH;FMTTYPE=image/jpeg:https://plangalapagar.es/wp-content/uploads/2025/05/OJ-7J.jpg
END:VEVENT
END:VCALENDAR