BEGIN:VCALENDAR
VERSION:2.0
PRODID:-//Plan Galapagar - ECPv6.15.20//NONSGML v1.0//EN
CALSCALE:GREGORIAN
METHOD:PUBLISH
X-WR-CALNAME:Plan Galapagar
X-ORIGINAL-URL:https://plangalapagar.es
X-WR-CALDESC:Eventos para Plan Galapagar
REFRESH-INTERVAL;VALUE=DURATION:PT1H
X-Robots-Tag:noindex
X-PUBLISHED-TTL:PT1H
BEGIN:VTIMEZONE
TZID:Europe/Madrid
BEGIN:DAYLIGHT
TZOFFSETFROM:+0100
TZOFFSETTO:+0200
TZNAME:CEST
DTSTART:20240331T010000
END:DAYLIGHT
BEGIN:STANDARD
TZOFFSETFROM:+0200
TZOFFSETTO:+0100
TZNAME:CET
DTSTART:20241027T010000
END:STANDARD
BEGIN:DAYLIGHT
TZOFFSETFROM:+0100
TZOFFSETTO:+0200
TZNAME:CEST
DTSTART:20250330T010000
END:DAYLIGHT
BEGIN:STANDARD
TZOFFSETFROM:+0200
TZOFFSETTO:+0100
TZNAME:CET
DTSTART:20251026T010000
END:STANDARD
BEGIN:DAYLIGHT
TZOFFSETFROM:+0100
TZOFFSETTO:+0200
TZNAME:CEST
DTSTART:20260329T010000
END:DAYLIGHT
BEGIN:STANDARD
TZOFFSETFROM:+0200
TZOFFSETTO:+0100
TZNAME:CET
DTSTART:20261025T010000
END:STANDARD
END:VTIMEZONE
BEGIN:VEVENT
DTSTART;TZID=Europe/Madrid:20250125T120000
DTEND;TZID=Europe/Madrid:20250825T150000
DTSTAMP:20260420T145648
CREATED:20241224T055813Z
LAST-MODIFIED:20250829T111907Z
UID:10000492-1737806400-1756134000@plangalapagar.es
SUMMARY:El desafío de las peñas
DESCRIPTION:¿Quieres ser la mejor peña de Galapagar? \n¡No te pierdas este evento competitivo donde\, una vez al mes\, nos reuniremos para enfrentarnos a diferentes desafíos para demostrar cuál es la mejor peña del municipio! \nUna vez inscrito en el plan\, se informará a la peña (vía WhatsApp)  las fechas de cada evento y se explicará en qué consiste exactamente (fecha\, lugar\, indumentaria\, miembros necesarios\, temática del juego…). \nEl primer evento será una orientación por Galapagar que tendrá lugar el 25 de enero de 2025\, y el último será la gran final en septiembre en el Gran Prix. \nNota: Para participar en esta actividad será necesario tener cumplidos los 18 años.  \n  \n¿Cómo me apunto?  \nLa participación es gratuita. Haz click en el botón «Me apunto» y rellena los datos que se solicitan. Deberás adjuntar la solicitud de participación.  \n¡No te lo pierdas! Habrá servicio y premios para las tres primeras peñas!
URL:https://plangalapagar.es/plan/el-desafio-de-las-penas/
LOCATION:Punto Joven\, Guadarrama\, 68\, Galapagar\, Madrid\, 28260
CATEGORIES:Jóvenes
ATTACH;FMTTYPE=image/jpeg:https://plangalapagar.es/wp-content/uploads/2024/12/DESAFIOPENAS.jpg
END:VEVENT
BEGIN:VEVENT
DTSTART;TZID=Europe/Madrid:20250625T080000
DTEND;TZID=Europe/Madrid:20250713T120000
DTSTAMP:20260420T145648
CREATED:20250626T141218Z
LAST-MODIFIED:20250626T141218Z
UID:10000627-1750838400-1752408000@plangalapagar.es
SUMMARY:Festival de grupos jóvenes
DESCRIPTION:El Ayuntamiento de Galapagar\, a través de su Concejalía de Juventud\, organiza el festival de grupos jóvenes con el objetivo de promocionar la música juvenil\, ofreciendo un espacio a artistas solistas y bandas jóvenes nóveles y que puedan tener la oportunidad de dar a conocer su trabajo y promocionar los diversos estilos de música que realizan. \nPodrán participar en el festival solistas y grupos de música jóvenes de entre 14 y 35 años. Para optar al premio «Mejor solista/grupo local» será necesario que al menos una de las personas esté empadronada en Galapagar. Las personas participantes no pueden estar sujetas a ningún tipo de contrato discográfico. \nCada solista o grupo deberá presentar un vídeo con su trabajo\, totalmente propio\, admitiéndose trabajos originales y/o versiones. \nNo se admitirá ningún trabajo que incluya contenidos xenófobos\, racistas\, homófobos\, difamatorios o que inciten a cualquier tipo de discriminación o violencia. \n¿Cómo me inscribo?  \nPuedes apuntarte rellenando el formulario con el botón «Me apunto». Antes de darle\, aségurate que tienes toda la documentación que se te va a pedir. Para ello\, te dejamos en este listado: \n\nDescarga el formulario de inscripción\, deberás rellenarlo y escanearlo en PDF para poder subirlo luego.\nDeberás crear un PDF con la biografía del grupo o solista. Describe tu grupo y lo que hacéis\, influencias\, tipo de música\, cuándo os formasteis o lo que te parezca interesante. Exporta eso en un PDF para poder subirlo luego.\nTen preparada una fotografía del grupo o artista para subir.\nDeberás preparar un vídeo presentación\, grabado en formato horizontal. Puedes grabarlo con el móvil o con una cámara. Luego\, súbelo a cualquier plataforma como YouTube o Video\, necesitaremos el enlace para poder verlo. También nos puedes enviar directamente el vídeo subiéndolo a una plataforma de intercambio de archivos como Dropbox o Wetransfer.\nSi hay menores de edad\, deberás descargar esta Autorización expresa para los menores de edad\, rellenarla y escanearla para adjuntarla también en el formulario.\n\nUna vez que tengas toda la documentación lista\, puedes darle al botón «Me apunto» y rellenar el formulario de la siguiente forma\, te explicamos qué adjuntar en cada campo: \n\nNombre del grupo: -> El nombre de tu grupo o del artista.\nNombre y apellido de la persona de contacto: -> La persona con la que contactaremos.\nTeléfono de contacto:->  El teléfono de la persona de contacto.\nEmail:-> Correo de la persona de contacto.\nCV del artista -> Sube un PDF con la biografía de tu grupo o artista.\nFoto1 -> Sube aquí una fotografía o logo del grupo/artista.\nObservaciones -> Enlace del vídeo del grupo (enlace de YouTube o de WeTransfer con el vídeo).\nFormulario de inscripción -> Adjunta la “Solicitud de participación” rellena.\nOtros documentos -> Adjunto el documento de Autorización de menores (si corresponde).\n\n  \nEl Ayuntamiento emitirá acuse de recibo de dicho correo electrónico a todo participante. De no llegarle dicho acuse\, la solicitud de participación no habrá sido correctamente recibida. \nEl plazo de presentación será desde el día siguiente de su publicación en la sede electrónica del Ayuntamiento de Galapagar hasta el 13 de julio de 2025. \nUna vez acabado el plazo de presentación\, un jurado formado al efecto realizará una primera selección de 5 solistas/grupos que participarán en el festival\, atendiendo a criterios de técnica instrumental\, composición\, calidad y creatividad. \nEl 6 de septiembre\, el Ayuntamiento de Galapagar organizará el festival de grupos jóvenes con las personas/grupos seleccionados. \nFinalmente\, tras la celebración del evento\, un jurado formado por especialistas en música seleccionará dos mejores grupos/solistas: Mejor grupo/solista Joven y Mejor grupo/solista de Galapagar. \nLos dos primeros premios actuarán en un segundo concierto que se celebrará 15 de septiembre abriendo el concierto de un grupo profesional. \nAdemás\, la Concejalía de Juventud otorgará entre sus participantes los siguientes premios en metálico: \n\nPrimer premio «Mejor solista/grupo Joven»: 290 €.\nSegundo premio «Mejor solista/grupo Joven de Galapagar»: 260 €.\nTercer premio: 240 €.\nCuarto premio: 210 €.\nQuinto premio: 200 €.\n\nSi el jurado así lo decidiese\, los premios podrán ser declarados desiertos. \nHaz click aquí y consulta las bases.
URL:https://plangalapagar.es/plan/festival-de-grupos-jovenes-2/
LOCATION:Punto Joven\, Guadarrama\, 68\, Galapagar\, Madrid\, 28260
CATEGORIES:Jóvenes
ATTACH;FMTTYPE=image/jpeg:https://plangalapagar.es/wp-content/uploads/2025/06/FESTIVALGRUPOS.jpg
END:VEVENT
BEGIN:VEVENT
DTSTART;TZID=Europe/Madrid:20250701T180000
DTEND;TZID=Europe/Madrid:20250731T203000
DTSTAMP:20260420T145648
CREATED:20250702T145043Z
LAST-MODIFIED:20250702T145043Z
UID:10000628-1751392800-1753993800@plangalapagar.es
SUMMARY:Desconecta - Julio
DESCRIPTION:¿Tienes entre 10 y 17 años? \n¡Ven a disfrutar de la Sala de Punto Joven! \nTe ofrecemos este espacio donde puedes compartir\, divertirte y disfrutar con amigos. Aquí encontrarás la Play 5\, la Wii\, futbolín\, ping-pong\, juegos de mesa y mucho más. \nRecuerda que el respeto y la convivencia son clave: todos tenemos nuestro turno para jugar y pasarlo bien juntos. \n¡Es una sala creada por y para jóvenes como tú! \nVen solo\, con colegas o a conocer gente nueva. \nEste plan tendrá lugar de martes a sábado de 18:00 a 20:30 horas.  \n¡Te esperamos! \nHaz click en el botón «Me apunto» y reserva tu plaza. ¡Recuerda que son limitadas!
URL:https://plangalapagar.es/plan/desconecta-julio/
LOCATION:Punto Joven\, Guadarrama\, 68\, Galapagar\, Madrid\, 28260
CATEGORIES:Jóvenes
ATTACH;FMTTYPE=image/jpeg:https://plangalapagar.es/wp-content/uploads/2025/06/DESCONECTA.jpg
END:VEVENT
BEGIN:VEVENT
DTSTART;TZID=Europe/Madrid:20250707T090000
DTEND;TZID=Europe/Madrid:20250711T140000
DTSTAMP:20260420T145648
CREATED:20250603T123250Z
LAST-MODIFIED:20250624T232048Z
UID:10000618-1751878800-1752242400@plangalapagar.es
SUMMARY:Campamento urbano 7 - 11 de julio
DESCRIPTION:¿Tienes entre 3 y 11 años? \nLa Concejalía de Juventud organizan un campamento urbano infantil donde poder disfrutar de actividades de agua\, deportes\, manualidades\, juegos en grupo y mucho más\, mientras las familias disponen de un servicio para conciliar su vida laboral y familiar. \nDesde el 23 de junio al 1 de agosto\, con periodos de inscripción por semanas\, ¡no te pierdas este emocionante campamento con semanas temáticas como “Piratas – piratescos”\, “Animales famosos”\, “Villanos de dibujos”\, “Superhéroes” y mucho más! \nEste plan corresponde a la semana del 7 al 11 de julio y la temática será “Minecraft”. \n  \nHorario \n\nDe 9:00 a 14:00 horas sin servicio de comedor: 26 € a la semana.\nAñadir servicio de comedor de 14:00 a 16:00 horas: Deben traer su comida de casa: 20 € a la semana.\nAñadir servicio extra de madrugadores de 8:00 a 9:00 horas: 9 € a la semana.\n\n  \n¿Qué debo traer? \n  \n\nAsistir con ropa cómoda y deportiva\, crema solar puesta y gorra.\nTraer una mochila con almuerzo de media mañana (preferentemente saludable)\, agua y crema solar. Los más pequeños pueden incluir ropa de cambio por si hay algún escape excepcional.\nLos días que haya actividad de agua les avisaremos para que puedan traer toalla\, chanclas de atar\, bañador puesto y ropa de cambio.\n\n  \n¿Cómo me apunto? \n  \n\nAccede a la web de Juventud plangalapagar.es para la inscripción en la actividad.\nAsegúrate de proporcionar correctamente todos los datos que se solicitan en el formulario\, especialmente el correo electrónico\, ya que todas las comunicaciones\, incluida la confirmación de plaza\, te llegará a este correo.\nSigue las instrucciones en la página web\, asegurándote de completar todos los campos requeridos y adjuntar la documentación solicitada:\n\nFicha de inscripción cumplimentada y firmada por padre/madre/tutor (puedes adjuntar la misma cada semana que te apuntes).\nJustificante médico (si fuera necesario).\nUn justificante de pago por cada semana contratada (acorde a los servicios marcados en la ficha de inscripción).\nEl importe deberá ser ingresado en la cuenta de Servicios Psicoeducativos (ES25 3058 1907 0527 2050 5695).\n\n\n\n\nUna vez revisada la documentación\, nos pondremos en contacto contigo si se detecta algún problema o se necesita más información.\nNos reservamos el derecho de dar de baja a un participante si no cumple con los requisitos o representa un riesgo para la actividad y sus participantes.\n\n  \nDevoluciones: Se procederá a devolver el importe en caso de que alguna semana o franja horaria no llegue al mínimo o por causa de fuerza mayor debidamente justificada y previa valoración de la empresa. \nLista de espera: Para apuntarte en lista de espera deberás hacer los mismos trámites que para la inscripción\, de este modo te garantizamos que en el momento que se quede una plaza libre\, será tuya. \nDeberás estar atento al correo electrónico\, ya que puedes recibir un correo diciendo que tienes tu plaza (este correo puede llegarte en cualquier momento dependiendo de cómo se vayan cubriendo las plazas). En caso de no conseguir una plaza libre\, se procederá a la devolución del importe abonado. \n 
URL:https://plangalapagar.es/plan/campamento-urbano-7-11-de-julio/
LOCATION:Punto Joven\, Guadarrama\, 68\, Galapagar\, Madrid\, 28260
CATEGORIES:Infantil
ATTACH;FMTTYPE=image/jpeg:https://plangalapagar.es/wp-content/uploads/2025/05/CAMPAMENTO_S3.jpg
END:VEVENT
BEGIN:VEVENT
DTSTART;TZID=Europe/Madrid:20250707T110000
DTEND;TZID=Europe/Madrid:20250711T140000
DTSTAMP:20260420T145648
CREATED:20250603T123704Z
LAST-MODIFIED:20250630T111652Z
UID:10000622-1751886000-1752242400@plangalapagar.es
SUMMARY:Verano Joven 7 - 11 de julio
DESCRIPTION:¿Tienes entre 12 y 17 años? \n¡Prepárate para un verano lleno de diversión y nuevas aventuras! \nNo te puedes perder «Verano Joven»\, el programa de actividades más emocionante para tus vacaciones inolvidables llenas de creatividad\, deporte y mucha diversión. De lunes a jueves de 11:00 a 14:00 horas haremos muchas actividades en Punto joven. Un día iremos a la piscina y\, los viernes\, ¡nos vamos de excursión! \nEste plan corresponde a la semana del 7 al 11 de julio.  \nY el viernes 11\, ¡excursión al Centro Acuático de Collado Villalba! Esta actividad se desarrollará en horario de 10:30 a 18:30 horas. \n*Debes traer el abono transporte o costear el precio de los billetes para las salidas en transporte público. \n  \n¿Qué debes traer? \n\nAgua.\nComida para almorzar.\nGorra.\nCrema solar.\nBañador en la mochila o uno de cambio (no puedes subir mojado al autobús).\nToalla.\nChanclas\, además de calzado deportivo puesto.\nPuedes traer dinero por si quieres comprar algo en el chiringuito.\n\n  \nEl precio total de la semana completa es de 25 €.  \n\nLa actividad incluye monitores expertos en juventud que acompañarán a los menores toda la jornada.\nTransporte de ida y vuelta el día de la excursión.\nEntrada a las áreas recreativas y/o los museos.\nActividades lúdicas y/o culturales durante la jornada.\nSeguro de Responsabilidad Civil y Accidentes.\nEl pago se realiza mediante ingreso en la cuenta de Servicios Psicoeducativos (ES25 3058 1907 0527 2050 5695). *En el concepto\, indique semana y los datos del participante (ejemplo 7 – 11 de julio\, Blanca García Muñoz).\n\n  \n¿Cómo me apunto? \n  \n\nAccede a la web de Juventud plangalapagar.es para la inscripción en la actividad.\nAsegúrate de proporcionar correctamente todos los datos que se solicitan en el formulario\, especialmente el correo electrónico\, ya que todas las comunicaciones\, incluida la confirmación de plaza\, te llegarán a este correo.\nSigue las instrucciones en la página web\, asegurándote de completar todos los campos requeridos y adjuntar la documentación solicitada:\n\nFicha de inscripción cumplimentada y firmada por padre/madre/tutor (puedes adjuntar la misma cada semana que te apuntes).\nJustificante de pago (puede ser una total de todas las semanas a las que estés apuntado).\nJustificante médico (si fuera necesario).\n\n\n\n  \nEl Ayuntamiento de Galapagar se reserva el derecho de dar de baja de la actividad a un participante en caso de que se compruebe que este no cumple con los requisitos establecidos para la misma\, así como si su participación puede suponer un riesgo y/o perjuicio para el desarrollo óptimo de la actividad y sus participantes.
URL:https://plangalapagar.es/plan/verano-joven-7-11-de-julio/
LOCATION:Punto Joven\, Guadarrama\, 68\, Galapagar\, Madrid\, 28260
CATEGORIES:Jóvenes
ATTACH;FMTTYPE=image/jpeg:https://plangalapagar.es/wp-content/uploads/2025/06/VERANOJOVEN_1.jpg
END:VEVENT
END:VCALENDAR