BEGIN:VCALENDAR
VERSION:2.0
PRODID:-//Plan Galapagar - ECPv6.15.20//NONSGML v1.0//EN
CALSCALE:GREGORIAN
METHOD:PUBLISH
X-WR-CALNAME:Plan Galapagar
X-ORIGINAL-URL:https://plangalapagar.es
X-WR-CALDESC:Eventos para Plan Galapagar
REFRESH-INTERVAL;VALUE=DURATION:PT1H
X-Robots-Tag:noindex
X-PUBLISHED-TTL:PT1H
BEGIN:VTIMEZONE
TZID:Europe/Madrid
BEGIN:DAYLIGHT
TZOFFSETFROM:+0100
TZOFFSETTO:+0200
TZNAME:CEST
DTSTART:20240331T010000
END:DAYLIGHT
BEGIN:STANDARD
TZOFFSETFROM:+0200
TZOFFSETTO:+0100
TZNAME:CET
DTSTART:20241027T010000
END:STANDARD
BEGIN:DAYLIGHT
TZOFFSETFROM:+0100
TZOFFSETTO:+0200
TZNAME:CEST
DTSTART:20250330T010000
END:DAYLIGHT
BEGIN:STANDARD
TZOFFSETFROM:+0200
TZOFFSETTO:+0100
TZNAME:CET
DTSTART:20251026T010000
END:STANDARD
BEGIN:DAYLIGHT
TZOFFSETFROM:+0100
TZOFFSETTO:+0200
TZNAME:CEST
DTSTART:20260329T010000
END:DAYLIGHT
BEGIN:STANDARD
TZOFFSETFROM:+0200
TZOFFSETTO:+0100
TZNAME:CET
DTSTART:20261025T010000
END:STANDARD
END:VTIMEZONE
BEGIN:VEVENT
DTSTART;TZID=Europe/Madrid:20250901T170000
DTEND;TZID=Europe/Madrid:20250929T210000
DTSTAMP:20260420T084408
CREATED:20250911T145027Z
LAST-MODIFIED:20250911T145027Z
UID:10000647-1756746000-1759179600@plangalapagar.es
SUMMARY:Desconecta - Septiembre
DESCRIPTION:¿Tienes entre 10 y 17 años? \n¡Ven a disfrutar de la Sala de Punto Joven! \nTe ofrecemos este espacio donde puedes compartir\, divertirte y disfrutar con amigos en un ambiente de compañerismo y buen rollo. Aquí encontrarás la Play 5\, la Wii\, futbolín\, ping-pong\, juegos de mesa y mucho más. \nRecuerda que el respeto y la convivencia son clave: todos tenemos nuestro turno para jugar y pasarlo bien juntos. \n¡Es una sala creada por y para jóvenes como tú! \nEste plan tendrá lugar los lunes y miércoles de 17:00 a 21:00 horas.  \n¡Te esperamos! \nHaz click en el botón «Me apunto» y reserva tu plaza. ¡Recuerda que son limitadas!
URL:https://plangalapagar.es/plan/desconecta-septiembre/
LOCATION:Punto Joven\, Guadarrama\, 68\, Galapagar\, Madrid\, 28260
CATEGORIES:Jóvenes
ATTACH;FMTTYPE=image/jpeg:https://plangalapagar.es/wp-content/uploads/2025/09/DESCONECTA.jpg
END:VEVENT
BEGIN:VEVENT
DTSTART;TZID=Europe/Madrid:20250910T183000
DTEND;TZID=Europe/Madrid:20251218T203000
DTSTAMP:20260420T084408
CREATED:20250924T095900Z
LAST-MODIFIED:20251201T182604Z
UID:10000872-1757529000-1766089800@plangalapagar.es
SUMMARY:Taller de modelado 3D
DESCRIPTION:¿Tienes entre 12 y 17 años? \n¡Diseña tu propia creación en 3D desde cero! \nEn este taller podrás aprender a dar vida a tus ideas a través del modelado 3D utilizando Blender\, un potente programa gratuito y profesional. A lo largo de varias sesiones\, trabajarás en un proyecto personal. Podrás diseñar una casa\, una máquina\, un objeto imaginario o cualquier cosa que se te ocurra\, aprendiendo paso a paso cómo llevarlo del papel a la pantalla. \nConocerás los fundamentos del diseño en 3D\, las herramientas básicas de modelado y aplicarás texturas\, materiales y colores para completar tu creación. Además\, saldrás con los conocimientos necesarios para seguir practicando en casa\, ya que Blender es un software libre y gratuito. \nSesiones del taller: \n\nJueves 9 de octubre de 18:30 a 20:30 horas.\nJueves 23 de octubre de 18:30 a 20:30 horas.\nJueves 6 de noviembre de 18:30 a 20:30 horas.\nJueves 20 de noviembre de 18:30 a 20:30 horas.\nJueves 4 de diciembre de 18:30 a 20:30 horas.\nJueves 18 de diciembre de 18:30 a 20:30 horas.\n\n  \n¿Cómo me apunto?  \nRegistra los datos solicitados y realiza el pago de 14\,50 € al mes que deberás ingresar en la cuenta de Servicios Psicoeducativos (ES25 3058 1907 0527 2050 5695) o a través de Bizum al teléfono 613 56 66 97 (RUBEN N.V) y adjunta la ficha y el justificante de pago a tu inscripción web. \nSi quieres pagar los 3 meses juntos (octubre\, noviembre y diciembre)\, puedes hacerlo e indicarlo en observaciones. \nSi pagas mes a mes antes del 25 del mes anterior\, debes pagar el mes siguiente y enviar el justificante de pago al correo actividadesgalapagar@coeduca.es.  \nPara darte de baja en la actividad debes solicitarlo antes del 25 de cada mes al correo actividadesgalapagar@coeduca.es.  \nSe harán las devoluciones en caso de no llegar al mínimo de participantes o por causa de fuerza mayor debidamente justificada y previa valoración de la organización.
URL:https://plangalapagar.es/plan/taller-de-modelado-3d/
LOCATION:Punto Joven\, Guadarrama\, 68\, Galapagar\, Madrid\, 28260
CATEGORIES:Jóvenes
ATTACH;FMTTYPE=image/jpeg:https://plangalapagar.es/wp-content/uploads/2025/09/MODELADO3D.jpg
END:VEVENT
BEGIN:VEVENT
DTSTART;TZID=Europe/Madrid:20250915T183000
DTEND;TZID=Europe/Madrid:20250915T203000
DTSTAMP:20260420T084408
CREATED:20250825T060013Z
LAST-MODIFIED:20250910T113624Z
UID:10000629-1757961000-1757968200@plangalapagar.es
SUMMARY:Gran Prix de las peñas
DESCRIPTION:La Concejalía de Juventud e Infancia organiza el Gran Prix de las peñas\, un emocionante espectáculo donde los participantes deberán atravesar obstáculos y demostrar su habilidad. \nTendrá lugar el 15 de septiembre en la Plaza de Toros a partir de las 18:30 horas. \nImportante: Para poder inscribirse en esta actividad es obligatorio tener cumplidos los 18 años. \nInscripciones: Los grupos que deseen participar deberán realizar la inscripción a través de www.plangalapagar.es. \n¡Recuerda que las plazas son limitadas! \nHaz click en el botón «Me apunto» y rellena los datos que se solicitan. Deberás adjuntar este formulario de inscripción. \n 
URL:https://plangalapagar.es/plan/gran-prix-de-las-penas-3/
LOCATION:Punto Joven\, Guadarrama\, 68\, Galapagar\, Madrid\, 28260
CATEGORIES:Jóvenes
ATTACH;FMTTYPE=image/jpeg:https://plangalapagar.es/wp-content/uploads/2025/08/GRANPRIX.jpg
END:VEVENT
BEGIN:VEVENT
DTSTART;TZID=Europe/Madrid:20250918T180000
DTEND;TZID=Europe/Madrid:20250918T193000
DTSTAMP:20260420T084408
CREATED:20250911T145453Z
LAST-MODIFIED:20250911T145453Z
UID:10000642-1758218400-1758223800@plangalapagar.es
SUMMARY:Taller creativo 18 de septiembre
DESCRIPTION:¿Tienes entre 10 y 17 años? \n¡No te pierdas el taller «Personaliza tu agenda» que tendrá lugar el jueves 18 de septiembre! \nUsa técnicas de scrapbooking para decorar y personalizar libretas\, agendas o cuadernos con papeles\, pegatinas y otros materiales. \n¡No te lo pierdas! Este plan es gratis y las plazas son limitadas. \nHaz click en el botón «Me apunto» y reserva la tuya.
URL:https://plangalapagar.es/plan/taller-creativo-18-de-septiembre/
LOCATION:Punto Joven\, Guadarrama\, 68\, Galapagar\, Madrid\, 28260
CATEGORIES:Jóvenes
ATTACH;FMTTYPE=image/jpeg:https://plangalapagar.es/wp-content/uploads/2025/09/CREATIVOS_18S.jpg
END:VEVENT
BEGIN:VEVENT
DTSTART;TZID=Europe/Madrid:20250919T173000
DTEND;TZID=Europe/Madrid:20250919T203000
DTSTAMP:20260420T084408
CREATED:20250911T145903Z
LAST-MODIFIED:20250911T145903Z
UID:10000643-1758303000-1758313800@plangalapagar.es
SUMMARY:Ocio Joven 19 de septiembre
DESCRIPTION:¡Vuelve Ocio Joven\, renovado! \nHemos rediseñado el plan de ocio para que resulte más atractivo y dinámico. El nuevo planteamiento organiza la zona en tres espacios diferenciados\, con propuestas variadas\, accesibles y flexibles que fomentan tanto la interacción grupal como el uso autónomo del centro. \nEl viernes 19 de septiembre habrá diversas actividades para los jóvenes que podrán elegir en función de sus intereses. \n\nZona activa: Llega la actividad «Ocio Joven Challenge»\, una serie de juegos cooperativos por equipos adaptados a cada franja de edad.\n\n– Grupo A (de 10 a 13 años): «Ocio Joven Challenge Kids»: Pruebas activas en equipo\, juegos de equilibrio y retos sorpresa. \n– Grupo B (de 14 a 17 años): «Ocio Joven Challenge Pro»: Misiones creativas\, juegos de lógica y retos tipo TikTok.  \n\nZona ludoteca: ¡No te pierdas el juego Jungle Speed!\nZona libre: Utiliza el espacio de manera autónoma a través de los recursos abiertos.\n\n¡No te lo pierdas! Es gratis y las plazas son limitadas. \nHaz click en el botón «Me apunto» y reserva la tuya.
URL:https://plangalapagar.es/plan/ocio-joven-19-de-septiembre/
LOCATION:Punto Joven\, Guadarrama\, 68\, Galapagar\, Madrid\, 28260
CATEGORIES:Jóvenes
ATTACH;FMTTYPE=image/jpeg:https://plangalapagar.es/wp-content/uploads/2025/09/OJ-19S.jpg
END:VEVENT
BEGIN:VEVENT
DTSTART;TZID=Europe/Madrid:20250919T173000
DTEND;TZID=Europe/Madrid:20250919T203000
DTSTAMP:20260420T084408
CREATED:20250915T100018Z
LAST-MODIFIED:20250724T104401Z
UID:10000630-1758303000-1758313800@plangalapagar.es
SUMMARY:Diverteca 19 de septiembre
DESCRIPTION:¡Vuelven las actividades de Diverteca para los peques de la casa! \nEl viernes 19 de septiembre tendrá lugar la actividad «Safari salvaje». Nos adentramos en la selva para descubrir sus secretos. Los niños deberán observar\, escuchar y moverse como los animales para completar esta expedición. \n¡Solo los exploradores más atentos podrán descifrar las pistas del safari! (Rastros en la selva\, el código de los animales y la expedición a lo desconocido). \n¡No te lo pierdas\, es gratis y las plazas son limitadas! \nHaz click en el botón «Me apunto» y reserva la tuya.
URL:https://plangalapagar.es/plan/diverteca-19-de-septiembre/
LOCATION:Punto Joven\, Guadarrama\, 68\, Galapagar\, Madrid\, 28260
CATEGORIES:Infantil
ATTACH;FMTTYPE=image/jpeg:https://plangalapagar.es/wp-content/uploads/2025/07/DV-19S.jpg
END:VEVENT
BEGIN:VEVENT
DTSTART;TZID=Europe/Madrid:20250920T173000
DTEND;TZID=Europe/Madrid:20250920T203000
DTSTAMP:20260420T084408
CREATED:20250911T150118Z
LAST-MODIFIED:20250911T150118Z
UID:10000645-1758389400-1758400200@plangalapagar.es
SUMMARY:Ocio Joven 20 de septiembre
DESCRIPTION:¡Vuelve Ocio Joven\, renovado! \nHemos rediseñado el plan de ocio para que resulte más atractivo y dinámico. El nuevo planteamiento organiza la zona en tres espacios diferenciados\, con propuestas variadas\, accesibles y flexibles que fomentan tanto la interacción grupal como el uso autónomo del centro. \nEl sábado 20 de septiembre habrá diversas actividades para los jóvenes que podrán elegir en función de sus intereses. \n\nZona activa:\n\n– Grupo A (de 10 a 13 años): Inicio de un ciclo mensual de torneos de videojuegos. Bajo la identidad de «Game Masters»\, cada sesión plantea un juego diferente como reto central. En esta primera edición\, se organiza un torneo de FIFA en formato competitivo\, fomentando la participación\, la sana rivalidad y el desarrollo de habilidades digitales y estratégicas en un entorno controlado y de ocio seguro. \n– Grupo B (de 14 a 17 años): Torneo de futbolín por parejas. Esta actividad lúdico-deportiva está orientada a fomentar la cooperación\, la coordinación y el juego en equipo. El torneo se organiza mediante enfrentamientos eliminatorios o en formato liguilla\, con normas adaptadas y supervisión para garantizar el respeto y la participación equitativa. \n\nZona ludoteca: ¡No te pierdas el juego Virus!\nZona libre: Utiliza el espacio de manera autónoma a través de los recursos abiertos.\n\n¡No te lo pierdas! Es gratis y las plazas son limitadas. \nHaz click en el botón «Me apunto» y reserva la tuya.
URL:https://plangalapagar.es/plan/ocio-joven-20-de-septiembre/
LOCATION:Punto Joven\, Guadarrama\, 68\, Galapagar\, Madrid\, 28260
CATEGORIES:Jóvenes
ATTACH;FMTTYPE=image/jpeg:https://plangalapagar.es/wp-content/uploads/2025/09/OJ-20S.jpg
END:VEVENT
END:VCALENDAR