BEGIN:VCALENDAR
VERSION:2.0
PRODID:-//Plan Galapagar - ECPv6.15.20//NONSGML v1.0//EN
CALSCALE:GREGORIAN
METHOD:PUBLISH
X-WR-CALNAME:Plan Galapagar
X-ORIGINAL-URL:https://plangalapagar.es
X-WR-CALDESC:Eventos para Plan Galapagar
REFRESH-INTERVAL;VALUE=DURATION:PT1H
X-Robots-Tag:noindex
X-PUBLISHED-TTL:PT1H
BEGIN:VTIMEZONE
TZID:Europe/Madrid
BEGIN:DAYLIGHT
TZOFFSETFROM:+0100
TZOFFSETTO:+0200
TZNAME:CEST
DTSTART:20240331T010000
END:DAYLIGHT
BEGIN:STANDARD
TZOFFSETFROM:+0200
TZOFFSETTO:+0100
TZNAME:CET
DTSTART:20241027T010000
END:STANDARD
BEGIN:DAYLIGHT
TZOFFSETFROM:+0100
TZOFFSETTO:+0200
TZNAME:CEST
DTSTART:20250330T010000
END:DAYLIGHT
BEGIN:STANDARD
TZOFFSETFROM:+0200
TZOFFSETTO:+0100
TZNAME:CET
DTSTART:20251026T010000
END:STANDARD
BEGIN:DAYLIGHT
TZOFFSETFROM:+0100
TZOFFSETTO:+0200
TZNAME:CEST
DTSTART:20260329T010000
END:DAYLIGHT
BEGIN:STANDARD
TZOFFSETFROM:+0200
TZOFFSETTO:+0100
TZNAME:CET
DTSTART:20261025T010000
END:STANDARD
END:VTIMEZONE
BEGIN:VEVENT
DTSTART;TZID=Europe/Madrid:20250901T170000
DTEND;TZID=Europe/Madrid:20250929T210000
DTSTAMP:20260420T070111
CREATED:20250911T145027Z
LAST-MODIFIED:20250911T145027Z
UID:10000647-1756746000-1759179600@plangalapagar.es
SUMMARY:Desconecta - Septiembre
DESCRIPTION:¿Tienes entre 10 y 17 años? \n¡Ven a disfrutar de la Sala de Punto Joven! \nTe ofrecemos este espacio donde puedes compartir\, divertirte y disfrutar con amigos en un ambiente de compañerismo y buen rollo. Aquí encontrarás la Play 5\, la Wii\, futbolín\, ping-pong\, juegos de mesa y mucho más. \nRecuerda que el respeto y la convivencia son clave: todos tenemos nuestro turno para jugar y pasarlo bien juntos. \n¡Es una sala creada por y para jóvenes como tú! \nEste plan tendrá lugar los lunes y miércoles de 17:00 a 21:00 horas.  \n¡Te esperamos! \nHaz click en el botón «Me apunto» y reserva tu plaza. ¡Recuerda que son limitadas!
URL:https://plangalapagar.es/plan/desconecta-septiembre/
LOCATION:Punto Joven\, Guadarrama\, 68\, Galapagar\, Madrid\, 28260
CATEGORIES:Jóvenes
ATTACH;FMTTYPE=image/jpeg:https://plangalapagar.es/wp-content/uploads/2025/09/DESCONECTA.jpg
END:VEVENT
BEGIN:VEVENT
DTSTART;TZID=Europe/Madrid:20250910T183000
DTEND;TZID=Europe/Madrid:20251218T203000
DTSTAMP:20260420T070111
CREATED:20250924T095900Z
LAST-MODIFIED:20251201T182604Z
UID:10000872-1757529000-1766089800@plangalapagar.es
SUMMARY:Taller de modelado 3D
DESCRIPTION:¿Tienes entre 12 y 17 años? \n¡Diseña tu propia creación en 3D desde cero! \nEn este taller podrás aprender a dar vida a tus ideas a través del modelado 3D utilizando Blender\, un potente programa gratuito y profesional. A lo largo de varias sesiones\, trabajarás en un proyecto personal. Podrás diseñar una casa\, una máquina\, un objeto imaginario o cualquier cosa que se te ocurra\, aprendiendo paso a paso cómo llevarlo del papel a la pantalla. \nConocerás los fundamentos del diseño en 3D\, las herramientas básicas de modelado y aplicarás texturas\, materiales y colores para completar tu creación. Además\, saldrás con los conocimientos necesarios para seguir practicando en casa\, ya que Blender es un software libre y gratuito. \nSesiones del taller: \n\nJueves 9 de octubre de 18:30 a 20:30 horas.\nJueves 23 de octubre de 18:30 a 20:30 horas.\nJueves 6 de noviembre de 18:30 a 20:30 horas.\nJueves 20 de noviembre de 18:30 a 20:30 horas.\nJueves 4 de diciembre de 18:30 a 20:30 horas.\nJueves 18 de diciembre de 18:30 a 20:30 horas.\n\n  \n¿Cómo me apunto?  \nRegistra los datos solicitados y realiza el pago de 14\,50 € al mes que deberás ingresar en la cuenta de Servicios Psicoeducativos (ES25 3058 1907 0527 2050 5695) o a través de Bizum al teléfono 613 56 66 97 (RUBEN N.V) y adjunta la ficha y el justificante de pago a tu inscripción web. \nSi quieres pagar los 3 meses juntos (octubre\, noviembre y diciembre)\, puedes hacerlo e indicarlo en observaciones. \nSi pagas mes a mes antes del 25 del mes anterior\, debes pagar el mes siguiente y enviar el justificante de pago al correo actividadesgalapagar@coeduca.es.  \nPara darte de baja en la actividad debes solicitarlo antes del 25 de cada mes al correo actividadesgalapagar@coeduca.es.  \nSe harán las devoluciones en caso de no llegar al mínimo de participantes o por causa de fuerza mayor debidamente justificada y previa valoración de la organización.
URL:https://plangalapagar.es/plan/taller-de-modelado-3d/
LOCATION:Punto Joven\, Guadarrama\, 68\, Galapagar\, Madrid\, 28260
CATEGORIES:Jóvenes
ATTACH;FMTTYPE=image/jpeg:https://plangalapagar.es/wp-content/uploads/2025/09/MODELADO3D.jpg
END:VEVENT
BEGIN:VEVENT
DTSTART;TZID=Europe/Madrid:20250922T173000
DTEND;TZID=Europe/Madrid:20250922T193000
DTSTAMP:20260420T070111
CREATED:20250911T150428Z
LAST-MODIFIED:20250918T085229Z
UID:10000648-1758562200-1758569400@plangalapagar.es
SUMMARY:Taller JOE 22 de septiembre
DESCRIPTION:¡No te pierdas el taller «Aprende a estudiar sin morir en el intento» incluido dentro de las Jornadas de Orientación al Estudiante! \nEl lunes 22 de septiembre tendrá lugar este taller práctico cuyo objetivo es adquirir técnicas eficaces de estudio\, organización personal y gestión del tiempo y del estrés académico. \nAprenderás a detectar el estilo de aprendizaje propio\, técnicas de estudio prácticas y efectivas\, organizar los tiempos de estudio y descanso y reducir la ansiedad ante los exámenes y tareas. \n¿Cómo? \nHarás un cuestionario inicial sobre el estilo cognitivo\, pondrás en práctica técnicas como los mapas mentales\, el subrayado eficaz y el método Pomodoro; harás actividades individuales y grupales de planificación y aprenderás a hacer ejercicios de relajación y atención plena. \n¿Qué recursos didácticos utilizarás? \n\nCuestionarios impresos.\nPlantillas de planificación semanal y mensual.\nGuía de técnicas de estudio.\nMateriales para dinámicas y relajación guiada.
URL:https://plangalapagar.es/plan/taller-joe-22-de-septiembre/
LOCATION:Punto Joven\, Guadarrama\, 68\, Galapagar\, Madrid\, 28260
CATEGORIES:Jóvenes
ATTACH;FMTTYPE=image/jpeg:https://plangalapagar.es/wp-content/uploads/2025/09/JORNADAS_MENSUAL_22S.jpg
END:VEVENT
BEGIN:VEVENT
DTSTART;TZID=Europe/Madrid:20250923T173000
DTEND;TZID=Europe/Madrid:20250923T190000
DTSTAMP:20260420T070111
CREATED:20250901T100047Z
LAST-MODIFIED:20250724T104506Z
UID:10000632-1758648600-1758654000@plangalapagar.es
SUMMARY:Diver Family 23 de septiembre
DESCRIPTION:¡Nueva actividad de Diver Family! \nTe ofrecemos un espacio donde\, en familia\, podréis experimentar\, tocar\, crear y divertiros juntos. \nEl martes 23 de septiembre tendrá lugar el plan «La vuelta al bosque». Adéntrate en un bosque lleno de magia\, texturas y colores\, donde las hojas crujen\, los animalitos se esconden y la naturaleza despierta todos nuestros sentidos. \n¡Una aventura en familia para tocar\, experimentar y disfrutar del bosque más divertido! \nEsta actividad está dirigida a niños de 1 a 5 años acompañados de un adulto. \nImportante: Este plan se repetirá 2 veces al mes\, en la misma semana\, pero la actividad será la misma y solo puedes apuntarte a uno de ellos para dar espacio a más familias. ¡Gracias por tu colaboración! \nHaz click en el botón «Me apunto» y reserva tu plaza. ¡Recuerda que son limitadas!
URL:https://plangalapagar.es/plan/diver-family-23-de-septiembre/
LOCATION:Punto Joven\, Guadarrama\, 68\, Galapagar\, Madrid\, 28260
CATEGORIES:Infantil
ATTACH;FMTTYPE=image/jpeg:https://plangalapagar.es/wp-content/uploads/2025/07/DIVERFAMILY_23S.jpg
END:VEVENT
BEGIN:VEVENT
DTSTART;TZID=Europe/Madrid:20250923T180000
DTEND;TZID=Europe/Madrid:20250923T193000
DTSTAMP:20260420T070111
CREATED:20250911T151022Z
LAST-MODIFIED:20250911T151022Z
UID:10000639-1758650400-1758655800@plangalapagar.es
SUMMARY:Servicio de información juvenil 23 de septiembre
DESCRIPTION:Si tienes entre 10 y 30 años\, ¡no te pierdas nuestros talleres de información juvenil! \nSe trata de un servicio integral de información y asesoramiento juvenil sobre becas\, empleo\, vivienda\, programas europeos\, salud\, voluntariado y participación. \nEl martes 23 de septiembre tendrá lugar el taller «Cómo presentar una propuesta a Punto Joven». Aprende paso a paso cómo puedes crear tu propia actividad\, presentarla a la Concejalía de Juventud y hacerla realidad con el apoyo de Punto Joven. \n¿Te lo vas a perder? \nEste plan es gratuito y las plazas son limitadas.  \nHaz click en el botón «Me apunto» y reserva la tuya.
URL:https://plangalapagar.es/plan/servicio-de-informacion-juvenil-23-de-septiembre/
LOCATION:Punto Joven\, Guadarrama\, 68\, Galapagar\, Madrid\, 28260
CATEGORIES:Jóvenes
ATTACH;FMTTYPE=image/jpeg:https://plangalapagar.es/wp-content/uploads/2025/09/INFOJUVENIL.jpg
END:VEVENT
BEGIN:VEVENT
DTSTART;TZID=Europe/Madrid:20250925T173000
DTEND;TZID=Europe/Madrid:20250925T190000
DTSTAMP:20260420T070111
CREATED:20250901T100028Z
LAST-MODIFIED:20250724T104606Z
UID:10000633-1758821400-1758826800@plangalapagar.es
SUMMARY:Diver Family 25 de septiembre
DESCRIPTION:¡Nueva actividad de Diver Family! \nTe ofrecemos un espacio donde\, en familia\, podréis experimentar\, tocar\, crear y divertiros juntos. \nEl jueves 25 de septiembre tendrá lugar el plan «La vuelta al bosque». Adéntrate en un bosque lleno de magia\, texturas y colores\, donde las hojas crujen\, los animalitos se esconden y la naturaleza despierta todos nuestros sentidos. \n¡Una aventura en familia para tocar\, experimentar y disfrutar del bosque más divertido! \nEsta actividad está dirigida a niños de 1 a 5 años acompañados de un adulto. \nImportante: Este plan se repetirá 2 veces al mes\, en la misma semana\, pero la actividad será la misma y solo puedes apuntarte a uno de ellos para dar espacio a más familias. ¡Gracias por tu colaboración! \nHaz click en el botón «Me apunto» y reserva tu plaza. ¡Recuerda que son limitadas!
URL:https://plangalapagar.es/plan/diver-family-25-de-septiembre/
LOCATION:Punto Joven\, Guadarrama\, 68\, Galapagar\, Madrid\, 28260
CATEGORIES:Infantil
ATTACH;FMTTYPE=image/jpeg:https://plangalapagar.es/wp-content/uploads/2025/07/DIVERFAMILY_25S.jpg
END:VEVENT
BEGIN:VEVENT
DTSTART;TZID=Europe/Madrid:20250925T180000
DTEND;TZID=Europe/Madrid:20250925T193000
DTSTAMP:20260420T070111
CREATED:20250911T151209Z
LAST-MODIFIED:20250911T151209Z
UID:10000640-1758823200-1758828600@plangalapagar.es
SUMMARY:Desarrollo personal y social 25 de septiembre
DESCRIPTION:¿Tienes entre 18 y 21 años? ¡No te pierdas el taller de comunicación efectiva y habilidades para la vida! \nEl jueves 25 de septiembre te ofrecemos un taller práctico para desarrollar la capacidad de expresarte con claridad\, escuchar activamente y gestionar conflictos de forma positiva. Se trabajarán técnicas de comunicación verbal y no verbal\, asertividad y empatía\, herramientas clave para mejorar relaciones personales\, académicas y profesionales. Es ideal para fortalecer la confianza y las habilidades sociales en diferentes ámbitos. \n¿Te lo vas a perder? \nEste plan es gratuito y las plazas son limitadas. \nHaz click en el botón «Me apunto» y reserva la tuya. \n 
URL:https://plangalapagar.es/plan/desarrollo-personal-y-social-25-de-septiembre/
LOCATION:Punto Joven\, Guadarrama\, 68\, Galapagar\, Madrid\, 28260
CATEGORIES:Jóvenes
ATTACH;FMTTYPE=image/jpeg:https://plangalapagar.es/wp-content/uploads/2025/09/DESARROLLO_25S.jpg
END:VEVENT
BEGIN:VEVENT
DTSTART;TZID=Europe/Madrid:20250926T173000
DTEND;TZID=Europe/Madrid:20250926T203000
DTSTAMP:20260420T070111
CREATED:20250911T151606Z
LAST-MODIFIED:20250911T151606Z
UID:10000644-1758907800-1758918600@plangalapagar.es
SUMMARY:Ocio Joven 26 de septiembre
DESCRIPTION:¡Vuelve Ocio Joven\, renovado! \nHemos rediseñado el plan de ocio para que resulte más atractivo y dinámico. El nuevo planteamiento organiza la zona en tres espacios diferenciados\, con propuestas variadas\, accesibles y flexibles que fomentan tanto la interacción grupal como el uso autónomo del centro. \nEl viernes 26 de septiembre habrá diversas actividades para los jóvenes que podrán elegir en función de sus intereses. \n\nZona activa: Llega la actividad DIY (do it yourself) agenda para los 2 grupos.\n\n– Grupo A (de 10 a 13 años). \n– Grupo B (de 14 a 17 años). \nLa propuesta se inspira en una tendencia actual ampliamente difundida en plataformas como TikTok e Instagram\, centrada en la elaboración de agendas personalizadas con estética juvenil (aesthetic)\, mensajes motivacionales y diseño gráfico libre. \n\nZona ludoteca: ¡No te pierdas el juego Party!\nZona libre: Utiliza el espacio de manera autónoma a través de los recursos abiertos.\n\n¡No te lo pierdas! Es gratis y las plazas son limitadas. \nHaz click en el botón «Me apunto» y reserva la tuya.
URL:https://plangalapagar.es/plan/ocio-joven-26-de-septiembre/
LOCATION:Punto Joven\, Guadarrama\, 68\, Galapagar\, Madrid\, 28260
CATEGORIES:Jóvenes
ATTACH;FMTTYPE=image/jpeg:https://plangalapagar.es/wp-content/uploads/2025/09/OJ-26S.jpg
END:VEVENT
BEGIN:VEVENT
DTSTART;TZID=Europe/Madrid:20250926T173000
DTEND;TZID=Europe/Madrid:20250926T203000
DTSTAMP:20260420T070111
CREATED:20250922T100050Z
LAST-MODIFIED:20250724T104724Z
UID:10000631-1758907800-1758918600@plangalapagar.es
SUMMARY:Diverteca 26 de septiembre
DESCRIPTION:¡Nuevo plan para los peques de la casa! \nEl próximo viernes 26 de septiembre tendrá lugar la actividad «El suelo es lava: Supera el desafío sin tocar el suelo». Un reto de equilibrio\, estrategia y trabajo en equipo. Usa objetos limitados para cruzar el espacio sin tocar el suelo. Supera obstáculos\, coopera con los demás y encuentra la mejor táctica para avanzar. \n¿Te la jugarás con un salto arriesgado o pensarás en equipo? \n¡No te lo pierdas\, es gratis y las plazas son limitadas! \nHaz click en el botón «Me apunto» y reserva la tuya.
URL:https://plangalapagar.es/plan/diverteca-26-de-septiembre/
LOCATION:Punto Joven\, Guadarrama\, 68\, Galapagar\, Madrid\, 28260
CATEGORIES:Infantil
ATTACH;FMTTYPE=image/jpeg:https://plangalapagar.es/wp-content/uploads/2025/07/DV-26S.jpg
END:VEVENT
BEGIN:VEVENT
DTSTART;TZID=Europe/Madrid:20250927T173000
DTEND;TZID=Europe/Madrid:20250927T203000
DTSTAMP:20260420T070111
CREATED:20250911T151743Z
LAST-MODIFIED:20250911T151743Z
UID:10000646-1758994200-1759005000@plangalapagar.es
SUMMARY:Ocio Joven 27 de septiembre
DESCRIPTION:¡Vuelve Ocio Joven\, renovado! \nHemos rediseñado el plan de ocio para que resulte más atractivo y dinámico. El nuevo planteamiento organiza la zona en tres espacios diferenciados\, con propuestas variadas\, accesibles y flexibles que fomentan tanto la interacción grupal como el uso autónomo del centro. \nEl sábado 27 de septiembre habrá diversas actividades para los jóvenes que podrán elegir en función de sus intereses. \n\nZona activa: Llega la actividad «Sabores sin llama Rainbow Snack Bowls». Se trata de un taller mensual de cocina creativa sin necesidad de fuego ni horno. La sesión promueve hábitos saludables y habilidades culinarias básicas mediante la elaboración de recetas frías y vistosas. En esta edición\, se preparan bowls personalizados con frutas\, verduras\, semillas y toppings\, favoreciendo la autonomía\, la creatividad alimentaria y el trabajo con alimentos frescos.\n\n– Grupo A (de 10 a 13 años). \n– Grupo B (de 14 a 17 años). \n\nZona ludoteca: ¡No te pierdas el juego Pictionary!\nZona libre: Utiliza el espacio de manera autónoma a través de los recursos abiertos.\n\n¡No te lo pierdas! Es gratis y las plazas son limitadas. \nHaz click en el botón «Me apunto» y reserva la tuya.
URL:https://plangalapagar.es/plan/ocio-joven-27-de-septiembre/
LOCATION:Punto Joven\, Guadarrama\, 68\, Galapagar\, Madrid\, 28260
CATEGORIES:Jóvenes
ATTACH;FMTTYPE=image/jpeg:https://plangalapagar.es/wp-content/uploads/2025/09/OJ-27S.jpg
END:VEVENT
END:VCALENDAR