BEGIN:VCALENDAR
VERSION:2.0
PRODID:-//Plan Galapagar - ECPv6.15.20//NONSGML v1.0//EN
CALSCALE:GREGORIAN
METHOD:PUBLISH
X-ORIGINAL-URL:https://plangalapagar.es
X-WR-CALDESC:Eventos para Plan Galapagar
REFRESH-INTERVAL;VALUE=DURATION:PT1H
X-Robots-Tag:noindex
X-PUBLISHED-TTL:PT1H
BEGIN:VTIMEZONE
TZID:Europe/Madrid
BEGIN:DAYLIGHT
TZOFFSETFROM:+0100
TZOFFSETTO:+0200
TZNAME:CEST
DTSTART:20240331T010000
END:DAYLIGHT
BEGIN:STANDARD
TZOFFSETFROM:+0200
TZOFFSETTO:+0100
TZNAME:CET
DTSTART:20241027T010000
END:STANDARD
BEGIN:DAYLIGHT
TZOFFSETFROM:+0100
TZOFFSETTO:+0200
TZNAME:CEST
DTSTART:20250330T010000
END:DAYLIGHT
BEGIN:STANDARD
TZOFFSETFROM:+0200
TZOFFSETTO:+0100
TZNAME:CET
DTSTART:20251026T010000
END:STANDARD
BEGIN:DAYLIGHT
TZOFFSETFROM:+0100
TZOFFSETTO:+0200
TZNAME:CEST
DTSTART:20260329T010000
END:DAYLIGHT
BEGIN:STANDARD
TZOFFSETFROM:+0200
TZOFFSETTO:+0100
TZNAME:CET
DTSTART:20261025T010000
END:STANDARD
BEGIN:DAYLIGHT
TZOFFSETFROM:+0100
TZOFFSETTO:+0200
TZNAME:CEST
DTSTART:20270328T010000
END:DAYLIGHT
BEGIN:STANDARD
TZOFFSETFROM:+0200
TZOFFSETTO:+0100
TZNAME:CET
DTSTART:20271031T010000
END:STANDARD
END:VTIMEZONE
BEGIN:VEVENT
DTSTART;TZID=Europe/Madrid:20250901T170000
DTEND;TZID=Europe/Madrid:20250929T210000
DTSTAMP:20260420T051453
CREATED:20250911T145027Z
LAST-MODIFIED:20250911T145027Z
UID:10000647-1756746000-1759179600@plangalapagar.es
SUMMARY:Desconecta - Septiembre
DESCRIPTION:¿Tienes entre 10 y 17 años? \n¡Ven a disfrutar de la Sala de Punto Joven! \nTe ofrecemos este espacio donde puedes compartir\, divertirte y disfrutar con amigos en un ambiente de compañerismo y buen rollo. Aquí encontrarás la Play 5\, la Wii\, futbolín\, ping-pong\, juegos de mesa y mucho más. \nRecuerda que el respeto y la convivencia son clave: todos tenemos nuestro turno para jugar y pasarlo bien juntos. \n¡Es una sala creada por y para jóvenes como tú! \nEste plan tendrá lugar los lunes y miércoles de 17:00 a 21:00 horas.  \n¡Te esperamos! \nHaz click en el botón «Me apunto» y reserva tu plaza. ¡Recuerda que son limitadas!
URL:https://plangalapagar.es/plan/desconecta-septiembre/
LOCATION:Punto Joven\, Guadarrama\, 68\, Galapagar\, Madrid\, 28260
CATEGORIES:Jóvenes
ATTACH;FMTTYPE=image/jpeg:https://plangalapagar.es/wp-content/uploads/2025/09/DESCONECTA.jpg
END:VEVENT
BEGIN:VEVENT
DTSTART;TZID=Europe/Madrid:20250910T183000
DTEND;TZID=Europe/Madrid:20251218T203000
DTSTAMP:20260420T051453
CREATED:20250924T095900Z
LAST-MODIFIED:20251201T182604Z
UID:10000872-1757529000-1766089800@plangalapagar.es
SUMMARY:Taller de modelado 3D
DESCRIPTION:¿Tienes entre 12 y 17 años? \n¡Diseña tu propia creación en 3D desde cero! \nEn este taller podrás aprender a dar vida a tus ideas a través del modelado 3D utilizando Blender\, un potente programa gratuito y profesional. A lo largo de varias sesiones\, trabajarás en un proyecto personal. Podrás diseñar una casa\, una máquina\, un objeto imaginario o cualquier cosa que se te ocurra\, aprendiendo paso a paso cómo llevarlo del papel a la pantalla. \nConocerás los fundamentos del diseño en 3D\, las herramientas básicas de modelado y aplicarás texturas\, materiales y colores para completar tu creación. Además\, saldrás con los conocimientos necesarios para seguir practicando en casa\, ya que Blender es un software libre y gratuito. \nSesiones del taller: \n\nJueves 9 de octubre de 18:30 a 20:30 horas.\nJueves 23 de octubre de 18:30 a 20:30 horas.\nJueves 6 de noviembre de 18:30 a 20:30 horas.\nJueves 20 de noviembre de 18:30 a 20:30 horas.\nJueves 4 de diciembre de 18:30 a 20:30 horas.\nJueves 18 de diciembre de 18:30 a 20:30 horas.\n\n  \n¿Cómo me apunto?  \nRegistra los datos solicitados y realiza el pago de 14\,50 € al mes que deberás ingresar en la cuenta de Servicios Psicoeducativos (ES25 3058 1907 0527 2050 5695) o a través de Bizum al teléfono 613 56 66 97 (RUBEN N.V) y adjunta la ficha y el justificante de pago a tu inscripción web. \nSi quieres pagar los 3 meses juntos (octubre\, noviembre y diciembre)\, puedes hacerlo e indicarlo en observaciones. \nSi pagas mes a mes antes del 25 del mes anterior\, debes pagar el mes siguiente y enviar el justificante de pago al correo actividadesgalapagar@coeduca.es.  \nPara darte de baja en la actividad debes solicitarlo antes del 25 de cada mes al correo actividadesgalapagar@coeduca.es.  \nSe harán las devoluciones en caso de no llegar al mínimo de participantes o por causa de fuerza mayor debidamente justificada y previa valoración de la organización.
URL:https://plangalapagar.es/plan/taller-de-modelado-3d/
LOCATION:Punto Joven\, Guadarrama\, 68\, Galapagar\, Madrid\, 28260
CATEGORIES:Jóvenes
ATTACH;FMTTYPE=image/jpeg:https://plangalapagar.es/wp-content/uploads/2025/09/MODELADO3D.jpg
END:VEVENT
BEGIN:VEVENT
DTSTART;TZID=Europe/Madrid:20250930T180000
DTEND;TZID=Europe/Madrid:20250930T193000
DTSTAMP:20260420T051453
CREATED:20250911T151421Z
LAST-MODIFIED:20250911T151421Z
UID:10000641-1759255200-1759260600@plangalapagar.es
SUMMARY:Desarrollo personal y social 30 de septiembre
DESCRIPTION:¿Tienes entre 12 y 14 años? ¡No te pierdas el taller «Internet con cabeza». \nEl martes 30 de septiembre te ofrecemos este plan con el objetivo de aprender a protegerte online a través de una alfabetización digital básica y seguridad en internet para menores. Aprenderemos el uso responsable de redes\, privacidad\, detección de riesgos y confianza en adultos de referencia. \n¿Te lo vas a perder? \nEste plan es gratuito y las plazas son limitadas. \nHaz click en el botón «Me apunto» y reserva la tuya.
URL:https://plangalapagar.es/plan/desarrollo-personal-y-social-30-de-septiembre/
LOCATION:Punto Joven\, Guadarrama\, 68\, Galapagar\, Madrid\, 28260
CATEGORIES:Jóvenes
ATTACH;FMTTYPE=image/jpeg:https://plangalapagar.es/wp-content/uploads/2025/09/DESARROLLO_30S.jpg
END:VEVENT
BEGIN:VEVENT
DTSTART;TZID=Europe/Madrid:20251001T170000
DTEND;TZID=Europe/Madrid:20251029T210000
DTSTAMP:20260420T051453
CREATED:20251001T040044Z
LAST-MODIFIED:20250924T095610Z
UID:10000664-1759338000-1761771600@plangalapagar.es
SUMMARY:Desconecta - Octubre
DESCRIPTION:¿Tienes entre 10 y 17 años? \n¡Ven a disfrutar de la Sala de Punto Joven! \nTe ofrecemos este espacio donde puedes compartir\, divertirte y disfrutar con amigos en un ambiente de compañerismo y buen rollo. Aquí encontrarás la Play 5\, la Wii\, futbolín\, ping-pong\, juegos de mesa y mucho más. \nRecuerda que el respeto y la convivencia son clave: todos tenemos nuestro turno para jugar y pasarlo bien juntos. \n¡Es una sala creada por y para jóvenes como tú! \nEste plan tendrá lugar los lunes y miércoles de 17:00 a 21:00 horas.  \n¡Te esperamos! \nHaz click en el botón «Me apunto» y reserva tu plaza. ¡Recuerda que son limitadas!
URL:https://plangalapagar.es/plan/desconecta-octubre/
LOCATION:Punto Joven\, Guadarrama\, 68\, Galapagar\, Madrid\, 28260
CATEGORIES:Jóvenes
ATTACH;FMTTYPE=image/jpeg:https://plangalapagar.es/wp-content/uploads/2025/10/DESCONECTA.jpg
END:VEVENT
BEGIN:VEVENT
DTSTART;TZID=Europe/Madrid:20251001T173000
DTEND;TZID=Europe/Madrid:20260617T183000
DTSTAMP:20260420T051453
CREATED:20250924T094937Z
LAST-MODIFIED:20260416T151612Z
UID:10000676-1759339800-1781721000@plangalapagar.es
SUMMARY:Chiquirritmo
DESCRIPTION:¡Llega un nuevo plan infantil para niños de 3\, 4\, 5 y 6 años! \n«Chiquirritmo» es una actividad pensada especialmente para los más pequeños de Educación Infantil\, donde el movimiento y la música se convierten en protagonistas. A través de una clase de baile moderno adaptada a su edad\, los niños y niñas aprenderán coreografías sencillas\, llenas de ritmo\, color y diversión. \nCada sesión combinará el aprendizaje de pasos básicos con juegos musicales que fomenten la coordinación\, el ritmo y la expresión corporal. Además\, se realizarán minishows a lo largo del curso\, donde las familias podrán disfrutar de las coreografías que han preparado los pequeños artistas con ilusión y entusiasmo. \nMás que una clase de baile\, «Chiquirritmo» es una experiencia para explorar el cuerpo\, las emociones y la creatividad a través del arte del movimiento. Tendrá lugar todos los miércoles según calendario escolar. \n¿Cómo me apunto? \n\nRealiza el pago de 3\,50 € al mes  en la cuenta de Servicios Psicoeducativos:\n\nIBAN: ES25 3058 1907 0527 2050 5695\nBizum: 613 56 66 97 (RUBEN N.V)\n\n\nHaz clic en el botón «Me apunto»\, rellena el formulario y adjunta el justificante de pago.\nSi deseas pagar varios meses juntos\, indícalo en el apartado de observaciones y adjunta el justificante correspondiente.\nPara pagos mes a mes\, realiza el pago antes del 25 del mes anterior y envía el justificante a: actividadesgalapagar@coeduca.es.\nPara darte de baja\, solicita la baja antes del 25 del mes anterior al correo actividadesgalapagar@coeduca.es.\n\nDevoluciones: \n\nSolo se realizarán si no se alcanza el mínimo de participantes o por causa de fuerza mayor debidamente justificada y previa valoración de la organización.
URL:https://plangalapagar.es/plan/chiquirritmo/
LOCATION:Punto Joven\, Guadarrama\, 68\, Galapagar\, Madrid\, 28260
CATEGORIES:Infantil
ATTACH;FMTTYPE=image/jpeg:https://plangalapagar.es/wp-content/uploads/2025/09/CHIQUIRITMO.jpg
END:VEVENT
BEGIN:VEVENT
DTSTART;TZID=Europe/Madrid:20251001T181500
DTEND;TZID=Europe/Madrid:20251231T194500
DTSTAMP:20260420T051453
CREATED:20250924T095247Z
LAST-MODIFIED:20251201T182617Z
UID:10000677-1759342500-1767210300@plangalapagar.es
SUMMARY:Escena Joven
DESCRIPTION:¿Tienes entre 12 y 17 años? \n¡No te pierdas el plan «Escena Joven»! \nSe trata de un taller de teatro pensado para que chicas y chicos exploren el arte de actuar como herramienta de expresión\, comunicación y crecimiento personal. A través de juegos dramáticos\, improvisaciones\, dinámicas de grupo y creación de escenas\, los participantes desarrollarán sus habilidades interpretativas\, su confianza y su capacidad para trabajar en equipo. \nEl proceso culminará con una muestra final opcional (obra corta o escena improvisada)\, abierta a familias o público como parte del cierre del taller. \nTendrá lugar todos los miércoles de octubre a diciembre\, según calendario escolar. *Sujeto a la formación de grupo.  \n  \n¿Cómo me apunto?  \nRegistra los datos solicitados y realiza el pago de 5\,50 € al mes que deberás ingresar en la cuenta de Servicios Psicoeducativos (ES25 3058 1907 0527 2050 5695) o a través de Bizum al teléfono 613 56 66 97 (RUBEN N.V) y adjunta la ficha y el justificante de pago a tu inscripción web. \nSi quieres pagar los 3 meses juntos (octubre\, noviembre y diciembre)\, puedes hacerlo e indicarlo en observaciones. \nSi pagas mes a mes antes del 25 del mes anterior\, debes pagar el mes siguiente y enviar el justificante de pago al correo actividadesgalapagar@coeduca.es.  \nPara darte de baja en la actividad debes solicitarlo antes del 25 de cada mes al correo actividadesgalapagar@coeduca.es.  \nSe harán las devoluciones en caso de no llegar al mínimo de participantes o por causa de fuerza mayor debidamente justificada y previa valoración de la organización.
URL:https://plangalapagar.es/plan/escena-joven/
LOCATION:Punto Joven\, Guadarrama\, 68\, Galapagar\, Madrid\, 28260
CATEGORIES:Jóvenes
ATTACH;FMTTYPE=image/jpeg:https://plangalapagar.es/wp-content/uploads/2025/09/ESCENAJOVEN.jpg
END:VEVENT
BEGIN:VEVENT
DTSTART;TZID=Europe/Madrid:20251002T164500
DTEND;TZID=Europe/Madrid:20251218T181500
DTSTAMP:20260420T051453
CREATED:20250924T095122Z
LAST-MODIFIED:20251201T182551Z
UID:10000684-1759423500-1766081700@plangalapagar.es
SUMMARY:Diseña tu mundo
DESCRIPTION:¿Tienes entre 10 y 16 años? \n¡No te pierdas este taller de diseño! \nPodrás explorar el mundo del diseño gráfico usando Canva o programas similares. A través de sesiones prácticas\, aprenderás a crear carteles\, portadas\, collages\, logos y contenido visual con sentido estético y comunicativo. Fomentarás la expresión personal\, el trabajo colaborativo y la presentación de ideas visuales con impacto. \nLa actividad no requiere experiencia previa y está diseñada para que puedas desarrollar tu propio estilo gráfico\, combinando creatividad con habilidades digitales útiles para la escuela\, proyectos personales o redes sociales. \nTendrá lugar todos los jueves de octubre a diciembre\, según calendario escolar. *Sujeto a la formación de grupo.  \n  \n¿Cómo me apunto?  \nRegistra los datos solicitados y realiza el pago de 7\,50 € al mes que deberás ingresar en la cuenta de Servicios Psicoeducativos (ES25 3058 1907 0527 2050 5695) o a través de Bizum al teléfono 613 56 66 97 (RUBEN N.V) y adjunta la ficha y el justificante de pago a tu inscripción web. \nSi quieres pagar los 3 meses juntos (octubre\, noviembre y diciembre)\, puedes hacerlo e indicarlo en observaciones. \nSi pagas mes a mes antes del 25 del mes anterior\, debes pagar el mes siguiente y enviar el justificante de pago al correo actividadesgalapagar@coeduca.es.  \nPara darte de baja en la actividad debes solicitarlo antes del 25 de cada mes al correo actividadesgalapagar@coeduca.es.  \nSe harán las devoluciones en caso de no llegar al mínimo de participantes o por causa de fuerza mayor debidamente justificada y previa valoración de la organización.
URL:https://plangalapagar.es/plan/disena-tu-mundo/
LOCATION:Punto Joven\, Guadarrama\, 68\, Galapagar\, Madrid\, 28260
CATEGORIES:Jóvenes
ATTACH;FMTTYPE=image/jpeg:https://plangalapagar.es/wp-content/uploads/2025/09/DISENATUMUNDO.jpg
END:VEVENT
BEGIN:VEVENT
DTSTART;TZID=Europe/Madrid:20251002T180000
DTEND;TZID=Europe/Madrid:20251002T193000
DTSTAMP:20260420T051453
CREATED:20250924T095348Z
LAST-MODIFIED:20250924T095348Z
UID:10000655-1759428000-1759433400@plangalapagar.es
SUMMARY:Servicio de información juvenil 2 de octubre
DESCRIPTION:Si tienes entre 10 y 30 años\, ¡no te pierdas nuestros talleres de información juvenil! \nSe trata de un servicio integral de información y asesoramiento juvenil sobre becas\, empleo\, vivienda\, programas europeos\, salud\, voluntariado y participación. \nEl jueves 2 de octubre tendrá lugar el taller «Madrid para jóvenes: Planes gratuitos o casi». Descubre cómo encontrar actividades culturales\, rutas\, eventos y propuestas de ocio gratuitas o muy económicas en la Comunidad de Madrid. Incluye recomendaciones\, webs y apps útiles. \n¿Te lo vas a perder? \nEste plan es gratuito y las plazas son limitadas.  \nHaz click en el botón «Me apunto» y reserva la tuya.
URL:https://plangalapagar.es/plan/servicio-de-informacion-juvenil-2-de-octubre/
LOCATION:Punto Joven\, Guadarrama\, 68\, Galapagar\, Madrid\, 28260
CATEGORIES:Jóvenes
ATTACH;FMTTYPE=image/jpeg:https://plangalapagar.es/wp-content/uploads/2025/09/INFOJUVENIL_2O.jpg
END:VEVENT
BEGIN:VEVENT
DTSTART;TZID=Europe/Madrid:20251003T173000
DTEND;TZID=Europe/Madrid:20251003T203000
DTSTAMP:20260420T051453
CREATED:20250924T100007Z
LAST-MODIFIED:20250924T100007Z
UID:10000665-1759512600-1759523400@plangalapagar.es
SUMMARY:Ocio Joven 3 de octubre
DESCRIPTION:¡Nuevo plan de Ocio Joven! \nEl viernes 3 de octubre habrá diversas actividades para los jóvenes que podrán elegir en función de sus intereses. \n\nZona activa:\n\n– Grupo A (de 10 a 13 años). Llega la actividad «Taller de chapas». En este taller manual podrás diseñar y fabricar tus propias chapas decorativas utilizando una prensa manual y materiales gráficos. Fomenta tu expresión personal\, la psicomotricidad fina y la identidad visual  a través de un soporte accesible y reutilizable. \n– Grupo B (de 14 a 17 años). Llega la actividad «Micros abiertos + jurado joven». En esta sesión participativa de exhibición artística podrás presentar de forma voluntaria habilidades como la música\, el canto\, los monólogos o la poesía. Un jurado compuesto por participantes evaluará de forma lúdica cada intervención\, fomentando la expresión\, la autoestima y la dinamización entre iguales en un entorno de respeto y confianza. \n\nZona ludoteca: ¡No te pierdas el juego Monopoly!\nZona libre: Utiliza el espacio de manera autónoma a través de los recursos abiertos.\n\n¡No te lo pierdas! Es gratis y las plazas son limitadas. \nHaz click en el botón «Me apunto» y reserva la tuya.
URL:https://plangalapagar.es/plan/ocio-joven-3-de-octubre/
LOCATION:Punto Joven\, Guadarrama\, 68\, Galapagar\, Madrid\, 28260
CATEGORIES:Jóvenes
ATTACH;FMTTYPE=image/jpeg:https://plangalapagar.es/wp-content/uploads/2025/09/OJ-3O.jpg
END:VEVENT
BEGIN:VEVENT
DTSTART;TZID=Europe/Madrid:20251003T173000
DTEND;TZID=Europe/Madrid:20251003T203000
DTSTAMP:20260420T051453
CREATED:20250929T100020Z
LAST-MODIFIED:20250924T095750Z
UID:10000649-1759512600-1759523400@plangalapagar.es
SUMMARY:Diverteca 3 de octubre
DESCRIPTION:¡Nueva actividad de diverteca para los peques de la casa! \nEl viernes 3 de octubre tendrá lugar la actividad «El reino de la imaginación».  Tendrás la oportunidad de entrar en un mundo mágico donde todo es posible: castillos flotantes\, dragones y aventuras sorprendentes. \nAdéntrate en un mundo donde los castillos flotan en el aire\, los dragones protegen tesoros secretos y cada rincón guarda una aventura por descubrir. A través de manualidades\, retos y juegos cooperativos\, podrás crear tus propios escudos mágicos\, buscarás tesoros encantados y darás vida a historias fantásticas llenas de imaginación. \n¿Te atreves a convertirte en caballero\, hada o mago y proteger la magia del reino? \n¡No te lo pierdas\, es gratis y las plazas son limitadas! \nHaz click en el botón «Me apunto» y reserva la tuya.
URL:https://plangalapagar.es/plan/diverteca-3-de-octubre/
LOCATION:Punto Joven\, Guadarrama\, 68\, Galapagar\, Madrid\, 28260
CATEGORIES:Infantil
ATTACH;FMTTYPE=image/jpeg:https://plangalapagar.es/wp-content/uploads/2025/09/DV-3O.jpg
END:VEVENT
BEGIN:VEVENT
DTSTART;TZID=Europe/Madrid:20251004T173000
DTEND;TZID=Europe/Madrid:20251004T203000
DTSTAMP:20260420T051453
CREATED:20250924T100111Z
LAST-MODIFIED:20250924T100111Z
UID:10000669-1759599000-1759609800@plangalapagar.es
SUMMARY:Ocio Joven 4 de octubre
DESCRIPTION:¡Nuevo plan de Ocio Joven! \nEl sábado 4 de octubre habrá diversas actividades para los jóvenes que podrán elegir en función de sus intereses. \n\nZona activa:\n\n– Grupo A (de 10 a 13 años). Llega la actividad «Mario Kart: Torneo individual por equipos». Se trata de una competición de videojuegos estructurada en partidas cortas de Mario Kart en modo individual y cooperativo. Favorece la participación activa\, la coordinación\, la toma de decisiones rápidas y la socialización en un entorno lúdico digital supervisado. \n– Grupo B (de 14 a 17 años). Llega la actividad «Taller de chapas: Diseña tus propios pines». Taller manual orientado a la creatividad individual en el que podrás diseñar y fabricar tus propias chapas decorativas utilizando una prensa manual y materiales gráficos. Fomenta tu expresión personal\, la psicomotricidad fina y la identidad visual juvenil a través de un soporte accesible y reutilizable. \n\nZona ludoteca: ¡No te pierdas el juego Tabú!\nZona libre: Utiliza el espacio de manera autónoma a través de los recursos abiertos.\n\n¡No te lo pierdas! Es gratis y las plazas son limitadas. \nHaz click en el botón «Me apunto» y reserva la tuya.
URL:https://plangalapagar.es/plan/ocio-joven-4-de-octubre/
LOCATION:Punto Joven\, Guadarrama\, 68\, Galapagar\, Madrid\, 28260
CATEGORIES:Jóvenes
ATTACH;FMTTYPE=image/jpeg:https://plangalapagar.es/wp-content/uploads/2025/09/OJ-4.jpg
END:VEVENT
END:VCALENDAR