BEGIN:VCALENDAR
VERSION:2.0
PRODID:-//Plan Galapagar - ECPv6.15.20//NONSGML v1.0//EN
CALSCALE:GREGORIAN
METHOD:PUBLISH
X-WR-CALNAME:Plan Galapagar
X-ORIGINAL-URL:https://plangalapagar.es
X-WR-CALDESC:Eventos para Plan Galapagar
REFRESH-INTERVAL;VALUE=DURATION:PT1H
X-Robots-Tag:noindex
X-PUBLISHED-TTL:PT1H
BEGIN:VTIMEZONE
TZID:Europe/Madrid
BEGIN:DAYLIGHT
TZOFFSETFROM:+0100
TZOFFSETTO:+0200
TZNAME:CEST
DTSTART:20240331T010000
END:DAYLIGHT
BEGIN:STANDARD
TZOFFSETFROM:+0200
TZOFFSETTO:+0100
TZNAME:CET
DTSTART:20241027T010000
END:STANDARD
BEGIN:DAYLIGHT
TZOFFSETFROM:+0100
TZOFFSETTO:+0200
TZNAME:CEST
DTSTART:20250330T010000
END:DAYLIGHT
BEGIN:STANDARD
TZOFFSETFROM:+0200
TZOFFSETTO:+0100
TZNAME:CET
DTSTART:20251026T010000
END:STANDARD
BEGIN:DAYLIGHT
TZOFFSETFROM:+0100
TZOFFSETTO:+0200
TZNAME:CEST
DTSTART:20260329T010000
END:DAYLIGHT
BEGIN:STANDARD
TZOFFSETFROM:+0200
TZOFFSETTO:+0100
TZNAME:CET
DTSTART:20261025T010000
END:STANDARD
BEGIN:DAYLIGHT
TZOFFSETFROM:+0100
TZOFFSETTO:+0200
TZNAME:CEST
DTSTART:20270328T010000
END:DAYLIGHT
BEGIN:STANDARD
TZOFFSETFROM:+0200
TZOFFSETTO:+0100
TZNAME:CET
DTSTART:20271031T010000
END:STANDARD
END:VTIMEZONE
BEGIN:VEVENT
DTSTART;TZID=Europe/Madrid:20250910T183000
DTEND;TZID=Europe/Madrid:20251218T203000
DTSTAMP:20260420T000430
CREATED:20250924T095900Z
LAST-MODIFIED:20251201T182604Z
UID:10000872-1757529000-1766089800@plangalapagar.es
SUMMARY:Taller de modelado 3D
DESCRIPTION:¿Tienes entre 12 y 17 años? \n¡Diseña tu propia creación en 3D desde cero! \nEn este taller podrás aprender a dar vida a tus ideas a través del modelado 3D utilizando Blender\, un potente programa gratuito y profesional. A lo largo de varias sesiones\, trabajarás en un proyecto personal. Podrás diseñar una casa\, una máquina\, un objeto imaginario o cualquier cosa que se te ocurra\, aprendiendo paso a paso cómo llevarlo del papel a la pantalla. \nConocerás los fundamentos del diseño en 3D\, las herramientas básicas de modelado y aplicarás texturas\, materiales y colores para completar tu creación. Además\, saldrás con los conocimientos necesarios para seguir practicando en casa\, ya que Blender es un software libre y gratuito. \nSesiones del taller: \n\nJueves 9 de octubre de 18:30 a 20:30 horas.\nJueves 23 de octubre de 18:30 a 20:30 horas.\nJueves 6 de noviembre de 18:30 a 20:30 horas.\nJueves 20 de noviembre de 18:30 a 20:30 horas.\nJueves 4 de diciembre de 18:30 a 20:30 horas.\nJueves 18 de diciembre de 18:30 a 20:30 horas.\n\n  \n¿Cómo me apunto?  \nRegistra los datos solicitados y realiza el pago de 14\,50 € al mes que deberás ingresar en la cuenta de Servicios Psicoeducativos (ES25 3058 1907 0527 2050 5695) o a través de Bizum al teléfono 613 56 66 97 (RUBEN N.V) y adjunta la ficha y el justificante de pago a tu inscripción web. \nSi quieres pagar los 3 meses juntos (octubre\, noviembre y diciembre)\, puedes hacerlo e indicarlo en observaciones. \nSi pagas mes a mes antes del 25 del mes anterior\, debes pagar el mes siguiente y enviar el justificante de pago al correo actividadesgalapagar@coeduca.es.  \nPara darte de baja en la actividad debes solicitarlo antes del 25 de cada mes al correo actividadesgalapagar@coeduca.es.  \nSe harán las devoluciones en caso de no llegar al mínimo de participantes o por causa de fuerza mayor debidamente justificada y previa valoración de la organización.
URL:https://plangalapagar.es/plan/taller-de-modelado-3d/
LOCATION:Punto Joven\, Guadarrama\, 68\, Galapagar\, Madrid\, 28260
CATEGORIES:Jóvenes
ATTACH;FMTTYPE=image/jpeg:https://plangalapagar.es/wp-content/uploads/2025/09/MODELADO3D.jpg
END:VEVENT
BEGIN:VEVENT
DTSTART;TZID=Europe/Madrid:20251001T173000
DTEND;TZID=Europe/Madrid:20260617T183000
DTSTAMP:20260420T000430
CREATED:20250924T094937Z
LAST-MODIFIED:20260416T151612Z
UID:10000676-1759339800-1781721000@plangalapagar.es
SUMMARY:Chiquirritmo
DESCRIPTION:¡Llega un nuevo plan infantil para niños de 3\, 4\, 5 y 6 años! \n«Chiquirritmo» es una actividad pensada especialmente para los más pequeños de Educación Infantil\, donde el movimiento y la música se convierten en protagonistas. A través de una clase de baile moderno adaptada a su edad\, los niños y niñas aprenderán coreografías sencillas\, llenas de ritmo\, color y diversión. \nCada sesión combinará el aprendizaje de pasos básicos con juegos musicales que fomenten la coordinación\, el ritmo y la expresión corporal. Además\, se realizarán minishows a lo largo del curso\, donde las familias podrán disfrutar de las coreografías que han preparado los pequeños artistas con ilusión y entusiasmo. \nMás que una clase de baile\, «Chiquirritmo» es una experiencia para explorar el cuerpo\, las emociones y la creatividad a través del arte del movimiento. Tendrá lugar todos los miércoles según calendario escolar. \n¿Cómo me apunto? \n\nRealiza el pago de 3\,50 € al mes  en la cuenta de Servicios Psicoeducativos:\n\nIBAN: ES25 3058 1907 0527 2050 5695\nBizum: 613 56 66 97 (RUBEN N.V)\n\n\nHaz clic en el botón «Me apunto»\, rellena el formulario y adjunta el justificante de pago.\nSi deseas pagar varios meses juntos\, indícalo en el apartado de observaciones y adjunta el justificante correspondiente.\nPara pagos mes a mes\, realiza el pago antes del 25 del mes anterior y envía el justificante a: actividadesgalapagar@coeduca.es.\nPara darte de baja\, solicita la baja antes del 25 del mes anterior al correo actividadesgalapagar@coeduca.es.\n\nDevoluciones: \n\nSolo se realizarán si no se alcanza el mínimo de participantes o por causa de fuerza mayor debidamente justificada y previa valoración de la organización.
URL:https://plangalapagar.es/plan/chiquirritmo/
LOCATION:Punto Joven\, Guadarrama\, 68\, Galapagar\, Madrid\, 28260
CATEGORIES:Infantil
ATTACH;FMTTYPE=image/jpeg:https://plangalapagar.es/wp-content/uploads/2025/09/CHIQUIRITMO.jpg
END:VEVENT
BEGIN:VEVENT
DTSTART;TZID=Europe/Madrid:20251001T181500
DTEND;TZID=Europe/Madrid:20251231T194500
DTSTAMP:20260420T000430
CREATED:20250924T095247Z
LAST-MODIFIED:20251201T182617Z
UID:10000677-1759342500-1767210300@plangalapagar.es
SUMMARY:Escena Joven
DESCRIPTION:¿Tienes entre 12 y 17 años? \n¡No te pierdas el plan «Escena Joven»! \nSe trata de un taller de teatro pensado para que chicas y chicos exploren el arte de actuar como herramienta de expresión\, comunicación y crecimiento personal. A través de juegos dramáticos\, improvisaciones\, dinámicas de grupo y creación de escenas\, los participantes desarrollarán sus habilidades interpretativas\, su confianza y su capacidad para trabajar en equipo. \nEl proceso culminará con una muestra final opcional (obra corta o escena improvisada)\, abierta a familias o público como parte del cierre del taller. \nTendrá lugar todos los miércoles de octubre a diciembre\, según calendario escolar. *Sujeto a la formación de grupo.  \n  \n¿Cómo me apunto?  \nRegistra los datos solicitados y realiza el pago de 5\,50 € al mes que deberás ingresar en la cuenta de Servicios Psicoeducativos (ES25 3058 1907 0527 2050 5695) o a través de Bizum al teléfono 613 56 66 97 (RUBEN N.V) y adjunta la ficha y el justificante de pago a tu inscripción web. \nSi quieres pagar los 3 meses juntos (octubre\, noviembre y diciembre)\, puedes hacerlo e indicarlo en observaciones. \nSi pagas mes a mes antes del 25 del mes anterior\, debes pagar el mes siguiente y enviar el justificante de pago al correo actividadesgalapagar@coeduca.es.  \nPara darte de baja en la actividad debes solicitarlo antes del 25 de cada mes al correo actividadesgalapagar@coeduca.es.  \nSe harán las devoluciones en caso de no llegar al mínimo de participantes o por causa de fuerza mayor debidamente justificada y previa valoración de la organización.
URL:https://plangalapagar.es/plan/escena-joven/
LOCATION:Punto Joven\, Guadarrama\, 68\, Galapagar\, Madrid\, 28260
CATEGORIES:Jóvenes
ATTACH;FMTTYPE=image/jpeg:https://plangalapagar.es/wp-content/uploads/2025/09/ESCENAJOVEN.jpg
END:VEVENT
BEGIN:VEVENT
DTSTART;TZID=Europe/Madrid:20251002T164500
DTEND;TZID=Europe/Madrid:20251218T181500
DTSTAMP:20260420T000430
CREATED:20250924T095122Z
LAST-MODIFIED:20251201T182551Z
UID:10000684-1759423500-1766081700@plangalapagar.es
SUMMARY:Diseña tu mundo
DESCRIPTION:¿Tienes entre 10 y 16 años? \n¡No te pierdas este taller de diseño! \nPodrás explorar el mundo del diseño gráfico usando Canva o programas similares. A través de sesiones prácticas\, aprenderás a crear carteles\, portadas\, collages\, logos y contenido visual con sentido estético y comunicativo. Fomentarás la expresión personal\, el trabajo colaborativo y la presentación de ideas visuales con impacto. \nLa actividad no requiere experiencia previa y está diseñada para que puedas desarrollar tu propio estilo gráfico\, combinando creatividad con habilidades digitales útiles para la escuela\, proyectos personales o redes sociales. \nTendrá lugar todos los jueves de octubre a diciembre\, según calendario escolar. *Sujeto a la formación de grupo.  \n  \n¿Cómo me apunto?  \nRegistra los datos solicitados y realiza el pago de 7\,50 € al mes que deberás ingresar en la cuenta de Servicios Psicoeducativos (ES25 3058 1907 0527 2050 5695) o a través de Bizum al teléfono 613 56 66 97 (RUBEN N.V) y adjunta la ficha y el justificante de pago a tu inscripción web. \nSi quieres pagar los 3 meses juntos (octubre\, noviembre y diciembre)\, puedes hacerlo e indicarlo en observaciones. \nSi pagas mes a mes antes del 25 del mes anterior\, debes pagar el mes siguiente y enviar el justificante de pago al correo actividadesgalapagar@coeduca.es.  \nPara darte de baja en la actividad debes solicitarlo antes del 25 de cada mes al correo actividadesgalapagar@coeduca.es.  \nSe harán las devoluciones en caso de no llegar al mínimo de participantes o por causa de fuerza mayor debidamente justificada y previa valoración de la organización.
URL:https://plangalapagar.es/plan/disena-tu-mundo/
LOCATION:Punto Joven\, Guadarrama\, 68\, Galapagar\, Madrid\, 28260
CATEGORIES:Jóvenes
ATTACH;FMTTYPE=image/jpeg:https://plangalapagar.es/wp-content/uploads/2025/09/DISENATUMUNDO.jpg
END:VEVENT
BEGIN:VEVENT
DTSTART;TZID=Europe/Madrid:20251007T170000
DTEND;TZID=Europe/Madrid:20251230T183000
DTSTAMP:20260420T000430
CREATED:20250924T095506Z
LAST-MODIFIED:20251201T182630Z
UID:10000685-1759856400-1767119400@plangalapagar.es
SUMMARY:Taller de Art Atack
DESCRIPTION:¿Tienes entre 10 y 17 años? \n¡No te pierdas este taller de Art Atack! \nInspirado en el famoso programa televisivo\, en cada sesión te proponemos una manualidad o proyecto artístico diferente utilizando materiales accesibles y fomentando el reciclaje y la experimentación con texturas\, colores y formas. \nLas actividades varían entre pintura\, collage\, escultura con materiales reciclados\, creación de decoraciones y arte urbano (chalk art\, stencil sobre cartón)\, entre otras. \nNo se requieren conocimientos previos. Podrás avanzar a tu ritmo en un ambiente distendido\, colaborativo y motivador. \nAdemás de crear obras personales o colectivas\, se promueve el trabajo en equipo\, el respeto por las creaciones de los demás y el disfrute del proceso artístico más allá del resultado final. \nTendrá lugar todos los martes de octubre a diciembre\, según calendario escolar. *Sujeto a la formación de grupo.  \n  \n¿Cómo me apunto?  \nRegistra los datos solicitados y realiza el pago de 8 € al mes que deberás ingresar en la cuenta de Servicios Psicoeducativos (ES25 3058 1907 0527 2050 5695) o a través de Bizum al teléfono 613 56 66 97 (RUBEN N.V) y adjunta la ficha y el justificante de pago a tu inscripción web. \nSi quieres pagar los 3 meses juntos (octubre\, noviembre y diciembre)\, puedes hacerlo e indicarlo en observaciones. \nSi pagas mes a mes antes del 25 del mes anterior\, debes pagar el mes siguiente y enviar el justificante de pago al correo actividadesgalapagar@coeduca.es.  \nPara darte de baja en la actividad debes solicitarlo antes del 25 de cada mes al correo actividadesgalapagar@coeduca.es.  \nSe harán las devoluciones en caso de no llegar al mínimo de participantes o por causa de fuerza mayor debidamente justificada y previa valoración de la organización.
URL:https://plangalapagar.es/plan/taller-de-art-atack/
LOCATION:Punto Joven\, Guadarrama\, 68\, Galapagar\, Madrid\, 28260
CATEGORIES:Jóvenes
ATTACH;FMTTYPE=image/jpeg:https://plangalapagar.es/wp-content/uploads/2025/09/ARTATTACK.jpg
END:VEVENT
BEGIN:VEVENT
DTSTART;TZID=Europe/Madrid:20251103T090000
DTEND;TZID=Europe/Madrid:20251103T140000
DTSTAMP:20260420T000430
CREATED:20251016T094005Z
LAST-MODIFIED:20251031T094849Z
UID:10000717-1762160400-1762178400@plangalapagar.es
SUMMARY:Días sin cole 3 de noviembre
DESCRIPTION:¿Tienes entre 3 y 12 años? \n¡No te pierdas los «Días sin cole».  \nEl lunes 3 de noviembre tendrá lugar la actividad «Halloween sin miedo». ¡No te pierdas una mañana terroríficamente divertida! \nCelebramos Halloween de forma lúdica\, creativa y sin sustos. Disfrutaremos de una mañana llena de juegos\, talleres\, disfraces\, cuentos misteriosos y sorpresas en un entorno seguro y divertido. \nSe trata de una jornada pensada para despertar la imaginación\, fomentar la convivencia y transformar los miedos en risas. \nHorarios y precios \n  \n\nDe 09:00 a 14:00 horas: 7 € por día.\nAmpliación horario de comida de 14:00 a 16:00 horas: 3\,50 € por día. \nServicio extra de madrugadores de 08:00 a 09:00 horas: 1\,75 € por día.\n\n  \n¿Cómo me apunto? \nAntes de proceder a la inscripción debes tener el pago realizado\, ya que uno de los datos que te pediremos es el justificante de pago. El abono se hará mediante ingreso en la cuenta de Servicios Psicoeducativos (ES25 3058 1907 0527 2050 5695). \nHaz click en el botón «Me apunto» y rellena todos los datos que se solicitan. Además del justificante de pago\, deberán adjuntar la ficha de inscripción. \nSe harán las devoluciones en caso de no llegar al mínimo de participantes o por causa de fuerza mayor debidamente justificada y previa valoración de la organización. \n¡No te pierdas este plan!
URL:https://plangalapagar.es/plan/dias-sin-cole-3-de-noviembre/
LOCATION:Punto Joven\, Guadarrama\, 68\, Galapagar\, Madrid\, 28260
CATEGORIES:Infantil
ATTACH;FMTTYPE=image/jpeg:https://plangalapagar.es/wp-content/uploads/2025/10/DIAS_SIN_COLE_3N.jpg
END:VEVENT
BEGIN:VEVENT
DTSTART;TZID=Europe/Madrid:20251103T170000
DTEND;TZID=Europe/Madrid:20251126T210000
DTSTAMP:20260420T000430
CREATED:20251016T095428Z
LAST-MODIFIED:20251016T095428Z
UID:10000745-1762189200-1764190800@plangalapagar.es
SUMMARY:Desconecta - Noviembre
DESCRIPTION:¿Tienes entre 10 y 17 años? \n¡Ven a disfrutar de la Sala de Punto Joven! \nTe ofrecemos este espacio donde puedes compartir\, divertirte y disfrutar con amigos en un ambiente de compañerismo y buen rollo. Aquí encontrarás la Play 5\, la Wii\, futbolín\, ping-pong\, juegos de mesa y mucho más. \nRecuerda que el respeto y la convivencia son clave: todos tenemos nuestro turno para jugar y pasarlo bien juntos. \n¡Es una sala creada por y para jóvenes como tú! \nEste plan tendrá lugar los lunes y miércoles de 17:00 a 21:00 horas.  \n¡Te esperamos! \nHaz click en el botón «Me apunto» y reserva tu plaza. ¡Recuerda que son limitadas!
URL:https://plangalapagar.es/plan/desconecta-noviembre/
LOCATION:Punto Joven\, Guadarrama\, 68\, Galapagar\, Madrid\, 28260
CATEGORIES:Jóvenes
ATTACH;FMTTYPE=image/jpeg:https://plangalapagar.es/wp-content/uploads/2025/10/DESCONECTA-1.jpg
END:VEVENT
BEGIN:VEVENT
DTSTART;TZID=Europe/Madrid:20251104T180000
DTEND;TZID=Europe/Madrid:20251104T193000
DTSTAMP:20260420T000430
CREATED:20251016T094302Z
LAST-MODIFIED:20251016T094302Z
UID:10000742-1762279200-1762284600@plangalapagar.es
SUMMARY:Taller creativo 4 de noviembre
DESCRIPTION:¿Tienes entre 14 y 17 años? \nNo te pierdas este taller de edición básica de vídeos para redes sociales. Conoce herramientas sencillas para editar de forma atractiva y llamativa para Instagram\, TikTok o Youtube.  \n¡No te lo pierdas! Este plan es gratis y las plazas son limitadas. \nHaz click en el botón «Me apunto» y reserva la tuya.
URL:https://plangalapagar.es/plan/taller-creativo-4-de-noviembre/
LOCATION:Punto Joven\, Guadarrama\, 68\, Galapagar\, Madrid\, 28260
CATEGORIES:Jóvenes
ATTACH;FMTTYPE=image/jpeg:https://plangalapagar.es/wp-content/uploads/2025/10/CREATIVOS_4N.jpg
END:VEVENT
BEGIN:VEVENT
DTSTART;TZID=Europe/Madrid:20251106T180000
DTEND;TZID=Europe/Madrid:20251120T193000
DTSTAMP:20260420T000430
CREATED:20251016T094117Z
LAST-MODIFIED:20251016T094117Z
UID:10000744-1762452000-1763667000@plangalapagar.es
SUMMARY:Taller creativo 6 y 20 de noviembre
DESCRIPTION:¿Tienes entre 14 y 30 años? \nNo te pierdas el taller «Creación y edición de vídeos para redes sociales». Durante la primera sesión\, que tendrá lugar el jueves 6 de noviembre\, aprenderás trucos rápidos y herramientas útiles para grabar y editar vídeos dinámicos con buena calidad desde el móvil. \nEn la segunda sesión\, que será el jueves 20 de noviembre\, grabaremos unos videos en grupo con guion preparado. \n¡No te lo pierdas! Este plan es gratis y las plazas son limitadas. \nHaz click en el botón «Me apunto» y reserva la tuya.
URL:https://plangalapagar.es/plan/taller-creativo-6-y-20-de-noviembre/
LOCATION:Punto Joven\, Guadarrama\, 68\, Galapagar\, Madrid\, 28260
CATEGORIES:Jóvenes
ATTACH;FMTTYPE=image/jpeg:https://plangalapagar.es/wp-content/uploads/2025/10/CREATIVOS_6Y20N.jpg
END:VEVENT
BEGIN:VEVENT
DTSTART;TZID=Europe/Madrid:20251107T170000
DTEND;TZID=Europe/Madrid:20251121T210000
DTSTAMP:20260420T000430
CREATED:20251016T094523Z
LAST-MODIFIED:20251028T072042Z
UID:10000746-1762534800-1763758800@plangalapagar.es
SUMMARY:Monográfico 7 y 21 de noviembre
DESCRIPTION:¿Tienes entre 16 y 30 años? \n¡No te pierdas el taller «Monográfico: Diseño de escape rooms educativos en el tiempo libre».  \nEstá dirigido a personas tituladas en ocio y tiempo libre o que están en proceso de formación. Introduce el diseño básico de experiencias tipo escape room con fines educativos y lúdicos\, empleando recursos accesibles y dinámicas de trabajo en grupo. \nPotencia la creatividad\, la cooperación y la planificación de actividades originales en contextos como campamentos\, ludotecas o centros juveniles. \nEste taller está compuesto de 2 sesiones que tendrán lugar el 7 y 21 de noviembre en el horario de 17:00 a 21:00 horas. \n*Este plan está sujeto a la formación de grupo. \n  \n¿Cómo me apunto?  \nRegistra los datos solicitados y realiza el pago de 9 €  que deberás ingresar en la cuenta de Servicios Psicoeducativos (ES25 3058 1907 0527 2050 5695) o a través de Bizum al teléfono 613 56 66 97 (RUBEN N.V) y adjunta el justificante de pago a tu inscripción web. \n¡No te lo pierdas! \nHaz click en el botón «Me apunto» y reserva tu plaza. \n 
URL:https://plangalapagar.es/plan/monografico-7-y-21-de-noviembre/
LOCATION:Punto Joven\, Guadarrama\, 68\, Galapagar\, Madrid\, 28260
CATEGORIES:Jóvenes
ATTACH;FMTTYPE=image/jpeg:https://plangalapagar.es/wp-content/uploads/2025/10/MONOGRAFICO_DISENO_ESCAPERROMS.jpg
END:VEVENT
BEGIN:VEVENT
DTSTART;TZID=Europe/Madrid:20251107T173000
DTEND;TZID=Europe/Madrid:20251107T203000
DTSTAMP:20260420T000430
CREATED:20251031T110035Z
LAST-MODIFIED:20251016T095312Z
UID:10000729-1762536600-1762547400@plangalapagar.es
SUMMARY:Ocio Joven 7 de noviembre
DESCRIPTION:¡Nuevo plan de Ocio Joven! \nEl viernes 7 de noviembre habrá diversas actividades para los jóvenes que podrán elegir en función de sus intereses. \n\nZona activa:\n\n– Grupo A (de 10 a 13 años). Llega la actividad «Taller DIY: Pulseras con charms personalizados». Diseñarás pulseras utilizando cordones\, cuentas de colores\, letras\, emojis y pequeños charms decorativos. La actividad favorece la psicomotricidad fina\, la expresión personal y el trabajo manipulativo\, permitiéndote crear un accesorio único que refleje tu estilo o mensaje. \n– Grupo B (de 14 a 17 años). Llega la actividad «Style remix: Transforma tu ropa». Taller de customización textil en el que podrás reinventar prendas usadas (camisetas\, vaqueros\, tote bags\, etc.) con técnicas como pintura\, rotuladores textiles\, pegatinas térmicas o parches. La actividad fomenta la sostenibilidad\, el reciclaje creativo y el desarrollo de una identidad estética propia\, integrando referentes juveniles y culturales. \n\nZona ludoteca: ¡No te pierdas el juego Party!\nZona libre: Utiliza el espacio de manera autónoma a través de los recursos abiertos.\n\n¡No te lo pierdas! Es gratis y las plazas son limitadas. \nHaz click en el botón «Me apunto» y reserva la tuya.
URL:https://plangalapagar.es/plan/ocio-joven-7-de-noviembre/
LOCATION:Punto Joven\, Guadarrama\, 68\, Galapagar\, Madrid\, 28260
CATEGORIES:Jóvenes
ATTACH;FMTTYPE=image/jpeg:https://plangalapagar.es/wp-content/uploads/2025/10/OJ_7N.jpg
END:VEVENT
BEGIN:VEVENT
DTSTART;TZID=Europe/Madrid:20251107T173000
DTEND;TZID=Europe/Madrid:20251107T203000
DTSTAMP:20260420T000430
CREATED:20251103T110012Z
LAST-MODIFIED:20251016T095212Z
UID:10000718-1762536600-1762547400@plangalapagar.es
SUMMARY:Diverteca 7 de noviembre
DESCRIPTION:¡Nueva actividad de diverteca para los peques de la casa! \nEl viernes 7 de noviembre tendrá lugar la actividad «Taller de reciclaje creativo». Convierte lo viejo en algo totalmente nuevo y sorprendente! \nEn este taller lleno de imaginación y conciencia ambiental\, podrás convertirte en un pequeño artista ecológico. Utilizando materiales reciclables como cartón\, botellas\, tapones o periódicos\, darás vida a originales manualidades\, desde divertidos juguetes hasta coloridos objetos decorativos. \nCada creación será una oportunidad para aprender que reciclar también puede ser divertido\, mientras desarrollas tu creatividad y descubres el valor de cuidar el planeta. \n¡Una experiencia única donde la sostenibilidad y el arte se dan la mano! \n¡No te lo pierdas\, es gratis y las plazas son limitadas! \nHaz click en el botón «Me apunto» y reserva la tuya.
URL:https://plangalapagar.es/plan/diverteca-7-de-noviembre/
LOCATION:Punto Joven\, Guadarrama\, 68\, Galapagar\, Madrid\, 28260
CATEGORIES:Infantil
ATTACH;FMTTYPE=image/jpeg:https://plangalapagar.es/wp-content/uploads/2025/11/DV_7N.jpg
END:VEVENT
BEGIN:VEVENT
DTSTART;TZID=Europe/Madrid:20251108T173000
DTEND;TZID=Europe/Madrid:20251108T183000
DTSTAMP:20260420T000430
CREATED:20251016T094423Z
LAST-MODIFIED:20251016T094423Z
UID:10000689-1762623000-1762626600@plangalapagar.es
SUMMARY:Yoga en familia 8 de noviembre
DESCRIPTION:¡Disfruta de una experiencia especial donde puedas relajarte\, conectar y divertirte en familia! \nEste taller está diseñado para que padres\, madres e hijos compartáis momentos de movimiento\, respiración y calma en un ambiente agradable y respetuoso. \nPracticar yoga en familia fortalece los lazos afectivos\, fomenta la comunicación y ayuda a desarrollar habilidades como la paciencia\, la concentración y la empatía. Mediante posturas adaptadas\, juegos y ejercicios de respiración\, aprenderéis a escuchar vuestro cuerpo y a expresar vuestras emociones de manera saludable. \nVen a descubrir cómo el yoga puede ser una herramienta para cultivar la paciencia\, la alegría y el bienestar en familia mientras pasáis un buen rato. \n*Este plan está sujeto a la formación de grupo. \nLa actividad está dirigida a familias con niños de 3 a 5 años. \n  \n¿Cómo me apunto? \nEste plan es de pago y el precio es de 2 € por familia que deberás ingresar en la cuenta de Servicios Psicoeducativos (ES25 3058 1907 0527 2050 5695)\, o a través de Bizum al teléfono 613 56 66 97 (RUBEN N.V). Deberás adjuntar el justificante de pago a tu inscripción en la web una vez que hagas click en el botón «Me apunto». \nLa confirmación de plaza se comunicará a través de correo electrónico una vez se haya formalizado el grupo mínimo. \nEn caso de que la actividad sea cancelada debido a causas imprevistas (como falta de participantes) se os reembolsará el 100% de la cantidad pagada. \nHaz click en el botón «Me apunto» y reserva tu plaza.
URL:https://plangalapagar.es/plan/yoga-en-familia-8-de-noviembre/
LOCATION:Punto Joven\, Guadarrama\, 68\, Galapagar\, Madrid\, 28260
CATEGORIES:Familiares
ATTACH;FMTTYPE=image/jpeg:https://plangalapagar.es/wp-content/uploads/2025/10/YOGA_FAMILIA.jpg
END:VEVENT
BEGIN:VEVENT
DTSTART;TZID=Europe/Madrid:20251108T173000
DTEND;TZID=Europe/Madrid:20251108T203000
DTSTAMP:20260420T000430
CREATED:20251031T110013Z
LAST-MODIFIED:20251016T095608Z
UID:10000733-1762623000-1762633800@plangalapagar.es
SUMMARY:Ocio Joven 8 de noviembre
DESCRIPTION:¡Nuevo plan de Ocio Joven! \nEl sábado 8 de noviembre habrá diversas actividades para los jóvenes que podrán elegir en función de sus intereses. \n\nZona activa:\n\n– Grupo A (de 10 a 13 años). Llega la actividad «Style Remix: Transforma tu ropa». Taller de customización textil en el que podrás reinventar prendas usadas (camisetas\, vaqueros\, tote bags\, etc.) con técnicas como pintura\, rotuladores textiles\, pegatinas térmicas o parches. La actividad fomenta la sostenibilidad\, el reciclaje creativo y el desarrollo de una identidad estética propia\, integrando referentes juveniles y culturales. \n– Grupo B (de 14 a 17 años). Llega la actividad «Taller DIY: Pulseras con charms personalizados». Podrás diseñar pulseras utilizando cordones\, cuerdas de colores\, letras\, emojis y pequeños charms decorativos. La actividad favorece la psicomotricidad fina\, la expresión personal y el trabajo manipulativo\, permitiéndote crear un accesorio único que refleje tu estilo o mensaje. \n\nZona ludoteca: ¡No te pierdas el juego Time’s Up!\nZona libre: Utiliza el espacio de manera autónoma a través de los recursos abiertos.\n\n¡No te lo pierdas! Es gratis y las plazas son limitadas. \nHaz click en el botón «Me apunto» y reserva la tuya.
URL:https://plangalapagar.es/plan/ocio-joven-8-de-noviembre/
LOCATION:Punto Joven\, Guadarrama\, 68\, Galapagar\, Madrid\, 28260
CATEGORIES:Jóvenes
ATTACH;FMTTYPE=image/jpeg:https://plangalapagar.es/wp-content/uploads/2025/10/OJ_8N.jpg
END:VEVENT
END:VCALENDAR