BEGIN:VCALENDAR
VERSION:2.0
PRODID:-//Plan Galapagar - ECPv6.15.20//NONSGML v1.0//EN
CALSCALE:GREGORIAN
METHOD:PUBLISH
X-WR-CALNAME:Plan Galapagar
X-ORIGINAL-URL:https://plangalapagar.es
X-WR-CALDESC:Eventos para Plan Galapagar
REFRESH-INTERVAL;VALUE=DURATION:PT1H
X-Robots-Tag:noindex
X-PUBLISHED-TTL:PT1H
BEGIN:VTIMEZONE
TZID:Europe/Madrid
BEGIN:DAYLIGHT
TZOFFSETFROM:+0100
TZOFFSETTO:+0200
TZNAME:CEST
DTSTART:20240331T010000
END:DAYLIGHT
BEGIN:STANDARD
TZOFFSETFROM:+0200
TZOFFSETTO:+0100
TZNAME:CET
DTSTART:20241027T010000
END:STANDARD
BEGIN:DAYLIGHT
TZOFFSETFROM:+0100
TZOFFSETTO:+0200
TZNAME:CEST
DTSTART:20250330T010000
END:DAYLIGHT
BEGIN:STANDARD
TZOFFSETFROM:+0200
TZOFFSETTO:+0100
TZNAME:CET
DTSTART:20251026T010000
END:STANDARD
BEGIN:DAYLIGHT
TZOFFSETFROM:+0100
TZOFFSETTO:+0200
TZNAME:CEST
DTSTART:20260329T010000
END:DAYLIGHT
BEGIN:STANDARD
TZOFFSETFROM:+0200
TZOFFSETTO:+0100
TZNAME:CET
DTSTART:20261025T010000
END:STANDARD
BEGIN:DAYLIGHT
TZOFFSETFROM:+0100
TZOFFSETTO:+0200
TZNAME:CEST
DTSTART:20270328T010000
END:DAYLIGHT
BEGIN:STANDARD
TZOFFSETFROM:+0200
TZOFFSETTO:+0100
TZNAME:CET
DTSTART:20271031T010000
END:STANDARD
END:VTIMEZONE
BEGIN:VEVENT
DTSTART;TZID=Europe/Madrid:20251001T173000
DTEND;TZID=Europe/Madrid:20260617T183000
DTSTAMP:20260419T210027
CREATED:20250924T094937Z
LAST-MODIFIED:20260416T151612Z
UID:10000676-1759339800-1781721000@plangalapagar.es
SUMMARY:Chiquirritmo
DESCRIPTION:¡Llega un nuevo plan infantil para niños de 3\, 4\, 5 y 6 años! \n«Chiquirritmo» es una actividad pensada especialmente para los más pequeños de Educación Infantil\, donde el movimiento y la música se convierten en protagonistas. A través de una clase de baile moderno adaptada a su edad\, los niños y niñas aprenderán coreografías sencillas\, llenas de ritmo\, color y diversión. \nCada sesión combinará el aprendizaje de pasos básicos con juegos musicales que fomenten la coordinación\, el ritmo y la expresión corporal. Además\, se realizarán minishows a lo largo del curso\, donde las familias podrán disfrutar de las coreografías que han preparado los pequeños artistas con ilusión y entusiasmo. \nMás que una clase de baile\, «Chiquirritmo» es una experiencia para explorar el cuerpo\, las emociones y la creatividad a través del arte del movimiento. Tendrá lugar todos los miércoles según calendario escolar. \n¿Cómo me apunto? \n\nRealiza el pago de 3\,50 € al mes  en la cuenta de Servicios Psicoeducativos:\n\nIBAN: ES25 3058 1907 0527 2050 5695\nBizum: 613 56 66 97 (RUBEN N.V)\n\n\nHaz clic en el botón «Me apunto»\, rellena el formulario y adjunta el justificante de pago.\nSi deseas pagar varios meses juntos\, indícalo en el apartado de observaciones y adjunta el justificante correspondiente.\nPara pagos mes a mes\, realiza el pago antes del 25 del mes anterior y envía el justificante a: actividadesgalapagar@coeduca.es.\nPara darte de baja\, solicita la baja antes del 25 del mes anterior al correo actividadesgalapagar@coeduca.es.\n\nDevoluciones: \n\nSolo se realizarán si no se alcanza el mínimo de participantes o por causa de fuerza mayor debidamente justificada y previa valoración de la organización.
URL:https://plangalapagar.es/plan/chiquirritmo/
LOCATION:Punto Joven\, Guadarrama\, 68\, Galapagar\, Madrid\, 28260
CATEGORIES:Infantil
ATTACH;FMTTYPE=image/jpeg:https://plangalapagar.es/wp-content/uploads/2025/09/CHIQUIRITMO.jpg
END:VEVENT
BEGIN:VEVENT
DTSTART;TZID=Europe/Madrid:20260105T090000
DTEND;TZID=Europe/Madrid:20260105T140000
DTSTAMP:20260419T210027
CREATED:20251107T050003Z
LAST-MODIFIED:20251229T152307Z
UID:10000771-1767603600-1767621600@plangalapagar.es
SUMMARY:Días sin cole: Ya vienen los Reyes Magos
DESCRIPTION:¿Tienes entre 3 y 12 años? \n¡No te pierdas los «Días sin cole».  \nEl lunes 5 de enero tendrá lugar la actividad «Ya vienen los Reyes Magos». ¡La magia de Oriente llega para llenar de ilusión el día más especial del año! \nInvitamos a todos los peques a vivir una experiencia inolvidable mientras esperan la llegada de los Reyes Magos en una jornada repleta de fantasía\, juegos y tradición. Uno de los momentos más emocionantes será nuestro taller creativo de cartas con pegatinas\, sellos\, colores y mucha imaginación. Sin olvidar que\, para conseguir los materiales\, deberán superar retos y seguir pistas para encontrar los legendarios tesoros de Oriente: ¡oro\, incienso y mirra! \n  \nHorarios y precios \n  \n\nDe 09:00 a 14:00 horas: 7 € por día.\nAmpliación horario de comida de 14:00 a 16:00 horas: 3\,50 € por día. \nServicio extra de madrugadores de 08:00 a 09:00 horas: 1\,75 € por día.\n\n  \n¿Cómo me apunto? \nAntes de proceder a la inscripción debes tener el pago realizado\, ya que uno de los datos que te pediremos es el justificante de pago. El abono se hará mediante ingreso en la cuenta de Servicios Psicoeducativos (ES25 3058 1907 0527 2050 5695). \nHaz click en el botón «Me apunto» y rellena todos los datos que se solicitan. Además del justificante de pago\, deberán adjuntar la ficha de inscripción. \nSe harán las devoluciones en caso de no llegar al mínimo de participantes o por causa de fuerza mayor debidamente justificada y previa valoración de la organización. \n¡No te pierdas este plan!
URL:https://plangalapagar.es/plan/dias-sin-cole-050126/
LOCATION:Punto Joven\, Guadarrama\, 68\, Galapagar\, Madrid\, 28260
CATEGORIES:Infantil
ATTACH;FMTTYPE=image/jpeg:https://plangalapagar.es/wp-content/uploads/2025/11/DIAS_SIN_COLE_5E.jpg
END:VEVENT
BEGIN:VEVENT
DTSTART;TZID=Europe/Madrid:20260107T090000
DTEND;TZID=Europe/Madrid:20260107T140000
DTSTAMP:20260419T210027
CREATED:20251107T050040Z
LAST-MODIFIED:20251229T152551Z
UID:10000772-1767776400-1767794400@plangalapagar.es
SUMMARY:Días sin cole: Despedimos la Navidad
DESCRIPTION:¿Tienes entre 3 y 12 años? \n¡No te pierdas los «Días sin cole».  \nEl miércoles 7 de enero tendrá lugar la actividad «Despedimos la Navidad». Después de tantos días llenos de magia\, llega el momento de decir adiós a la Navidad\, ¡pero lo haremos por todo lo alto! \nHemos preparado una jornada especial para cerrar estas fiestas con alegría\, creatividad y diversión. Comenzamos con una divertida bienvenida bailonga\, donde prepararemos un miniespectáculo en grupos para mostrar la gran fiesta final de despedida\, donde disfrutaremos de música\, juegos y baile. Una despedida navideña para el recuerdo\, llena de dulzura\, juegos y alegría compartida. \n¡Te esperamos para cerrar juntos la Navidad de la forma más mágica posible! \n  \nHorarios y precios \n  \n\nDe 09:00 a 14:00 horas: 7 € por día.\nAmpliación horario de comida de 14:00 a 16:00 horas: 3\,50 € por día. \nServicio extra de madrugadores de 08:00 a 09:00 horas: 1\,75 € por día.\n\n  \n¿Cómo me apunto? \nAntes de proceder a la inscripción debes tener el pago realizado\, ya que uno de los datos que te pediremos es el justificante de pago. El abono se hará mediante ingreso en la cuenta de Servicios Psicoeducativos (ES25 3058 1907 0527 2050 5695). \nHaz click en el botón «Me apunto» y rellena todos los datos que se solicitan. Además del justificante de pago\, deberán adjuntar la ficha de inscripción. \nSe harán las devoluciones en caso de no llegar al mínimo de participantes o por causa de fuerza mayor debidamente justificada y previa valoración de la organización. \n¡No te pierdas este plan!
URL:https://plangalapagar.es/plan/dias-sin-cole-070126_2/
LOCATION:Punto Joven\, Guadarrama\, 68\, Galapagar\, Madrid\, 28260
CATEGORIES:Infantil
ATTACH;FMTTYPE=image/jpeg:https://plangalapagar.es/wp-content/uploads/2025/11/DIAS_SIN_COLE_7E.jpg
END:VEVENT
BEGIN:VEVENT
DTSTART;TZID=Europe/Madrid:20260107T173000
DTEND;TZID=Europe/Madrid:20260129T203000
DTSTAMP:20260419T210027
CREATED:20251226T103804Z
LAST-MODIFIED:20251226T103804Z
UID:10000895-1767807000-1769718600@plangalapagar.es
SUMMARY:Desconecta: Disfruta de la sala de Punto Joven
DESCRIPTION:¿Tienes entre 10 y 17 años? \n¡Ven a disfrutar de la sala de Punto Joven! \nTe ofrecemos este espacio donde puedes compartir\, divertirte y disfrutar con amigos en un ambiente de compañerismo y buen rollo. Aquí encontrarás la Play 5\, la Wii\, futbolín\, ping-pong\, juegos de mesa y mucho más. \nRecuerda que el respeto y la convivencia son clave: todos tenemos nuestro turno para jugar y pasarlo bien juntos. \n¡Es una sala creada por y para jóvenes como tú! \nEste plan tendrá lugar de lunes a jueves de 17:30 a 20:30 horas.  \n¡Te esperamos! \nHaz click en el botón «Me apunto» y reserva tu plaza. ¡Recuerda que son limitadas!
URL:https://plangalapagar.es/plan/desconecta-enero-2026/
LOCATION:Punto Joven\, Guadarrama\, 68\, Galapagar\, Madrid\, 28260
CATEGORIES:Jóvenes
ATTACH;FMTTYPE=image/jpeg:https://plangalapagar.es/wp-content/uploads/2025/12/DESCONECTA-1.jpg
END:VEVENT
BEGIN:VEVENT
DTSTART;TZID=Europe/Madrid:20260107T173000
DTEND;TZID=Europe/Madrid:20260617T190000
DTSTAMP:20260419T210027
CREATED:20251226T104036Z
LAST-MODIFIED:20260416T151435Z
UID:10000897-1767807000-1781722800@plangalapagar.es
SUMMARY:Estudia sin distracciones
DESCRIPTION:¿Tienes entre 10 y 17 años? ¡Únete a nuestro grupo de deberes! \nDispondrás de un tiempo para tus tareas\, un espacio sin distracciones y con apoyo continuo para resolver dudas\, organizarte y avanzar. El grupo de deberes te ofrece un entorno tranquilo donde podrás aprender a gestionar el tiempo\, reforzar hábitos de estudio y mejorar la autonomía académica. \nLa actividad se desarrollará los lunes y miércoles de 17:30 a 19:00 horas según calendario escolar.  \n*Si solo puedes venir uno de los dos días\, podrás apuntarte un solo día por semana y marcar el elegido en el formulario (campo OBSERVACIONES). \n  \n¿Cómo me apunto? \nApúntate\, con la opción «dos días a la semana» o «un solo día». En el caso de elegir la opción de un solo día\, debes especificar si asistirás los lunes o los miércoles en el campo de OBSERVACIONES del formulario. \n\nRealiza el pago de 9 € (dos días) o 5 € (un día)  al mes en la cuenta de Servicios Psicoeducativos:\n\nIBAN: ES25 3058 1907 0527 2050 5695\nBizum: 613 56 66 97 (RUBEN N.V)\n\n\nHaz clic en el botón «Me apunto»\, rellena el formulario y adjunta el justificante de pago.\nSi deseas pagar varios meses juntos\, indícalo en el apartado de observaciones y adjunta el justificante correspondiente.\nPara pagos mes a mes\, realiza el pago antes del 25 del mes anterior y envía el justificante a: actividadesgalapagar@coeduca.es.\nPara darte de baja\, solicita la baja antes del 25 del mes anterior al correo actividadesgalapagar@coeduca.es.\n\nDevoluciones: \n\nSolo se realizarán si no se alcanza el mínimo de participantes o por causa de fuerza mayor debidamente justificada y previa valoración de la organización.\n\n 
URL:https://plangalapagar.es/plan/grupo-de-deberes-enero-mayo-26/
LOCATION:Punto Joven\, Guadarrama\, 68\, Galapagar\, Madrid\, 28260
CATEGORIES:Jóvenes
ATTACH;FMTTYPE=image/jpeg:https://plangalapagar.es/wp-content/uploads/2025/12/DEBERES.jpg
END:VEVENT
BEGIN:VEVENT
DTSTART;TZID=Europe/Madrid:20260108T170000
DTEND;TZID=Europe/Madrid:20260618T183000
DTSTAMP:20260419T210027
CREATED:20251226T104146Z
LAST-MODIFIED:20260416T151946Z
UID:10000902-1767891600-1781807400@plangalapagar.es
SUMMARY:Taller de robótica - Grupo 1
DESCRIPTION:¿Tienes entre 8 y 12 años? \nNo te pierdas este taller semanal de iniciación a la robótica educativa donde podrás diseñar\, construir y programar pequeños robots mediante kits específicos y software intuitivo. A través de retos progresivos\, juegos de lógica y misiones colaborativas\, desarrollarás habilidades tecnológicas y creativas en un entorno motivador. \nSe trabajarán contenidos de programación básica\, sensores\, motores\, lógica computacional y montaje mecánico\, fomentando además el trabajo en equipo\, la perseverancia y la confianza en uno/a mismo/a. \nEsta actividad consta de dos grupos en función de la edad: Grupo 1 (de 8 a 12 años\, nacidos entre 2013 y 2017)\, grupo 2 (de 12 a 18 años\, nacidos entre 2007 y 2012). Este plan corresponde al grupo 1 y tendrá lugar los jueves de enero a junio de 17:00 a 18:30 horas según calendario escolar.  \n¿Cómo me apunto? \n\nRealiza el pago de 6 € al mes en la cuenta de Servicios Psicoeducativos:\n\nIBAN: ES25 3058 1907 0527 2050 5695\nBizum: 613 56 66 97 (RUBEN N.V)\n\n\nHaz clic en el botón «Me apunto»\, rellena el formulario y adjunta el justificante de pago.\nSi deseas pagar varios meses juntos\, indícalo en el apartado de observaciones y adjunta el justificante correspondiente.\nPara pagos mes a mes\, realiza el pago antes del 25 del mes anterior y envía el justificante a: actividadesgalapagar@coeduca.es.\nPara darte de baja\, solicita la baja antes del 25 del mes anterior al correo actividadesgalapagar@coeduca.es.\n\nDevoluciones: \n\nSolo se realizarán si no se alcanza el mínimo de participantes o por causa de fuerza mayor debidamente justificada y previa valoración de la organización.
URL:https://plangalapagar.es/plan/robotica-grupo-1-enero-mayo-26/
LOCATION:Punto Joven\, Guadarrama\, 68\, Galapagar\, Madrid\, 28260
CATEGORIES:Infantil
ATTACH;FMTTYPE=image/jpeg:https://plangalapagar.es/wp-content/uploads/2025/12/ROBOTICA_G1.jpg
END:VEVENT
BEGIN:VEVENT
DTSTART;TZID=Europe/Madrid:20260108T173000
DTEND;TZID=Europe/Madrid:20260618T190000
DTSTAMP:20260419T210027
CREATED:20251226T104412Z
LAST-MODIFIED:20260416T151817Z
UID:10000900-1767893400-1781809200@plangalapagar.es
SUMMARY:Masterchef jóvenes
DESCRIPTION:¡Nuevo taller de cocina para jóvenes de 12 años a 17 años! \nEn este espacio se explora la cocina como herramienta creativa\, práctica y social. Cada sesión propone un reto culinario distinto\, desde preparar una receta temática\, hasta desarrollar un plato por equipos\, aplicar técnicas nuevas o presentar propuestas originales bajo la presión del tiempo (al estilo de concursos como MasterChef o Bake Off). \nLa actividad incluye conceptos de organización\, higiene alimentaria\, trabajo en equipo\, presentación de platos y reflexión sobre la alimentación saludable. Se trabajan recetas variadas\, de dificultad progresiva y adaptadas al nivel de los participantes. \n¡El talento culinario también tiene espacio en Punto Joven! \nEste taller tendrá lugar los jueves de enero a junio de 17:30 a 19:00 horas según calendario escolar.  \n¿Cómo me apunto? \n\nRealiza el pago de 7\,50 € al mes en la cuenta de Servicios Psicoeducativos:\n\nIBAN: ES25 3058 1907 0527 2050 5695\nBizum: 613 56 66 97 (RUBEN N.V)\n\n\nHaz clic en el botón «Me apunto»\, rellena el formulario y adjunta el justificante de pago.\nSi deseas pagar varios meses juntos\, indícalo en el apartado de observaciones y adjunta el justificante correspondiente.\nPara pagos mes a mes\, realiza el pago antes del 25 del mes anterior y envía el justificante a: actividadesgalapagar@coeduca.es.\nPara darte de baja\, solicita la baja antes del 25 del mes anterior al correo actividadesgalapagar@coeduca.es.\n\nDevoluciones: \n\nSolo se realizarán si no se alcanza el mínimo de participantes o por causa de fuerza mayor debidamente justificada y previa valoración de la organización.
URL:https://plangalapagar.es/plan/master-chef-joven-enero-mayo-26/
LOCATION:Punto Joven\, Guadarrama\, 68\, Galapagar\, Madrid\, 28260
CATEGORIES:Jóvenes
ATTACH;FMTTYPE=image/jpeg:https://plangalapagar.es/wp-content/uploads/2025/12/MASTERCHEF-1.jpg
END:VEVENT
BEGIN:VEVENT
DTSTART;TZID=Europe/Madrid:20260108T180000
DTEND;TZID=Europe/Madrid:20260108T193000
DTSTAMP:20260419T210027
CREATED:20251226T104512Z
LAST-MODIFIED:20251226T104512Z
UID:10000891-1767895200-1767900600@plangalapagar.es
SUMMARY:Actividades de Juventud 2026
DESCRIPTION:Si tienes entre 14 y 17 años\, ¡no te pierdas nuestros talleres de información juvenil! \nSe trata de un servicio integral de información y asesoramiento juvenil sobre becas\, empleo\, vivienda\, programas europeos\, salud\, voluntariado y participación. \nEl jueves 8 de enero tendrá lugar la presentación de las actividades de la Concejalía de Juventud de enero a marzo de 2026. \nDurante esta sesión se dará a conocer la oferta de talleres\, encuentros\, asesorías y eventos planificados. Será también un espacio para escuchar propuestas y sugerencias de los propios jóvenes. Para fomentar la participación\, se ofrecerá una merienda gratuita. \n¿Te lo vas a perder? \nEste plan es gratuito y las plazas son limitadas.  \nHaz click en el botón «Me apunto» y reserva la tuya.
URL:https://plangalapagar.es/plan/servicio-de-informacion-juvenil-080126/
LOCATION:Punto Joven\, Guadarrama\, 68\, Galapagar\, Madrid\, 28260
CATEGORIES:Jóvenes
ATTACH;FMTTYPE=image/jpeg:https://plangalapagar.es/wp-content/uploads/2025/12/INFOJUVENIL_8E.jpg
END:VEVENT
BEGIN:VEVENT
DTSTART;TZID=Europe/Madrid:20260108T190000
DTEND;TZID=Europe/Madrid:20260618T203000
DTSTAMP:20260419T210027
CREATED:20251226T104324Z
LAST-MODIFIED:20260416T152046Z
UID:10000903-1767898800-1781814600@plangalapagar.es
SUMMARY:Taller de robótica - Grupo 2
DESCRIPTION:¿Tienes entre 12 años y 18 años? \nNo te pierdas este taller semanal de iniciación a la robótica educativa donde podrás diseñar\, construir y programar pequeños robots mediante kits específicos y software intuitivo. A través de retos progresivos\, juegos de lógica y misiones colaborativas\, desarrollarás habilidades tecnológicas y creativas en un entorno motivador. \nSe trabajarán contenidos de programación básica\, sensores\, motores\, lógica computacional y montaje mecánico\, fomentando además el trabajo en equipo\, la perseverancia y la confianza en uno/a mismo/a. \nEsta actividad consta de dos grupos en función de la edad: Grupo 1 (de 8 a 12 años\, nacidos entre 2013 y 2017)\, grupo 2 (de 12 a 18 años\, nacidos entre 2007 y 2012). Este plan corresponde al grupo 2 y tendrá lugar los jueves de enero a junio de 19:00 a 20:30 horas según calendario escolar.  \n¿Cómo me apunto? \n\nRealiza el pago de 6 € al mes en la cuenta de Servicios Psicoeducativos:\n\nIBAN: ES25 3058 1907 0527 2050 5695\nBizum: 613 56 66 97 (RUBEN N.V)\n\n\nHaz clic en el botón «Me apunto»\, rellena el formulario y adjunta el justificante de pago.\nSi deseas pagar varios meses juntos\, indícalo en el apartado de observaciones y adjunta el justificante correspondiente.\nPara pagos mes a mes\, realiza el pago antes del 25 del mes anterior y envía el justificante a: actividadesgalapagar@coeduca.es.\nPara darte de baja\, solicita la baja antes del 25 del mes anterior al correo actividadesgalapagar@coeduca.es.\n\nDevoluciones: \n\nSolo se realizarán si no se alcanza el mínimo de participantes o por causa de fuerza mayor debidamente justificada y previa valoración de la organización.
URL:https://plangalapagar.es/plan/robotica-grupo-2-enero-mayo-26/
LOCATION:Punto Joven\, Guadarrama\, 68\, Galapagar\, Madrid\, 28260
CATEGORIES:Jóvenes
ATTACH;FMTTYPE=image/jpeg:https://plangalapagar.es/wp-content/uploads/2025/12/ROBOTICA_G2-1.jpg
END:VEVENT
BEGIN:VEVENT
DTSTART;TZID=Europe/Madrid:20260109T173000
DTEND;TZID=Europe/Madrid:20260109T203000
DTSTAMP:20260419T210027
CREATED:20251226T105059Z
LAST-MODIFIED:20251226T105059Z
UID:10000884-1767979800-1767990600@plangalapagar.es
SUMMARY:Diverteca: Viaje a las estrellas
DESCRIPTION:Las inscripciones para este plan estarán abiertas a partir del lunes 5 de enero.  \nEl viernes 9 de enero tendrá lugar la actividad «Viaje a las estrellas». ¡Comienza el año viajando al espacio! Los niños se convierten en astronautas intrépidos que despegan hacia planetas desconocidos\, estrellas brillantes y galaxias misteriosas. \nEn esta aventura intergaláctica\, construirán sus propios cascos espaciales\, diseñarán cohetes de papel y superarán misiones secretas en la estación espacial. \n¿Estás listo para despegar y descubrir si hay vida en otros planetas? \n¡No te lo pierdas\, es gratis y las plazas son limitadas! \nHaz click en el botón «Me apunto» y reserva la tuya.
URL:https://plangalapagar.es/plan/diverteca-090126/
LOCATION:Punto Joven\, Guadarrama\, 68\, Galapagar\, Madrid\, 28260
CATEGORIES:Infantil
ATTACH;FMTTYPE=image/jpeg:https://plangalapagar.es/wp-content/uploads/2025/12/DV-9E.jpg
END:VEVENT
BEGIN:VEVENT
DTSTART;TZID=Europe/Madrid:20260109T173000
DTEND;TZID=Europe/Madrid:20260109T203000
DTSTAMP:20260419T210027
CREATED:20251226T105207Z
LAST-MODIFIED:20251226T105207Z
UID:10000911-1767979800-1767990600@plangalapagar.es
SUMMARY:Vision boards: Crea tu propio tablero
DESCRIPTION:¡Nuevo plan de Ocio Joven! \nEl viernes 9 de enero habrá diversas actividades para los jóvenes que podrán elegir en función de sus intereses. \n\nZona activa: Llega «DIY vision boards»\, un taller inspirado en Pinterest y Tiktok donde cada participante diseñará su propio tablero de visión con recortes\, frases motivadoras\, colores y referencias estéticas para empezar el año con intenciones y buen rollo.\n\n– Grupo A (de 10 a 13 años). \n– Grupo B (de 14 a 17 años). \n\nZona ludoteca: ¡No te pierdas el juego Monopoly!\nZona libre: Utiliza el espacio de manera autónoma a través de los recursos abiertos.\n\n¡No te lo pierdas! Es gratis y las plazas son limitadas. \nHaz click en el botón «Me apunto» y reserva la tuya.
URL:https://plangalapagar.es/plan/ocio-joven-090126/
LOCATION:Punto Joven\, Guadarrama\, 68\, Galapagar\, Madrid\, 28260
CATEGORIES:Jóvenes
ATTACH;FMTTYPE=image/jpeg:https://plangalapagar.es/wp-content/uploads/2025/12/OJ_VISIONBOARD_9E.jpg
END:VEVENT
BEGIN:VEVENT
DTSTART;TZID=Europe/Madrid:20260110T120000
DTEND;TZID=Europe/Madrid:20260110T140000
DTSTAMP:20260419T210027
CREATED:20251226T105251Z
LAST-MODIFIED:20251226T105251Z
UID:10000910-1768046400-1768053600@plangalapagar.es
SUMMARY:Torneo Inter peñas de ping-pong
DESCRIPTION:¿Tienes entre 18 y 30 años? \n¡No te pierdas el Torneo Inter peñas de ping-pong el 10 de enero! \nUna jornada deportiva y social pensada para fomentar la convivencia\, la diversión y la sana competencia entre las distintas peñas. Los participantes podrán demostrar su habilidad en el tenis de mesa\, disfrutando de un ambiente animado y amistoso. \nEs una experiencia deportiva y social que une a las peñas a través del juego y la interacción entre amigos. \n¡Anímate! \nHaz click en el botón «Me apunto» y rellena los datos que se solicitan. Deberás adjuntar la ficha de inscripción. \n 
URL:https://plangalapagar.es/plan/torneo-penas-100126/
LOCATION:Punto Joven\, Guadarrama\, 68\, Galapagar\, Madrid\, 28260
CATEGORIES:Jóvenes
ATTACH;FMTTYPE=image/jpeg:https://plangalapagar.es/wp-content/uploads/2025/12/INTERPENAS_PINGPONG.jpg
END:VEVENT
BEGIN:VEVENT
DTSTART;TZID=Europe/Madrid:20260110T173000
DTEND;TZID=Europe/Madrid:20260110T203000
DTSTAMP:20260419T210027
CREATED:20251226T105456Z
LAST-MODIFIED:20251226T105456Z
UID:10000915-1768066200-1768077000@plangalapagar.es
SUMMARY:Torneo de videojuegos
DESCRIPTION:¡Nuevo plan de Ocio Joven! \nEl sábado 10 de enero habrá diversas actividades para los jóvenes que podrán elegir en función de sus intereses. \n\nZona activa: Iniciamos un ciclo mensual de torneos de videojuegos. Bajo la identidad de «Game Masters»\, cada sesión plantea un juego diferente como reto central. En esta primera edición\, se organiza un torneo NBA2026\, fomentando la participación\, la sana rivalidad y el desarrollo de habilidades digitales y estratégicas en un entorno controlado y de ocio seguro.\n\n– Grupo A (de 10 a 13 años). \n– Grupo B (de 14 a 17 años).  \n\nZona ludoteca: ¡No te pierdas el juego Virus! \nZona libre: Utiliza el espacio de manera autónoma a través de los recursos abiertos.\n\n¡No te lo pierdas! Es gratis y las plazas son limitadas. \nHaz click en el botón «Me apunto» y reserva la tuya.
URL:https://plangalapagar.es/plan/ocio-joven-100126/
LOCATION:Punto Joven\, Guadarrama\, 68\, Galapagar\, Madrid\, 28260
CATEGORIES:Jóvenes
ATTACH;FMTTYPE=image/jpeg:https://plangalapagar.es/wp-content/uploads/2025/12/OJ_VIDEOJUEGOS_10E.jpg
END:VEVENT
END:VCALENDAR